| Back to Multiple platform build/check report for BioC 3.6 |
|
This page was generated on 2018-04-12 13:31:53 -0400 (Thu, 12 Apr 2018).
| Package 271/1472 | Hostname | OS / Arch | INSTALL | BUILD | CHECK | BUILD BIN | ||||||
| codelink 1.46.0 Diego Diez
| malbec1 | Linux (Ubuntu 16.04.1 LTS) / x86_64 | OK | OK | OK | |||||||
| tokay1 | Windows Server 2012 R2 Standard / x64 | OK | OK | OK | OK | |||||||
| veracruz1 | OS X 10.11.6 El Capitan / x86_64 | OK | OK | OK | [ OK ] |
| Package: codelink |
| Version: 1.46.0 |
| Command: rm -rf codelink.buildbin-libdir && mkdir codelink.buildbin-libdir && /Users/biocbuild/BBS/utils/build-universal.sh codelink_1.46.0.tar.gz /Library/Frameworks/R.framework/Versions/Current/Resources/bin/R codelink.buildbin-libdir |
| StartedAt: 2018-04-12 11:17:09 -0400 (Thu, 12 Apr 2018) |
| EndedAt: 2018-04-12 11:17:21 -0400 (Thu, 12 Apr 2018) |
| EllapsedTime: 12.3 seconds |
| RetCode: 0 |
| Status: OK |
| PackageFile: codelink_1.46.0.tgz |
| PackageFileSize: 3.435 MiB |
############################################################################## ############################################################################## ### ### Running command: ### ### rm -rf codelink.buildbin-libdir && mkdir codelink.buildbin-libdir && /Users/biocbuild/BBS/utils/build-universal.sh codelink_1.46.0.tar.gz /Library/Frameworks/R.framework/Versions/Current/Resources/bin/R codelink.buildbin-libdir ### ############################################################################## ############################################################################## >>>>>>> >>>>>>> INSTALLATION WITH 'R CMD INSTALL --preclean --no-multiarch --library=codelink.buildbin-libdir codelink_1.46.0.tar.gz' >>>>>>> * installing *source* package ‘codelink’ ... ** R ** data ** inst ** byte-compile and prepare package for lazy loading ** help *** installing help indices ** building package indices ** installing vignettes ** testing if installed package can be loaded * DONE (codelink)