Back to Multiple platform build/check report for BioC 3.6 |
|
This page was generated on 2018-04-12 13:22:27 -0400 (Thu, 12 Apr 2018).
Package 241/1472 | Hostname | OS / Arch | INSTALL | BUILD | CHECK | BUILD BIN | ||||||
clipper 1.18.0 Paolo Martini
| malbec1 | Linux (Ubuntu 16.04.1 LTS) / x86_64 | OK | OK | OK | ![]() | ||||||
tokay1 | Windows Server 2012 R2 Standard / x64 | OK | OK | [ OK ] | OK | ![]() | ||||||
veracruz1 | OS X 10.11.6 El Capitan / x86_64 | OK | OK | OK | OK | ![]() |
Package: clipper |
Version: 1.18.0 |
Command: rm -rf clipper.buildbin-libdir clipper.Rcheck && mkdir clipper.buildbin-libdir clipper.Rcheck && C:\Users\biocbuild\bbs-3.6-bioc\R\bin\R.exe CMD INSTALL --build --merge-multiarch --library=clipper.buildbin-libdir clipper_1.18.0.tar.gz >clipper.Rcheck\00install.out 2>&1 && cp clipper.Rcheck\00install.out clipper-install.out && C:\Users\biocbuild\bbs-3.6-bioc\R\bin\R.exe CMD check --library=clipper.buildbin-libdir --install="check:clipper-install.out" --force-multiarch --no-vignettes --timings clipper_1.18.0.tar.gz |
StartedAt: 2018-04-11 22:57:23 -0400 (Wed, 11 Apr 2018) |
EndedAt: 2018-04-11 23:04:31 -0400 (Wed, 11 Apr 2018) |
EllapsedTime: 427.9 seconds |
RetCode: 0 |
Status: OK |
CheckDir: clipper.Rcheck |
Warnings: 0 |
############################################################################## ############################################################################## ### ### Running command: ### ### rm -rf clipper.buildbin-libdir clipper.Rcheck && mkdir clipper.buildbin-libdir clipper.Rcheck && C:\Users\biocbuild\bbs-3.6-bioc\R\bin\R.exe CMD INSTALL --build --merge-multiarch --library=clipper.buildbin-libdir clipper_1.18.0.tar.gz >clipper.Rcheck\00install.out 2>&1 && cp clipper.Rcheck\00install.out clipper-install.out && C:\Users\biocbuild\bbs-3.6-bioc\R\bin\R.exe CMD check --library=clipper.buildbin-libdir --install="check:clipper-install.out" --force-multiarch --no-vignettes --timings clipper_1.18.0.tar.gz ### ############################################################################## ############################################################################## * using log directory 'C:/Users/biocbuild/bbs-3.6-bioc/meat/clipper.Rcheck' * using R version 3.4.4 (2018-03-15) * using platform: x86_64-w64-mingw32 (64-bit) * using session charset: ISO8859-1 * using option '--no-vignettes' * checking for file 'clipper/DESCRIPTION' ... OK * this is package 'clipper' version '1.18.0' * checking package namespace information ... OK * checking package dependencies ... OK * checking if this is a source package ... OK * checking if there is a namespace ... OK * checking for hidden files and directories ... OK * checking for portable file names ... OK * checking whether package 'clipper' can be installed ... OK * checking installed package size ... OK * checking package directory ... OK * checking 'build' directory ... OK * checking DESCRIPTION meta-information ... OK * checking top-level files ... OK * checking for left-over files ... OK * checking index information ... OK * checking package subdirectories ... OK * checking R files for non-ASCII characters ... OK * checking R files for syntax errors ... OK * loading checks for arch 'i386' ** checking whether the package can be loaded ... OK ** checking whether the package can be loaded with stated dependencies ... OK ** checking whether the package can be unloaded cleanly ... OK ** checking whether the namespace can be loaded with stated dependencies ... OK ** checking whether the namespace can be unloaded cleanly ... OK * loading checks for arch 'x64' ** checking whether the package can be loaded ... OK ** checking whether the package can be loaded with stated dependencies ... OK ** checking whether the package can be unloaded cleanly ... OK ** checking whether the namespace can be loaded with stated dependencies ... OK ** checking whether the namespace can be unloaded cleanly ... OK * checking dependencies in R code ... OK * checking S3 generic/method consistency ... OK * checking replacement functions ... OK * checking foreign function calls ... OK * checking R code for possible problems ... OK * checking Rd files ... OK * checking Rd metadata ... OK * checking Rd cross-references ... OK * checking for missing documentation entries ... OK * checking for code/documentation mismatches ... OK * checking Rd \usage sections ... OK * checking Rd contents ... OK * checking for unstated dependencies in examples ... OK * checking installed files from 'inst/doc' ... OK * checking files in 'vignettes' ... OK * checking examples ... ** running examples for arch 'i386' ... OK Examples with CPU or elapsed time > 5s user system elapsed clipperAllRoots 12.34 0.06 12.41 pathwayTest 10.92 0.08 11.00 clipper 6.24 0.20 7.92 ** running examples for arch 'x64' ... OK Examples with CPU or elapsed time > 5s user system elapsed clipperAllRoots 13.64 0.03 13.67 clipper 9.61 0.11 9.98 pathwayTest 9.64 0.06 9.71 * checking for unstated dependencies in 'tests' ... OK * checking tests ... ** running tests for arch 'i386' ... Running 'runTests.R' OK ** running tests for arch 'x64' ... Running 'runTests.R' OK * checking for unstated dependencies in vignettes ... OK * checking package vignettes in 'inst/doc' ... OK * checking running R code from vignettes ... SKIPPED * checking re-building of vignette outputs ... SKIPPED * checking PDF version of manual ... OK * DONE Status: OK
clipper.Rcheck/00install.out
install for i386 * installing *source* package 'clipper' ... ** R ** inst ** preparing package for lazy loading ** help *** installing help indices converting help for package 'clipper' finding HTML links ... done clipper html clipperAllRoots html cliqueMeanTest html cliqueMixedTest html cliquePairedTest html cliqueVarianceTest html deleteEdge html easyClip html easyLook html getGraphEntryGenes html getJunctionTreePaths html nameCliques html pathwayTest html plotInCytoscape html prunePaths html ** building package indices ** installing vignettes ** testing if installed package can be loaded In R CMD INSTALL install for x64 * installing *source* package 'clipper' ... ** testing if installed package can be loaded * MD5 sums packaged installation of 'clipper' as clipper_1.18.0.zip * DONE (clipper) In R CMD INSTALL In R CMD INSTALL
clipper.Rcheck/tests_i386/runTests.Rout R version 3.4.4 (2018-03-15) -- "Someone to Lean On" Copyright (C) 2018 The R Foundation for Statistical Computing Platform: i386-w64-mingw32/i386 (32-bit) R is free software and comes with ABSOLUTELY NO WARRANTY. You are welcome to redistribute it under certain conditions. Type 'license()' or 'licence()' for distribution details. R is a collaborative project with many contributors. Type 'contributors()' for more information and 'citation()' on how to cite R or R packages in publications. Type 'demo()' for some demos, 'help()' for on-line help, or 'help.start()' for an HTML browser interface to help. Type 'q()' to quit R. > BiocGenerics:::testPackage("clipper") Attaching package: 'BiocGenerics' The following objects are masked from 'package:parallel': clusterApply, clusterApplyLB, clusterCall, clusterEvalQ, clusterExport, clusterMap, parApply, parCapply, parLapply, parLapplyLB, parRapply, parSapply, parSapplyLB The following objects are masked from 'package:Matrix': colMeans, colSums, rowMeans, rowSums, which The following objects are masked from 'package:stats': IQR, mad, sd, var, xtabs The following objects are masked from 'package:base': Filter, Find, Map, Position, Reduce, anyDuplicated, append, as.data.frame, cbind, colMeans, colSums, colnames, do.call, duplicated, eval, evalq, get, grep, grepl, intersect, is.unsorted, lapply, lengths, mapply, match, mget, order, paste, pmax, pmax.int, pmin, pmin.int, rank, rbind, rowMeans, rowSums, rownames, sapply, setdiff, sort, table, tapply, union, unique, unsplit, which, which.max, which.min RUNIT TEST PROTOCOL -- Wed Apr 11 23:04:10 2018 *********************************************** Number of test functions: 10 Number of errors: 0 Number of failures: 0 1 Test Suite : clipper RUnit Tests - 10 test functions, 0 errors, 0 failures Number of test functions: 10 Number of errors: 0 Number of failures: 0 > > pattern="^test_.*\\.R$" > > proc.time() user system elapsed 14.79 0.43 15.23 |
clipper.Rcheck/tests_x64/runTests.Rout R version 3.4.4 (2018-03-15) -- "Someone to Lean On" Copyright (C) 2018 The R Foundation for Statistical Computing Platform: x86_64-w64-mingw32/x64 (64-bit) R is free software and comes with ABSOLUTELY NO WARRANTY. You are welcome to redistribute it under certain conditions. Type 'license()' or 'licence()' for distribution details. R is a collaborative project with many contributors. Type 'contributors()' for more information and 'citation()' on how to cite R or R packages in publications. Type 'demo()' for some demos, 'help()' for on-line help, or 'help.start()' for an HTML browser interface to help. Type 'q()' to quit R. > BiocGenerics:::testPackage("clipper") Attaching package: 'BiocGenerics' The following objects are masked from 'package:parallel': clusterApply, clusterApplyLB, clusterCall, clusterEvalQ, clusterExport, clusterMap, parApply, parCapply, parLapply, parLapplyLB, parRapply, parSapply, parSapplyLB The following objects are masked from 'package:Matrix': colMeans, colSums, rowMeans, rowSums, which The following objects are masked from 'package:stats': IQR, mad, sd, var, xtabs The following objects are masked from 'package:base': Filter, Find, Map, Position, Reduce, anyDuplicated, append, as.data.frame, cbind, colMeans, colSums, colnames, do.call, duplicated, eval, evalq, get, grep, grepl, intersect, is.unsorted, lapply, lengths, mapply, match, mget, order, paste, pmax, pmax.int, pmin, pmin.int, rank, rbind, rowMeans, rowSums, rownames, sapply, setdiff, sort, table, tapply, union, unique, unsplit, which, which.max, which.min RUNIT TEST PROTOCOL -- Wed Apr 11 23:04:27 2018 *********************************************** Number of test functions: 10 Number of errors: 0 Number of failures: 0 1 Test Suite : clipper RUnit Tests - 10 test functions, 0 errors, 0 failures Number of test functions: 10 Number of errors: 0 Number of failures: 0 > > pattern="^test_.*\\.R$" > > proc.time() user system elapsed 16.21 0.37 16.59 |
clipper.Rcheck/examples_i386/clipper-Ex.timings
|
clipper.Rcheck/examples_x64/clipper-Ex.timings
|