| Back to Multiple platform build/check report for BioC 3.6 |
|
This page was generated on 2018-04-12 13:09:55 -0400 (Thu, 12 Apr 2018).
| Package 145/1472 | Hostname | OS / Arch | INSTALL | BUILD | CHECK | BUILD BIN | ||||||
| biovizBase 1.26.0 Michael Lawrence
| malbec1 | Linux (Ubuntu 16.04.1 LTS) / x86_64 | [ OK ] | OK | OK | |||||||
| tokay1 | Windows Server 2012 R2 Standard / x64 | OK | OK | WARNINGS | OK | |||||||
| veracruz1 | OS X 10.11.6 El Capitan / x86_64 | OK | OK | OK | OK |
| Package: biovizBase |
| Version: 1.26.0 |
| Command: /home/biocbuild/bbs-3.6-bioc/R/bin/R CMD INSTALL biovizBase |
| StartedAt: 2018-04-11 18:08:04 -0400 (Wed, 11 Apr 2018) |
| EndedAt: 2018-04-11 18:08:26 -0400 (Wed, 11 Apr 2018) |
| EllapsedTime: 22.0 seconds |
| RetCode: 0 |
| Status: OK |
##############################################################################
##############################################################################
###
### Running command:
###
### /home/biocbuild/bbs-3.6-bioc/R/bin/R CMD INSTALL biovizBase
###
##############################################################################
##############################################################################
* installing to library ‘/home/biocbuild/bbs-3.6-bioc/R/library’
* installing *source* package ‘biovizBase’ ...
** libs
gcc -I/home/biocbuild/bbs-3.6-bioc/R/include -DNDEBUG -I/usr/local/include -fpic -g -O2 -Wall -c R_init_biovizBase.c -o R_init_biovizBase.o
gcc -I/home/biocbuild/bbs-3.6-bioc/R/include -DNDEBUG -I/usr/local/include -fpic -g -O2 -Wall -c bin_offsets.c -o bin_offsets.o
In file included from /usr/include/string.h:630:0,
from /home/biocbuild/bbs-3.6-bioc/R/include/R_ext/RS.h:34,
from /home/biocbuild/bbs-3.6-bioc/R/include/Rdefines.h:37,
from bin_offsets.h:1,
from bin_offsets.c:3:
bin_offsets.c: In function ‘scan_bam_bin_offsets’:
bin_offsets.c:57:15: warning: pointer targets in passing argument 1 of ‘strlen’ differ in signedness [-Wpointer-sign]
if (strncmp(b, "BAI\1", 4))
^
In file included from /home/biocbuild/bbs-3.6-bioc/R/include/R_ext/RS.h:34:0,
from /home/biocbuild/bbs-3.6-bioc/R/include/Rdefines.h:37,
from bin_offsets.h:1,
from bin_offsets.c:3:
/usr/include/string.h:394:15: note: expected ‘const char *’ but argument is of type ‘Rbyte * {aka unsigned char *}’
extern size_t strlen (const char *__s)
^
In file included from /usr/include/string.h:630:0,
from /home/biocbuild/bbs-3.6-bioc/R/include/R_ext/RS.h:34,
from /home/biocbuild/bbs-3.6-bioc/R/include/Rdefines.h:37,
from bin_offsets.h:1,
from bin_offsets.c:3:
bin_offsets.c:57:15: warning: pointer targets in passing argument 1 of ‘__builtin_strlen’ differ in signedness [-Wpointer-sign]
if (strncmp(b, "BAI\1", 4))
^
bin_offsets.c:57:15: note: expected ‘const char *’ but argument is of type ‘Rbyte * {aka unsigned char *}’
bin_offsets.c:57:15: warning: pointer targets in passing argument 1 of ‘__builtin_strcmp’ differ in signedness [-Wpointer-sign]
if (strncmp(b, "BAI\1", 4))
^
bin_offsets.c:57:15: note: expected ‘const char *’ but argument is of type ‘Rbyte * {aka unsigned char *}’
bin_offsets.c:57:15: warning: pointer targets in passing argument 1 of ‘__builtin_strlen’ differ in signedness [-Wpointer-sign]
if (strncmp(b, "BAI\1", 4))
^
bin_offsets.c:57:15: note: expected ‘const char *’ but argument is of type ‘Rbyte * {aka unsigned char *}’
bin_offsets.c:57:15: warning: pointer targets in passing argument 1 of ‘__builtin_strcmp’ differ in signedness [-Wpointer-sign]
if (strncmp(b, "BAI\1", 4))
^
bin_offsets.c:57:15: note: expected ‘const char *’ but argument is of type ‘Rbyte * {aka unsigned char *}’
bin_offsets.c:57:15: warning: pointer targets in passing argument 1 of ‘__builtin_strcmp’ differ in signedness [-Wpointer-sign]
if (strncmp(b, "BAI\1", 4))
^
bin_offsets.c:57:15: note: expected ‘const char *’ but argument is of type ‘Rbyte * {aka unsigned char *}’
bin_offsets.c:57:15: warning: pointer targets in passing argument 1 of ‘__builtin_strcmp’ differ in signedness [-Wpointer-sign]
if (strncmp(b, "BAI\1", 4))
^
bin_offsets.c:57:15: note: expected ‘const char *’ but argument is of type ‘Rbyte * {aka unsigned char *}’
bin_offsets.c:57:15: warning: pointer targets in passing argument 1 of ‘strncmp’ differ in signedness [-Wpointer-sign]
if (strncmp(b, "BAI\1", 4))
^
In file included from /home/biocbuild/bbs-3.6-bioc/R/include/R_ext/RS.h:34:0,
from /home/biocbuild/bbs-3.6-bioc/R/include/Rdefines.h:37,
from bin_offsets.h:1,
from bin_offsets.c:3:
/usr/include/string.h:143:12: note: expected ‘const char *’ but argument is of type ‘Rbyte * {aka unsigned char *}’
extern int strncmp (const char *__s1, const char *__s2, size_t __n)
^
g++ -shared -L/home/biocbuild/bbs-3.6-bioc/R/lib -L/usr/local/lib -o biovizBase.so R_init_biovizBase.o bin_offsets.o -L/home/biocbuild/bbs-3.6-bioc/R/lib -lR
installing to /home/biocbuild/bbs-3.6-bioc/R/library/biovizBase/libs
** R
** data
** inst
** preparing package for lazy loading
** help
*** installing help indices
** building package indices
** installing vignettes
** testing if installed package can be loaded
* DONE (biovizBase)