| Back to Multiple platform build/check report for BioC 3.6 |
|
This page was generated on 2018-04-12 13:18:52 -0400 (Thu, 12 Apr 2018).
| Package 124/1472 | Hostname | OS / Arch | INSTALL | BUILD | CHECK | BUILD BIN | ||||||
| biocGraph 1.40.0 Florian Hahne
| malbec1 | Linux (Ubuntu 16.04.1 LTS) / x86_64 | OK | OK | OK | |||||||
| tokay1 | Windows Server 2012 R2 Standard / x64 | [ OK ] | OK | OK | OK | |||||||
| veracruz1 | OS X 10.11.6 El Capitan / x86_64 | OK | OK | OK | OK |
| Package: biocGraph |
| Version: 1.40.0 |
| Command: rm -rf biocGraph.buildbin-libdir && mkdir biocGraph.buildbin-libdir && C:\cygwin\bin\curl.exe -O https://malbec1.bioconductor.org/BBS/3.6/bioc/src/contrib/biocGraph_1.40.0.tar.gz && C:\Users\biocbuild\bbs-3.6-bioc\R\bin\R.exe CMD INSTALL --build --library=biocGraph.buildbin-libdir --merge-multiarch biocGraph_1.40.0.tar.gz && C:\Users\biocbuild\bbs-3.6-bioc\R\bin\R.exe CMD INSTALL biocGraph_1.40.0.zip && rm biocGraph_1.40.0.tar.gz biocGraph_1.40.0.zip |
| StartedAt: 2018-04-11 18:40:03 -0400 (Wed, 11 Apr 2018) |
| EndedAt: 2018-04-11 18:40:26 -0400 (Wed, 11 Apr 2018) |
| EllapsedTime: 22.8 seconds |
| RetCode: 0 |
| Status: OK |
##############################################################################
##############################################################################
###
### Running command:
###
### rm -rf biocGraph.buildbin-libdir && mkdir biocGraph.buildbin-libdir && C:\cygwin\bin\curl.exe -O https://malbec1.bioconductor.org/BBS/3.6/bioc/src/contrib/biocGraph_1.40.0.tar.gz && C:\Users\biocbuild\bbs-3.6-bioc\R\bin\R.exe CMD INSTALL --build --library=biocGraph.buildbin-libdir --merge-multiarch biocGraph_1.40.0.tar.gz && C:\Users\biocbuild\bbs-3.6-bioc\R\bin\R.exe CMD INSTALL biocGraph_1.40.0.zip && rm biocGraph_1.40.0.tar.gz biocGraph_1.40.0.zip
###
##############################################################################
##############################################################################
% Total % Received % Xferd Average Speed Time Time Time Current
Dload Upload Total Spent Left Speed
0 0 0 0 0 0 0 0 --:--:-- --:--:-- --:--:-- 0
0 31453 0 0 0 0 0 0 --:--:-- --:--:-- --:--:-- 0
100 31453 100 31453 0 0 46582 0 --:--:-- --:--:-- --:--:-- 46735
install for i386
* installing *source* package 'biocGraph' ...
** R
** preparing package for lazy loading
** help
*** installing help indices
converting help for package 'biocGraph'
finding HTML links ... done
imageMap html
** building package indices
** installing vignettes
** testing if installed package can be loaded
In R CMD INSTALL
install for x64
* installing *source* package 'biocGraph' ...
** testing if installed package can be loaded
* MD5 sums
packaged installation of 'biocGraph' as biocGraph_1.40.0.zip
* DONE (biocGraph)
In R CMD INSTALL
In R CMD INSTALL
* installing to library 'C:/Users/biocbuild/bbs-3.6-bioc/R/library'
package 'biocGraph' successfully unpacked and MD5 sums checked
In R CMD INSTALL