| Back to Multiple platform build/check report for BioC 3.6 |
|
This page was generated on 2018-04-12 13:31:34 -0400 (Thu, 12 Apr 2018).
| Package 61/1472 | Hostname | OS / Arch | INSTALL | BUILD | CHECK | BUILD BIN | ||||||
| apComplex 2.44.0 Denise Scholtens
| malbec1 | Linux (Ubuntu 16.04.1 LTS) / x86_64 | OK | OK | OK | |||||||
| tokay1 | Windows Server 2012 R2 Standard / x64 | OK | OK | OK | OK | |||||||
| veracruz1 | OS X 10.11.6 El Capitan / x86_64 | OK | OK | [ OK ] | OK |
| Package: apComplex |
| Version: 2.44.0 |
| Command: /Library/Frameworks/R.framework/Versions/Current/Resources/bin/R CMD check --no-vignettes --timings apComplex_2.44.0.tar.gz |
| StartedAt: 2018-04-12 00:27:21 -0400 (Thu, 12 Apr 2018) |
| EndedAt: 2018-04-12 00:28:44 -0400 (Thu, 12 Apr 2018) |
| EllapsedTime: 82.9 seconds |
| RetCode: 0 |
| Status: OK |
| CheckDir: apComplex.Rcheck |
| Warnings: 0 |
##############################################################################
##############################################################################
###
### Running command:
###
### /Library/Frameworks/R.framework/Versions/Current/Resources/bin/R CMD check --no-vignettes --timings apComplex_2.44.0.tar.gz
###
##############################################################################
##############################################################################
* using log directory ‘/Users/biocbuild/bbs-3.6-bioc/meat/apComplex.Rcheck’
* using R version 3.4.4 (2018-03-15)
* using platform: x86_64-apple-darwin15.6.0 (64-bit)
* using session charset: UTF-8
* using option ‘--no-vignettes’
* checking for file ‘apComplex/DESCRIPTION’ ... OK
* this is package ‘apComplex’ version ‘2.44.0’
* checking package namespace information ... OK
* checking package dependencies ... OK
* checking if this is a source package ... OK
* checking if there is a namespace ... OK
* checking for hidden files and directories ... OK
* checking for portable file names ... OK
* checking for sufficient/correct file permissions ... OK
* checking whether package ‘apComplex’ can be installed ... OK
* checking installed package size ... OK
* checking package directory ... OK
* checking ‘build’ directory ... OK
* checking DESCRIPTION meta-information ... OK
* checking top-level files ... OK
* checking for left-over files ... OK
* checking index information ... OK
* checking package subdirectories ... OK
* checking R files for non-ASCII characters ... OK
* checking R files for syntax errors ... OK
* checking whether the package can be loaded ... OK
* checking whether the package can be loaded with stated dependencies ... OK
* checking whether the package can be unloaded cleanly ... OK
* checking whether the namespace can be loaded with stated dependencies ... OK
* checking whether the namespace can be unloaded cleanly ... OK
* checking dependencies in R code ... NOTE
Packages in Depends field not imported from:
‘RBGL’ ‘graph’
These packages need to be imported from (in the NAMESPACE file)
for when this namespace is loaded but not attached.
* checking S3 generic/method consistency ... OK
* checking replacement functions ... OK
* checking foreign function calls ... OK
* checking R code for possible problems ... NOTE
plotComplex: warning in mget(complexMembers, env = org.Sc.sgdGENENAME,
ifnotfound = NA): partial argument match of 'env' to 'envir'
bhmaxSubgraph: no visible global function definition for ‘as’
bhmaxSubgraph: no visible global function definition for ‘ugraph’
bhmaxSubgraph: no visible global function definition for ‘maxClique’
plotComplex: no visible global function definition for ‘subGraph’
plotComplex: no visible global function definition for
‘removeSelfLoops’
plotComplex: no visible global function definition for ‘edgeNames’
plotComplex: no visible global function definition for ‘numEdges’
plotComplex: no visible global function definition for ‘degree’
Undefined global functions or variables:
as degree edgeNames maxClique numEdges removeSelfLoops subGraph
ugraph
Consider adding
importFrom("methods", "as")
to your NAMESPACE file (and ensure that your DESCRIPTION Imports field
contains 'methods').
* checking Rd files ... OK
* checking Rd metadata ... OK
* checking Rd cross-references ... OK
* checking for missing documentation entries ... OK
* checking for code/documentation mismatches ... OK
* checking Rd \usage sections ... OK
* checking Rd contents ... OK
* checking for unstated dependencies in examples ... OK
* checking contents of ‘data’ directory ... OK
* checking data for non-ASCII characters ... OK
* checking data for ASCII and uncompressed saves ... OK
* checking sizes of PDF files under ‘inst/doc’ ... OK
* checking installed files from ‘inst/doc’ ... OK
* checking files in ‘vignettes’ ... OK
* checking examples ... OK
* checking for unstated dependencies in vignettes ... OK
* checking package vignettes in ‘inst/doc’ ... OK
* checking running R code from vignettes ... SKIPPED
* checking re-building of vignette outputs ... SKIPPED
* checking PDF version of manual ... OK
* DONE
Status: 2 NOTEs
See
‘/Users/biocbuild/bbs-3.6-bioc/meat/apComplex.Rcheck/00check.log’
for details.
apComplex.Rcheck/00install.out
* installing *source* package ‘apComplex’ ... ** R ** data ** inst ** preparing package for lazy loading ** help *** installing help indices ** building package indices ** installing vignettes ** testing if installed package can be loaded * DONE (apComplex)
apComplex.Rcheck/apComplex-Ex.timings
| name | user | system | elapsed | |
| FilteredEstimates | 0.057 | 0.008 | 0.066 | |
| HMSPCI | 0.050 | 0.013 | 0.064 | |
| Krogan | 0.004 | 0.001 | 0.004 | |
| LCjoin | 0.324 | 0.009 | 0.342 | |
| MBMEcHMSPCI | 0.003 | 0.001 | 0.005 | |
| MBMEcKrogan | 0.003 | 0.001 | 0.004 | |
| MBMEcTAP | 0.006 | 0.002 | 0.008 | |
| TAP | 0.023 | 0.015 | 0.038 | |
| apEX | 0.003 | 0.001 | 0.004 | |
| bhmaxSubgraph | 0.552 | 0.020 | 0.578 | |
| findComplexes | 0.127 | 0.004 | 0.131 | |
| gavinBP2006 | 0.094 | 0.038 | 0.133 | |
| kroganBPMat2006 | 0.262 | 0.081 | 0.353 | |
| mergeComplexes | 0.157 | 0.015 | 0.174 | |
| plotComplex | 0.285 | 0.014 | 0.307 | |
| sortComplexes | 0.038 | 0.003 | 0.042 | |
| yNameTAP | 0.010 | 0.024 | 0.035 | |
| yTAP | 0.004 | 0.025 | 0.028 | |