| Back to Multiple platform build/check report for BioC 3.6 |
|
This page was generated on 2018-04-12 13:32:19 -0400 (Thu, 12 Apr 2018).
| Package 56/1472 | Hostname | OS / Arch | INSTALL | BUILD | CHECK | BUILD BIN | ||||||
| annotationTools 1.52.0 Alexandre Kuhn
| malbec1 | Linux (Ubuntu 16.04.1 LTS) / x86_64 | OK | OK | OK | |||||||
| tokay1 | Windows Server 2012 R2 Standard / x64 | OK | OK | OK | OK | |||||||
| veracruz1 | OS X 10.11.6 El Capitan / x86_64 | OK | [ OK ] | OK | OK |
| Package: annotationTools |
| Version: 1.52.0 |
| Command: /Library/Frameworks/R.framework/Versions/Current/Resources/bin/R CMD build --keep-empty-dirs --no-resave-data annotationTools |
| StartedAt: 2018-04-11 18:45:15 -0400 (Wed, 11 Apr 2018) |
| EndedAt: 2018-04-11 18:45:22 -0400 (Wed, 11 Apr 2018) |
| EllapsedTime: 7.0 seconds |
| RetCode: 0 |
| Status: OK |
| PackageFile: annotationTools_1.52.0.tar.gz |
| PackageFileSize: 288.4 KiB |
############################################################################## ############################################################################## ### ### Running command: ### ### /Library/Frameworks/R.framework/Versions/Current/Resources/bin/R CMD build --keep-empty-dirs --no-resave-data annotationTools ### ############################################################################## ############################################################################## * checking for file ‘annotationTools/DESCRIPTION’ ... OK * preparing ‘annotationTools’: * checking DESCRIPTION meta-information ... OK * installing the package to build vignettes * creating vignettes ... OK * checking for LF line-endings in source and make files and shell scripts * checking for empty or unneeded directories * looking to see if a ‘data/datalist’ file should be added * building ‘annotationTools_1.52.0.tar.gz’