| Back to Multiple platform build/check report for BioC 3.6 |
|
This page was generated on 2018-04-12 13:07:26 -0400 (Thu, 12 Apr 2018).
| Package 28/1472 | Hostname | OS / Arch | INSTALL | BUILD | CHECK | BUILD BIN | ||||||
| affyQCReport 1.56.0 Craig Parman
| malbec1 | Linux (Ubuntu 16.04.1 LTS) / x86_64 | OK | [ OK ] | OK | |||||||
| tokay1 | Windows Server 2012 R2 Standard / x64 | OK | OK | OK | OK | |||||||
| veracruz1 | OS X 10.11.6 El Capitan / x86_64 | OK | OK | OK | OK |
| Package: affyQCReport |
| Version: 1.56.0 |
| Command: /home/biocbuild/bbs-3.6-bioc/R/bin/R CMD build --keep-empty-dirs --no-resave-data affyQCReport |
| StartedAt: 2018-04-11 18:16:41 -0400 (Wed, 11 Apr 2018) |
| EndedAt: 2018-04-11 18:17:08 -0400 (Wed, 11 Apr 2018) |
| EllapsedTime: 27.0 seconds |
| RetCode: 0 |
| Status: OK |
| PackageFile: affyQCReport_1.56.0.tar.gz |
| PackageFileSize: 189.3 KiB |
############################################################################## ############################################################################## ### ### Running command: ### ### /home/biocbuild/bbs-3.6-bioc/R/bin/R CMD build --keep-empty-dirs --no-resave-data affyQCReport ### ############################################################################## ############################################################################## * checking for file ‘affyQCReport/DESCRIPTION’ ... OK * preparing ‘affyQCReport’: * checking DESCRIPTION meta-information ... OK * installing the package to build vignettes * creating vignettes ... OK * checking for LF line-endings in source and make files and shell scripts * checking for empty or unneeded directories * building ‘affyQCReport_1.56.0.tar.gz’