| Back to Multiple platform build/check report for BioC 3.6 |
|
This page was generated on 2018-04-12 13:22:49 -0400 (Thu, 12 Apr 2018).
| Package 1465/1472 | Hostname | OS / Arch | INSTALL | BUILD | CHECK | BUILD BIN | ||||||
| XVector 0.18.0 Hervé Pagès
| malbec1 | Linux (Ubuntu 16.04.1 LTS) / x86_64 | OK | OK | WARNINGS | |||||||
| tokay1 | Windows Server 2012 R2 Standard / x64 | [ OK ] | OK | WARNINGS | OK | |||||||
| veracruz1 | OS X 10.11.6 El Capitan / x86_64 | OK | OK | WARNINGS | OK |
| Package: XVector |
| Version: 0.18.0 |
| Command: rm -rf XVector.buildbin-libdir && mkdir XVector.buildbin-libdir && C:\cygwin\bin\curl.exe -O https://malbec1.bioconductor.org/BBS/3.6/bioc/src/contrib/XVector_0.18.0.tar.gz && C:\Users\biocbuild\bbs-3.6-bioc\R\bin\R.exe CMD INSTALL --build --library=XVector.buildbin-libdir --merge-multiarch XVector_0.18.0.tar.gz && C:\Users\biocbuild\bbs-3.6-bioc\R\bin\R.exe CMD INSTALL XVector_0.18.0.zip && rm XVector_0.18.0.tar.gz XVector_0.18.0.zip |
| StartedAt: 2018-04-11 18:27:24 -0400 (Wed, 11 Apr 2018) |
| EndedAt: 2018-04-11 18:28:46 -0400 (Wed, 11 Apr 2018) |
| EllapsedTime: 82.2 seconds |
| RetCode: 0 |
| Status: OK |
##############################################################################
##############################################################################
###
### Running command:
###
### rm -rf XVector.buildbin-libdir && mkdir XVector.buildbin-libdir && C:\cygwin\bin\curl.exe -O https://malbec1.bioconductor.org/BBS/3.6/bioc/src/contrib/XVector_0.18.0.tar.gz && C:\Users\biocbuild\bbs-3.6-bioc\R\bin\R.exe CMD INSTALL --build --library=XVector.buildbin-libdir --merge-multiarch XVector_0.18.0.tar.gz && C:\Users\biocbuild\bbs-3.6-bioc\R\bin\R.exe CMD INSTALL XVector_0.18.0.zip && rm XVector_0.18.0.tar.gz XVector_0.18.0.zip
###
##############################################################################
##############################################################################
% Total % Received % Xferd Average Speed Time Time Time Current
Dload Upload Total Spent Left Speed
0 0 0 0 0 0 0 0 --:--:-- --:--:-- --:--:-- 0
100 67680 100 67680 0 0 2793k 0 --:--:-- --:--:-- --:--:-- 3304k
install for i386
* installing *source* package 'XVector' ...
** libs
C:/Rtools/mingw_32/bin/gcc -I"C:/Users/biocbuild/bbs-3.6-bioc/R/library/zlibbioc/include" -I"C:/Users/BIOCBU˜1/BBS-3˜1.6-B/R/include" -DNDEBUG -I"C:/Users/biocbuild/bbs-3.6-bioc/R/library/S4Vectors/include" -I"C:/Users/biocbuild/bbs-3.6-bioc/R/library/IRanges/include" -I"C:/local323/include" -O3 -Wall -std=gnu99 -mtune=generic -c IRanges_stubs.c -o IRanges_stubs.o
C:/Rtools/mingw_32/bin/gcc -I"C:/Users/biocbuild/bbs-3.6-bioc/R/library/zlibbioc/include" -I"C:/Users/BIOCBU˜1/BBS-3˜1.6-B/R/include" -DNDEBUG -I"C:/Users/biocbuild/bbs-3.6-bioc/R/library/S4Vectors/include" -I"C:/Users/biocbuild/bbs-3.6-bioc/R/library/IRanges/include" -I"C:/local323/include" -O3 -Wall -std=gnu99 -mtune=generic -c Ocopy_byteblocks.c -o Ocopy_byteblocks.o
C:/Rtools/mingw_32/bin/gcc -I"C:/Users/biocbuild/bbs-3.6-bioc/R/library/zlibbioc/include" -I"C:/Users/BIOCBU˜1/BBS-3˜1.6-B/R/include" -DNDEBUG -I"C:/Users/biocbuild/bbs-3.6-bioc/R/library/S4Vectors/include" -I"C:/Users/biocbuild/bbs-3.6-bioc/R/library/IRanges/include" -I"C:/local323/include" -O3 -Wall -std=gnu99 -mtune=generic -c RDS_random_access.c -o RDS_random_access.o
RDS_random_access.c: In function 'RDS_read_character_vector':
RDS_random_access.c:305:2: warning: unknown conversion type character 't' in format [-Wformat=]
PRINTIFVERBOSE2("object length: %td", ans_len);
^
RDS_random_access.c:305:2: warning: too many arguments for format [-Wformat-extra-args]
RDS_random_access.c: In function 'RDS_read_atomic_vector':
RDS_random_access.c:335:2: warning: unknown conversion type character 't' in format [-Wformat=]
PRINTIFVERBOSE2("object length: %td", ans_len);
^
RDS_random_access.c:335:2: warning: too many arguments for format [-Wformat-extra-args]
RDS_random_access.c: In function 'RDS_read_list':
RDS_random_access.c:379:2: warning: unknown conversion type character 't' in format [-Wformat=]
PRINTIFVERBOSE2("object length: %td", ans_len);
^
RDS_random_access.c:379:2: warning: too many arguments for format [-Wformat-extra-args]
RDS_random_access.c: In function 'RDS_extract_subarray':
RDS_random_access.c:796:18: warning: unused variable 'ans' [-Wunused-variable]
SEXP subscript, ans;
^
RDS_random_access.c:793:11: warning: variable 'x_type' set but not used [-Wunused-but-set-variable]
SEXPTYPE x_type;
^
C:/Rtools/mingw_32/bin/gcc -I"C:/Users/biocbuild/bbs-3.6-bioc/R/library/zlibbioc/include" -I"C:/Users/BIOCBU˜1/BBS-3˜1.6-B/R/include" -DNDEBUG -I"C:/Users/biocbuild/bbs-3.6-bioc/R/library/S4Vectors/include" -I"C:/Users/biocbuild/bbs-3.6-bioc/R/library/IRanges/include" -I"C:/local323/include" -O3 -Wall -std=gnu99 -mtune=generic -c R_init_XVector.c -o R_init_XVector.o
C:/Rtools/mingw_32/bin/gcc -I"C:/Users/biocbuild/bbs-3.6-bioc/R/library/zlibbioc/include" -I"C:/Users/BIOCBU˜1/BBS-3˜1.6-B/R/include" -DNDEBUG -I"C:/Users/biocbuild/bbs-3.6-bioc/R/library/S4Vectors/include" -I"C:/Users/biocbuild/bbs-3.6-bioc/R/library/IRanges/include" -I"C:/local323/include" -O3 -Wall -std=gnu99 -mtune=generic -c S4Vectors_stubs.c -o S4Vectors_stubs.o
C:/Rtools/mingw_32/bin/gcc -I"C:/Users/biocbuild/bbs-3.6-bioc/R/library/zlibbioc/include" -I"C:/Users/BIOCBU˜1/BBS-3˜1.6-B/R/include" -DNDEBUG -I"C:/Users/biocbuild/bbs-3.6-bioc/R/library/S4Vectors/include" -I"C:/Users/biocbuild/bbs-3.6-bioc/R/library/IRanges/include" -I"C:/local323/include" -O3 -Wall -std=gnu99 -mtune=generic -c SharedDouble_class.c -o SharedDouble_class.o
C:/Rtools/mingw_32/bin/gcc -I"C:/Users/biocbuild/bbs-3.6-bioc/R/library/zlibbioc/include" -I"C:/Users/BIOCBU˜1/BBS-3˜1.6-B/R/include" -DNDEBUG -I"C:/Users/biocbuild/bbs-3.6-bioc/R/library/S4Vectors/include" -I"C:/Users/biocbuild/bbs-3.6-bioc/R/library/IRanges/include" -I"C:/local323/include" -O3 -Wall -std=gnu99 -mtune=generic -c SharedInteger_class.c -o SharedInteger_class.o
C:/Rtools/mingw_32/bin/gcc -I"C:/Users/biocbuild/bbs-3.6-bioc/R/library/zlibbioc/include" -I"C:/Users/BIOCBU˜1/BBS-3˜1.6-B/R/include" -DNDEBUG -I"C:/Users/biocbuild/bbs-3.6-bioc/R/library/S4Vectors/include" -I"C:/Users/biocbuild/bbs-3.6-bioc/R/library/IRanges/include" -I"C:/local323/include" -O3 -Wall -std=gnu99 -mtune=generic -c SharedRaw_class.c -o SharedRaw_class.o
SharedRaw_class.c: In function 'SharedRaw_read_complexes_from_subscript':
SharedRaw_class.c:350:13: warning: variable 'src_tag' set but not used [-Wunused-but-set-variable]
SEXP dest, src_tag;
^
C:/Rtools/mingw_32/bin/gcc -I"C:/Users/biocbuild/bbs-3.6-bioc/R/library/zlibbioc/include" -I"C:/Users/BIOCBU˜1/BBS-3˜1.6-B/R/include" -DNDEBUG -I"C:/Users/biocbuild/bbs-3.6-bioc/R/library/S4Vectors/include" -I"C:/Users/biocbuild/bbs-3.6-bioc/R/library/IRanges/include" -I"C:/local323/include" -O3 -Wall -std=gnu99 -mtune=generic -c SharedVector_class.c -o SharedVector_class.o
C:/Rtools/mingw_32/bin/gcc -I"C:/Users/biocbuild/bbs-3.6-bioc/R/library/zlibbioc/include" -I"C:/Users/BIOCBU˜1/BBS-3˜1.6-B/R/include" -DNDEBUG -I"C:/Users/biocbuild/bbs-3.6-bioc/R/library/S4Vectors/include" -I"C:/Users/biocbuild/bbs-3.6-bioc/R/library/IRanges/include" -I"C:/local323/include" -O3 -Wall -std=gnu99 -mtune=generic -c XRawList_comparison.c -o XRawList_comparison.o
C:/Rtools/mingw_32/bin/gcc -I"C:/Users/biocbuild/bbs-3.6-bioc/R/library/zlibbioc/include" -I"C:/Users/BIOCBU˜1/BBS-3˜1.6-B/R/include" -DNDEBUG -I"C:/Users/biocbuild/bbs-3.6-bioc/R/library/S4Vectors/include" -I"C:/Users/biocbuild/bbs-3.6-bioc/R/library/IRanges/include" -I"C:/local323/include" -O3 -Wall -std=gnu99 -mtune=generic -c XVectorList_class.c -o XVectorList_class.o
XVectorList_class.c: In function '_new_XRawList_from_CharAEAE':
XVectorList_class.c:452:3: warning: 'lkup_length' may be used uninitialized in this function [-Wmaybe-uninitialized]
_Ocopy_bytes_to_i1i2_with_lkup(0, dest.length - 1,
^
C:/Rtools/mingw_32/bin/gcc -I"C:/Users/biocbuild/bbs-3.6-bioc/R/library/zlibbioc/include" -I"C:/Users/BIOCBU˜1/BBS-3˜1.6-B/R/include" -DNDEBUG -I"C:/Users/biocbuild/bbs-3.6-bioc/R/library/S4Vectors/include" -I"C:/Users/biocbuild/bbs-3.6-bioc/R/library/IRanges/include" -I"C:/local323/include" -O3 -Wall -std=gnu99 -mtune=generic -c XVector_class.c -o XVector_class.o
C:/Rtools/mingw_32/bin/gcc -I"C:/Users/biocbuild/bbs-3.6-bioc/R/library/zlibbioc/include" -I"C:/Users/BIOCBU˜1/BBS-3˜1.6-B/R/include" -DNDEBUG -I"C:/Users/biocbuild/bbs-3.6-bioc/R/library/S4Vectors/include" -I"C:/Users/biocbuild/bbs-3.6-bioc/R/library/IRanges/include" -I"C:/local323/include" -O3 -Wall -std=gnu99 -mtune=generic -c io_utils.c -o io_utils.o
C:/Rtools/mingw_32/bin/gcc -I"C:/Users/biocbuild/bbs-3.6-bioc/R/library/zlibbioc/include" -I"C:/Users/BIOCBU˜1/BBS-3˜1.6-B/R/include" -DNDEBUG -I"C:/Users/biocbuild/bbs-3.6-bioc/R/library/S4Vectors/include" -I"C:/Users/biocbuild/bbs-3.6-bioc/R/library/IRanges/include" -I"C:/local323/include" -O3 -Wall -std=gnu99 -mtune=generic -c slice_methods.c -o slice_methods.o
C:/Rtools/mingw_32/bin/gcc -I"C:/Users/biocbuild/bbs-3.6-bioc/R/library/zlibbioc/include" -I"C:/Users/BIOCBU˜1/BBS-3˜1.6-B/R/include" -DNDEBUG -I"C:/Users/biocbuild/bbs-3.6-bioc/R/library/S4Vectors/include" -I"C:/Users/biocbuild/bbs-3.6-bioc/R/library/IRanges/include" -I"C:/local323/include" -O3 -Wall -std=gnu99 -mtune=generic -c vector_copy.c -o vector_copy.o
C:/Rtools/mingw_32/bin/gcc -I"C:/Users/biocbuild/bbs-3.6-bioc/R/library/zlibbioc/include" -I"C:/Users/BIOCBU˜1/BBS-3˜1.6-B/R/include" -DNDEBUG -I"C:/Users/biocbuild/bbs-3.6-bioc/R/library/S4Vectors/include" -I"C:/Users/biocbuild/bbs-3.6-bioc/R/library/IRanges/include" -I"C:/local323/include" -O3 -Wall -std=gnu99 -mtune=generic -c view_summarization_methods.c -o view_summarization_methods.o
view_summarization_methods.c: In function 'get_which_min_from_Ints_holder':
view_summarization_methods.c:219:31: warning: 'cur_min' may be used uninitialized in this function [-Wmaybe-uninitialized]
if (which_min == NA_INTEGER || x < cur_min) {
^
view_summarization_methods.c: In function 'get_which_min_from_Doubles_holder':
view_summarization_methods.c:246:31: warning: 'cur_min' may be used uninitialized in this function [-Wmaybe-uninitialized]
if (which_min == NA_INTEGER || x < cur_min) {
^
view_summarization_methods.c: In function 'get_which_max_from_Ints_holder':
view_summarization_methods.c:269:31: warning: 'cur_max' may be used uninitialized in this function [-Wmaybe-uninitialized]
if (which_max == NA_INTEGER || x > cur_max) {
^
view_summarization_methods.c: In function 'get_which_max_from_Doubles_holder':
view_summarization_methods.c:296:31: warning: 'cur_max' may be used uninitialized in this function [-Wmaybe-uninitialized]
if (which_max == NA_INTEGER || x > cur_max) {
^
C:/Rtools/mingw_32/bin/g++ -shared -s -static-libgcc -o XVector.dll tmp.def IRanges_stubs.o Ocopy_byteblocks.o RDS_random_access.o R_init_XVector.o S4Vectors_stubs.o SharedDouble_class.o SharedInteger_class.o SharedRaw_class.o SharedVector_class.o XRawList_comparison.o XVectorList_class.o XVector_class.o io_utils.o slice_methods.o vector_copy.o view_summarization_methods.o -LC:/Users/biocbuild/bbs-3.6-bioc/R/library/zlibbioc/libs/i386 -lzlib1bioc -LC:/local323/lib/i386 -LC:/local323/lib -LC:/Users/BIOCBU˜1/BBS-3˜1.6-B/R/bin/i386 -lR
installing to C:/Users/biocbuild/bbs-3.6-bioc/meat/XVector.buildbin-libdir/XVector/libs/i386
** R
** inst
** preparing package for lazy loading
** help
*** installing help indices
converting help for package 'XVector'
finding HTML links ... done
OnDiskRaw-class html
XDoubleViews-class html
Rd warning: C:/Users/biocbuild/bbs-3.6-bioc/tmpdir/RtmpsTMq7O/R.INSTALL104063747c59/XVector/man/XDoubleViews-class.Rd:37: missing file link 'Views'
Rd warning: C:/Users/biocbuild/bbs-3.6-bioc/tmpdir/RtmpsTMq7O/R.INSTALL104063747c59/XVector/man/XDoubleViews-class.Rd:38: missing file link 'Views'
Rd warning: C:/Users/biocbuild/bbs-3.6-bioc/tmpdir/RtmpsTMq7O/R.INSTALL104063747c59/XVector/man/XDoubleViews-class.Rd:39: missing file link 'Views'
XIntegerViews-class html
Rd warning: C:/Users/biocbuild/bbs-3.6-bioc/tmpdir/RtmpsTMq7O/R.INSTALL104063747c59/XVector/man/XIntegerViews-class.Rd:37: missing file link 'Views'
Rd warning: C:/Users/biocbuild/bbs-3.6-bioc/tmpdir/RtmpsTMq7O/R.INSTALL104063747c59/XVector/man/XIntegerViews-class.Rd:38: missing file link 'Views'
Rd warning: C:/Users/biocbuild/bbs-3.6-bioc/tmpdir/RtmpsTMq7O/R.INSTALL104063747c59/XVector/man/XIntegerViews-class.Rd:39: missing file link 'Views'
XRawList-class html
XRawList-comparison html
XVector-class html
Rd warning: C:/Users/biocbuild/bbs-3.6-bioc/tmpdir/RtmpsTMq7O/R.INSTALL104063747c59/XVector/man/XVector-class.Rd:59: missing file link 'Vector'
Rd warning: C:/Users/biocbuild/bbs-3.6-bioc/tmpdir/RtmpsTMq7O/R.INSTALL104063747c59/XVector/man/XVector-class.Rd:76: missing file link 'XString'
Rd warning: C:/Users/biocbuild/bbs-3.6-bioc/tmpdir/RtmpsTMq7O/R.INSTALL104063747c59/XVector/man/XVector-class.Rd:135: missing file link 'solveUserSEW'
XVector-internals html
XVectorList-class html
compact-methods html
intra-range-methods html
Rd warning: C:/Users/biocbuild/bbs-3.6-bioc/tmpdir/RtmpsTMq7O/R.INSTALL104063747c59/XVector/man/intra-range-methods.Rd:18: missing file link 'narrow'
Rd warning: C:/Users/biocbuild/bbs-3.6-bioc/tmpdir/RtmpsTMq7O/R.INSTALL104063747c59/XVector/man/intra-range-methods.Rd:18: missing file link 'threebands'
Rd warning: C:/Users/biocbuild/bbs-3.6-bioc/tmpdir/RtmpsTMq7O/R.INSTALL104063747c59/XVector/man/intra-range-methods.Rd:37: missing file link 'solveUserSEW'
Rd warning: C:/Users/biocbuild/bbs-3.6-bioc/tmpdir/RtmpsTMq7O/R.INSTALL104063747c59/XVector/man/intra-range-methods.Rd:64: missing file link 'solveUserSEW'
reverse-methods html
Rd warning: C:/Users/biocbuild/bbs-3.6-bioc/tmpdir/RtmpsTMq7O/R.INSTALL104063747c59/XVector/man/reverse-methods.Rd:48: missing file link 'endoapply'
slice-methods html
Rd warning: C:/Users/biocbuild/bbs-3.6-bioc/tmpdir/RtmpsTMq7O/R.INSTALL104063747c59/XVector/man/slice-methods.Rd:14: missing file link 'slice'
Rd warning: C:/Users/biocbuild/bbs-3.6-bioc/tmpdir/RtmpsTMq7O/R.INSTALL104063747c59/XVector/man/slice-methods.Rd:53: missing file link 'IRanges'
updateObject-methods html
view-summarization-methods html
** building package indices
** testing if installed package can be loaded
In R CMD INSTALL
install for x64
* installing *source* package 'XVector' ...
** libs
C:/Rtools/mingw_64/bin/gcc -I"C:/Users/biocbuild/bbs-3.6-bioc/R/library/zlibbioc/include" -I"C:/Users/BIOCBU˜1/BBS-3˜1.6-B/R/include" -DNDEBUG -I"C:/Users/biocbuild/bbs-3.6-bioc/R/library/S4Vectors/include" -I"C:/Users/biocbuild/bbs-3.6-bioc/R/library/IRanges/include" -I"C:/local323/include" -O2 -Wall -std=gnu99 -mtune=generic -c IRanges_stubs.c -o IRanges_stubs.o
C:/Rtools/mingw_64/bin/gcc -I"C:/Users/biocbuild/bbs-3.6-bioc/R/library/zlibbioc/include" -I"C:/Users/BIOCBU˜1/BBS-3˜1.6-B/R/include" -DNDEBUG -I"C:/Users/biocbuild/bbs-3.6-bioc/R/library/S4Vectors/include" -I"C:/Users/biocbuild/bbs-3.6-bioc/R/library/IRanges/include" -I"C:/local323/include" -O2 -Wall -std=gnu99 -mtune=generic -c Ocopy_byteblocks.c -o Ocopy_byteblocks.o
C:/Rtools/mingw_64/bin/gcc -I"C:/Users/biocbuild/bbs-3.6-bioc/R/library/zlibbioc/include" -I"C:/Users/BIOCBU˜1/BBS-3˜1.6-B/R/include" -DNDEBUG -I"C:/Users/biocbuild/bbs-3.6-bioc/R/library/S4Vectors/include" -I"C:/Users/biocbuild/bbs-3.6-bioc/R/library/IRanges/include" -I"C:/local323/include" -O2 -Wall -std=gnu99 -mtune=generic -c RDS_random_access.c -o RDS_random_access.o
RDS_random_access.c: In function 'RDS_read_character_vector':
RDS_random_access.c:305:2: warning: unknown conversion type character 't' in format [-Wformat=]
PRINTIFVERBOSE2("object length: %td", ans_len);
^
RDS_random_access.c:305:2: warning: too many arguments for format [-Wformat-extra-args]
RDS_random_access.c: In function 'RDS_read_atomic_vector':
RDS_random_access.c:335:2: warning: unknown conversion type character 't' in format [-Wformat=]
PRINTIFVERBOSE2("object length: %td", ans_len);
^
RDS_random_access.c:335:2: warning: too many arguments for format [-Wformat-extra-args]
RDS_random_access.c: In function 'RDS_read_list':
RDS_random_access.c:379:2: warning: unknown conversion type character 't' in format [-Wformat=]
PRINTIFVERBOSE2("object length: %td", ans_len);
^
RDS_random_access.c:379:2: warning: too many arguments for format [-Wformat-extra-args]
RDS_random_access.c: In function 'RDS_extract_subarray':
RDS_random_access.c:796:18: warning: unused variable 'ans' [-Wunused-variable]
SEXP subscript, ans;
^
RDS_random_access.c:793:11: warning: variable 'x_type' set but not used [-Wunused-but-set-variable]
SEXPTYPE x_type;
^
C:/Rtools/mingw_64/bin/gcc -I"C:/Users/biocbuild/bbs-3.6-bioc/R/library/zlibbioc/include" -I"C:/Users/BIOCBU˜1/BBS-3˜1.6-B/R/include" -DNDEBUG -I"C:/Users/biocbuild/bbs-3.6-bioc/R/library/S4Vectors/include" -I"C:/Users/biocbuild/bbs-3.6-bioc/R/library/IRanges/include" -I"C:/local323/include" -O2 -Wall -std=gnu99 -mtune=generic -c R_init_XVector.c -o R_init_XVector.o
C:/Rtools/mingw_64/bin/gcc -I"C:/Users/biocbuild/bbs-3.6-bioc/R/library/zlibbioc/include" -I"C:/Users/BIOCBU˜1/BBS-3˜1.6-B/R/include" -DNDEBUG -I"C:/Users/biocbuild/bbs-3.6-bioc/R/library/S4Vectors/include" -I"C:/Users/biocbuild/bbs-3.6-bioc/R/library/IRanges/include" -I"C:/local323/include" -O2 -Wall -std=gnu99 -mtune=generic -c S4Vectors_stubs.c -o S4Vectors_stubs.o
C:/Rtools/mingw_64/bin/gcc -I"C:/Users/biocbuild/bbs-3.6-bioc/R/library/zlibbioc/include" -I"C:/Users/BIOCBU˜1/BBS-3˜1.6-B/R/include" -DNDEBUG -I"C:/Users/biocbuild/bbs-3.6-bioc/R/library/S4Vectors/include" -I"C:/Users/biocbuild/bbs-3.6-bioc/R/library/IRanges/include" -I"C:/local323/include" -O2 -Wall -std=gnu99 -mtune=generic -c SharedDouble_class.c -o SharedDouble_class.o
C:/Rtools/mingw_64/bin/gcc -I"C:/Users/biocbuild/bbs-3.6-bioc/R/library/zlibbioc/include" -I"C:/Users/BIOCBU˜1/BBS-3˜1.6-B/R/include" -DNDEBUG -I"C:/Users/biocbuild/bbs-3.6-bioc/R/library/S4Vectors/include" -I"C:/Users/biocbuild/bbs-3.6-bioc/R/library/IRanges/include" -I"C:/local323/include" -O2 -Wall -std=gnu99 -mtune=generic -c SharedInteger_class.c -o SharedInteger_class.o
C:/Rtools/mingw_64/bin/gcc -I"C:/Users/biocbuild/bbs-3.6-bioc/R/library/zlibbioc/include" -I"C:/Users/BIOCBU˜1/BBS-3˜1.6-B/R/include" -DNDEBUG -I"C:/Users/biocbuild/bbs-3.6-bioc/R/library/S4Vectors/include" -I"C:/Users/biocbuild/bbs-3.6-bioc/R/library/IRanges/include" -I"C:/local323/include" -O2 -Wall -std=gnu99 -mtune=generic -c SharedRaw_class.c -o SharedRaw_class.o
SharedRaw_class.c: In function 'SharedRaw_read_complexes_from_subscript':
SharedRaw_class.c:350:13: warning: variable 'src_tag' set but not used [-Wunused-but-set-variable]
SEXP dest, src_tag;
^
C:/Rtools/mingw_64/bin/gcc -I"C:/Users/biocbuild/bbs-3.6-bioc/R/library/zlibbioc/include" -I"C:/Users/BIOCBU˜1/BBS-3˜1.6-B/R/include" -DNDEBUG -I"C:/Users/biocbuild/bbs-3.6-bioc/R/library/S4Vectors/include" -I"C:/Users/biocbuild/bbs-3.6-bioc/R/library/IRanges/include" -I"C:/local323/include" -O2 -Wall -std=gnu99 -mtune=generic -c SharedVector_class.c -o SharedVector_class.o
C:/Rtools/mingw_64/bin/gcc -I"C:/Users/biocbuild/bbs-3.6-bioc/R/library/zlibbioc/include" -I"C:/Users/BIOCBU˜1/BBS-3˜1.6-B/R/include" -DNDEBUG -I"C:/Users/biocbuild/bbs-3.6-bioc/R/library/S4Vectors/include" -I"C:/Users/biocbuild/bbs-3.6-bioc/R/library/IRanges/include" -I"C:/local323/include" -O2 -Wall -std=gnu99 -mtune=generic -c XRawList_comparison.c -o XRawList_comparison.o
C:/Rtools/mingw_64/bin/gcc -I"C:/Users/biocbuild/bbs-3.6-bioc/R/library/zlibbioc/include" -I"C:/Users/BIOCBU˜1/BBS-3˜1.6-B/R/include" -DNDEBUG -I"C:/Users/biocbuild/bbs-3.6-bioc/R/library/S4Vectors/include" -I"C:/Users/biocbuild/bbs-3.6-bioc/R/library/IRanges/include" -I"C:/local323/include" -O2 -Wall -std=gnu99 -mtune=generic -c XVectorList_class.c -o XVectorList_class.o
XVectorList_class.c: In function '_new_XRawList_from_CharAEAE':
XVectorList_class.c:452:3: warning: 'lkup_length' may be used uninitialized in this function [-Wmaybe-uninitialized]
_Ocopy_bytes_to_i1i2_with_lkup(0, dest.length - 1,
^
C:/Rtools/mingw_64/bin/gcc -I"C:/Users/biocbuild/bbs-3.6-bioc/R/library/zlibbioc/include" -I"C:/Users/BIOCBU˜1/BBS-3˜1.6-B/R/include" -DNDEBUG -I"C:/Users/biocbuild/bbs-3.6-bioc/R/library/S4Vectors/include" -I"C:/Users/biocbuild/bbs-3.6-bioc/R/library/IRanges/include" -I"C:/local323/include" -O2 -Wall -std=gnu99 -mtune=generic -c XVector_class.c -o XVector_class.o
C:/Rtools/mingw_64/bin/gcc -I"C:/Users/biocbuild/bbs-3.6-bioc/R/library/zlibbioc/include" -I"C:/Users/BIOCBU˜1/BBS-3˜1.6-B/R/include" -DNDEBUG -I"C:/Users/biocbuild/bbs-3.6-bioc/R/library/S4Vectors/include" -I"C:/Users/biocbuild/bbs-3.6-bioc/R/library/IRanges/include" -I"C:/local323/include" -O2 -Wall -std=gnu99 -mtune=generic -c io_utils.c -o io_utils.o
C:/Rtools/mingw_64/bin/gcc -I"C:/Users/biocbuild/bbs-3.6-bioc/R/library/zlibbioc/include" -I"C:/Users/BIOCBU˜1/BBS-3˜1.6-B/R/include" -DNDEBUG -I"C:/Users/biocbuild/bbs-3.6-bioc/R/library/S4Vectors/include" -I"C:/Users/biocbuild/bbs-3.6-bioc/R/library/IRanges/include" -I"C:/local323/include" -O2 -Wall -std=gnu99 -mtune=generic -c slice_methods.c -o slice_methods.o
C:/Rtools/mingw_64/bin/gcc -I"C:/Users/biocbuild/bbs-3.6-bioc/R/library/zlibbioc/include" -I"C:/Users/BIOCBU˜1/BBS-3˜1.6-B/R/include" -DNDEBUG -I"C:/Users/biocbuild/bbs-3.6-bioc/R/library/S4Vectors/include" -I"C:/Users/biocbuild/bbs-3.6-bioc/R/library/IRanges/include" -I"C:/local323/include" -O2 -Wall -std=gnu99 -mtune=generic -c vector_copy.c -o vector_copy.o
C:/Rtools/mingw_64/bin/gcc -I"C:/Users/biocbuild/bbs-3.6-bioc/R/library/zlibbioc/include" -I"C:/Users/BIOCBU˜1/BBS-3˜1.6-B/R/include" -DNDEBUG -I"C:/Users/biocbuild/bbs-3.6-bioc/R/library/S4Vectors/include" -I"C:/Users/biocbuild/bbs-3.6-bioc/R/library/IRanges/include" -I"C:/local323/include" -O2 -Wall -std=gnu99 -mtune=generic -c view_summarization_methods.c -o view_summarization_methods.o
view_summarization_methods.c: In function 'get_which_min_from_Ints_holder':
view_summarization_methods.c:219:31: warning: 'cur_min' may be used uninitialized in this function [-Wmaybe-uninitialized]
if (which_min == NA_INTEGER || x < cur_min) {
^
view_summarization_methods.c: In function 'get_which_min_from_Doubles_holder':
view_summarization_methods.c:246:31: warning: 'cur_min' may be used uninitialized in this function [-Wmaybe-uninitialized]
if (which_min == NA_INTEGER || x < cur_min) {
^
view_summarization_methods.c: In function 'get_which_max_from_Ints_holder':
view_summarization_methods.c:269:31: warning: 'cur_max' may be used uninitialized in this function [-Wmaybe-uninitialized]
if (which_max == NA_INTEGER || x > cur_max) {
^
view_summarization_methods.c: In function 'get_which_max_from_Doubles_holder':
view_summarization_methods.c:296:31: warning: 'cur_max' may be used uninitialized in this function [-Wmaybe-uninitialized]
if (which_max == NA_INTEGER || x > cur_max) {
^
C:/Rtools/mingw_64/bin/g++ -shared -s -static-libgcc -o XVector.dll tmp.def IRanges_stubs.o Ocopy_byteblocks.o RDS_random_access.o R_init_XVector.o S4Vectors_stubs.o SharedDouble_class.o SharedInteger_class.o SharedRaw_class.o SharedVector_class.o XRawList_comparison.o XVectorList_class.o XVector_class.o io_utils.o slice_methods.o vector_copy.o view_summarization_methods.o -LC:/Users/biocbuild/bbs-3.6-bioc/R/library/zlibbioc/libs/x64 -lzlib1bioc -LC:/local323/lib/x64 -LC:/local323/lib -LC:/Users/BIOCBU˜1/BBS-3˜1.6-B/R/bin/x64 -lR
installing to C:/Users/biocbuild/bbs-3.6-bioc/meat/XVector.buildbin-libdir/XVector/libs/x64
** testing if installed package can be loaded
* MD5 sums
packaged installation of 'XVector' as XVector_0.18.0.zip
* DONE (XVector)
In R CMD INSTALL
In R CMD INSTALL
* installing to library 'C:/Users/biocbuild/bbs-3.6-bioc/R/library'
package 'XVector' successfully unpacked and MD5 sums checked
In R CMD INSTALL