| Back to Multiple platform build/check report for BioC 3.6 |
|
This page was generated on 2018-04-12 13:21:03 -0400 (Thu, 12 Apr 2018).
| Package 1443/1472 | Hostname | OS / Arch | INSTALL | BUILD | CHECK | BUILD BIN | ||||||
| VariantAnnotation 1.24.5 Valerie Obenchain
| malbec1 | Linux (Ubuntu 16.04.1 LTS) / x86_64 | OK | OK | WARNINGS | |||||||
| tokay1 | Windows Server 2012 R2 Standard / x64 | [ OK ] | OK | WARNINGS | OK | |||||||
| veracruz1 | OS X 10.11.6 El Capitan / x86_64 | OK | OK | WARNINGS | OK |
| Package: VariantAnnotation |
| Version: 1.24.5 |
| Command: rm -rf VariantAnnotation.buildbin-libdir && mkdir VariantAnnotation.buildbin-libdir && C:\cygwin\bin\curl.exe -O https://malbec1.bioconductor.org/BBS/3.6/bioc/src/contrib/VariantAnnotation_1.24.5.tar.gz && C:\Users\biocbuild\bbs-3.6-bioc\R\bin\R.exe CMD INSTALL --build --library=VariantAnnotation.buildbin-libdir --merge-multiarch VariantAnnotation_1.24.5.tar.gz && C:\Users\biocbuild\bbs-3.6-bioc\R\bin\R.exe CMD INSTALL VariantAnnotation_1.24.5.zip && rm VariantAnnotation_1.24.5.tar.gz VariantAnnotation_1.24.5.zip |
| StartedAt: 2018-04-11 18:49:46 -0400 (Wed, 11 Apr 2018) |
| EndedAt: 2018-04-11 18:53:07 -0400 (Wed, 11 Apr 2018) |
| EllapsedTime: 201.3 seconds |
| RetCode: 0 |
| Status: OK |
##############################################################################
##############################################################################
###
### Running command:
###
### rm -rf VariantAnnotation.buildbin-libdir && mkdir VariantAnnotation.buildbin-libdir && C:\cygwin\bin\curl.exe -O https://malbec1.bioconductor.org/BBS/3.6/bioc/src/contrib/VariantAnnotation_1.24.5.tar.gz && C:\Users\biocbuild\bbs-3.6-bioc\R\bin\R.exe CMD INSTALL --build --library=VariantAnnotation.buildbin-libdir --merge-multiarch VariantAnnotation_1.24.5.tar.gz && C:\Users\biocbuild\bbs-3.6-bioc\R\bin\R.exe CMD INSTALL VariantAnnotation_1.24.5.zip && rm VariantAnnotation_1.24.5.tar.gz VariantAnnotation_1.24.5.zip
###
##############################################################################
##############################################################################
% Total % Received % Xferd Average Speed Time Time Time Current
Dload Upload Total Spent Left Speed
0 0 0 0 0 0 0 0 --:--:-- --:--:-- --:--:-- 0
100 1300k 100 1300k 0 0 22.4M 0 --:--:-- --:--:-- --:--:-- 23.9M
install for i386
* installing *source* package 'VariantAnnotation' ...
** libs
C:/Rtools/mingw_32/bin/gcc -I"C:/Users/biocbuild/bbs-3.6-bioc/R/library/zlibbioc/include" -I"C:/Users/BIOCBU˜1/BBS-3˜1.6-B/R/include" -DNDEBUG -D_USE_KNETFILE -DBGZF_CACHE -D_FILE_OFFSET_BITS=64 -D_LARGEFILE64_SOURCE -I"C:/Users/biocbuild/bbs-3.6-bioc/R/library/zlibbioc/include" -I"C:/Users/biocbuild/bbs-3.6-bioc/R/library/S4Vectors/include" -I"C:/Users/biocbuild/bbs-3.6-bioc/R/library/IRanges/include" -I"C:/Users/biocbuild/bbs-3.6-bioc/R/library/XVector/include" -I"C:/Users/biocbuild/bbs-3.6-bioc/R/library/Biostrings/include" -I"C:/Users/biocbuild/bbs-3.6-bioc/R/library/Rsamtools/include" -I"C:/local323/include" -O3 -Wall -std=gnu99 -mtune=generic -c Biostrings_stubs.c -o Biostrings_stubs.o
C:/Rtools/mingw_32/bin/gcc -I"C:/Users/biocbuild/bbs-3.6-bioc/R/library/zlibbioc/include" -I"C:/Users/BIOCBU˜1/BBS-3˜1.6-B/R/include" -DNDEBUG -D_USE_KNETFILE -DBGZF_CACHE -D_FILE_OFFSET_BITS=64 -D_LARGEFILE64_SOURCE -I"C:/Users/biocbuild/bbs-3.6-bioc/R/library/zlibbioc/include" -I"C:/Users/biocbuild/bbs-3.6-bioc/R/library/S4Vectors/include" -I"C:/Users/biocbuild/bbs-3.6-bioc/R/library/IRanges/include" -I"C:/Users/biocbuild/bbs-3.6-bioc/R/library/XVector/include" -I"C:/Users/biocbuild/bbs-3.6-bioc/R/library/Biostrings/include" -I"C:/Users/biocbuild/bbs-3.6-bioc/R/library/Rsamtools/include" -I"C:/local323/include" -O3 -Wall -std=gnu99 -mtune=generic -c IRanges_stubs.c -o IRanges_stubs.o
C:/Rtools/mingw_32/bin/gcc -I"C:/Users/biocbuild/bbs-3.6-bioc/R/library/zlibbioc/include" -I"C:/Users/BIOCBU˜1/BBS-3˜1.6-B/R/include" -DNDEBUG -D_USE_KNETFILE -DBGZF_CACHE -D_FILE_OFFSET_BITS=64 -D_LARGEFILE64_SOURCE -I"C:/Users/biocbuild/bbs-3.6-bioc/R/library/zlibbioc/include" -I"C:/Users/biocbuild/bbs-3.6-bioc/R/library/S4Vectors/include" -I"C:/Users/biocbuild/bbs-3.6-bioc/R/library/IRanges/include" -I"C:/Users/biocbuild/bbs-3.6-bioc/R/library/XVector/include" -I"C:/Users/biocbuild/bbs-3.6-bioc/R/library/Biostrings/include" -I"C:/Users/biocbuild/bbs-3.6-bioc/R/library/Rsamtools/include" -I"C:/local323/include" -O3 -Wall -std=gnu99 -mtune=generic -c R_init_VariantAnnotation.c -o R_init_VariantAnnotation.o
C:/Rtools/mingw_32/bin/gcc -I"C:/Users/biocbuild/bbs-3.6-bioc/R/library/zlibbioc/include" -I"C:/Users/BIOCBU˜1/BBS-3˜1.6-B/R/include" -DNDEBUG -D_USE_KNETFILE -DBGZF_CACHE -D_FILE_OFFSET_BITS=64 -D_LARGEFILE64_SOURCE -I"C:/Users/biocbuild/bbs-3.6-bioc/R/library/zlibbioc/include" -I"C:/Users/biocbuild/bbs-3.6-bioc/R/library/S4Vectors/include" -I"C:/Users/biocbuild/bbs-3.6-bioc/R/library/IRanges/include" -I"C:/Users/biocbuild/bbs-3.6-bioc/R/library/XVector/include" -I"C:/Users/biocbuild/bbs-3.6-bioc/R/library/Biostrings/include" -I"C:/Users/biocbuild/bbs-3.6-bioc/R/library/Rsamtools/include" -I"C:/local323/include" -O3 -Wall -std=gnu99 -mtune=generic -c XVector_stubs.c -o XVector_stubs.o
C:/Rtools/mingw_32/bin/gcc -I"C:/Users/biocbuild/bbs-3.6-bioc/R/library/zlibbioc/include" -I"C:/Users/BIOCBU˜1/BBS-3˜1.6-B/R/include" -DNDEBUG -D_USE_KNETFILE -DBGZF_CACHE -D_FILE_OFFSET_BITS=64 -D_LARGEFILE64_SOURCE -I"C:/Users/biocbuild/bbs-3.6-bioc/R/library/zlibbioc/include" -I"C:/Users/biocbuild/bbs-3.6-bioc/R/library/S4Vectors/include" -I"C:/Users/biocbuild/bbs-3.6-bioc/R/library/IRanges/include" -I"C:/Users/biocbuild/bbs-3.6-bioc/R/library/XVector/include" -I"C:/Users/biocbuild/bbs-3.6-bioc/R/library/Biostrings/include" -I"C:/Users/biocbuild/bbs-3.6-bioc/R/library/Rsamtools/include" -I"C:/local323/include" -O3 -Wall -std=gnu99 -mtune=generic -c dna_hash.c -o dna_hash.o
C:/Rtools/mingw_32/bin/gcc -I"C:/Users/biocbuild/bbs-3.6-bioc/R/library/zlibbioc/include" -I"C:/Users/BIOCBU˜1/BBS-3˜1.6-B/R/include" -DNDEBUG -D_USE_KNETFILE -DBGZF_CACHE -D_FILE_OFFSET_BITS=64 -D_LARGEFILE64_SOURCE -I"C:/Users/biocbuild/bbs-3.6-bioc/R/library/zlibbioc/include" -I"C:/Users/biocbuild/bbs-3.6-bioc/R/library/S4Vectors/include" -I"C:/Users/biocbuild/bbs-3.6-bioc/R/library/IRanges/include" -I"C:/Users/biocbuild/bbs-3.6-bioc/R/library/XVector/include" -I"C:/Users/biocbuild/bbs-3.6-bioc/R/library/Biostrings/include" -I"C:/Users/biocbuild/bbs-3.6-bioc/R/library/Rsamtools/include" -I"C:/local323/include" -O3 -Wall -std=gnu99 -mtune=generic -c rle.c -o rle.o
C:/Rtools/mingw_32/bin/gcc -I"C:/Users/biocbuild/bbs-3.6-bioc/R/library/zlibbioc/include" -I"C:/Users/BIOCBU˜1/BBS-3˜1.6-B/R/include" -DNDEBUG -D_USE_KNETFILE -DBGZF_CACHE -D_FILE_OFFSET_BITS=64 -D_LARGEFILE64_SOURCE -I"C:/Users/biocbuild/bbs-3.6-bioc/R/library/zlibbioc/include" -I"C:/Users/biocbuild/bbs-3.6-bioc/R/library/S4Vectors/include" -I"C:/Users/biocbuild/bbs-3.6-bioc/R/library/IRanges/include" -I"C:/Users/biocbuild/bbs-3.6-bioc/R/library/XVector/include" -I"C:/Users/biocbuild/bbs-3.6-bioc/R/library/Biostrings/include" -I"C:/Users/biocbuild/bbs-3.6-bioc/R/library/Rsamtools/include" -I"C:/local323/include" -O3 -Wall -std=gnu99 -mtune=generic -c strhash.c -o strhash.o
C:/Rtools/mingw_32/bin/gcc -I"C:/Users/biocbuild/bbs-3.6-bioc/R/library/zlibbioc/include" -I"C:/Users/BIOCBU˜1/BBS-3˜1.6-B/R/include" -DNDEBUG -D_USE_KNETFILE -DBGZF_CACHE -D_FILE_OFFSET_BITS=64 -D_LARGEFILE64_SOURCE -I"C:/Users/biocbuild/bbs-3.6-bioc/R/library/zlibbioc/include" -I"C:/Users/biocbuild/bbs-3.6-bioc/R/library/S4Vectors/include" -I"C:/Users/biocbuild/bbs-3.6-bioc/R/library/IRanges/include" -I"C:/Users/biocbuild/bbs-3.6-bioc/R/library/XVector/include" -I"C:/Users/biocbuild/bbs-3.6-bioc/R/library/Biostrings/include" -I"C:/Users/biocbuild/bbs-3.6-bioc/R/library/Rsamtools/include" -I"C:/local323/include" -O3 -Wall -std=gnu99 -mtune=generic -c utilities.c -o utilities.o
C:/Rtools/mingw_32/bin/gcc -I"C:/Users/biocbuild/bbs-3.6-bioc/R/library/zlibbioc/include" -I"C:/Users/BIOCBU˜1/BBS-3˜1.6-B/R/include" -DNDEBUG -D_USE_KNETFILE -DBGZF_CACHE -D_FILE_OFFSET_BITS=64 -D_LARGEFILE64_SOURCE -I"C:/Users/biocbuild/bbs-3.6-bioc/R/library/zlibbioc/include" -I"C:/Users/biocbuild/bbs-3.6-bioc/R/library/S4Vectors/include" -I"C:/Users/biocbuild/bbs-3.6-bioc/R/library/IRanges/include" -I"C:/Users/biocbuild/bbs-3.6-bioc/R/library/XVector/include" -I"C:/Users/biocbuild/bbs-3.6-bioc/R/library/Biostrings/include" -I"C:/Users/biocbuild/bbs-3.6-bioc/R/library/Rsamtools/include" -I"C:/local323/include" -O3 -Wall -std=gnu99 -mtune=generic -c vcffile.c -o vcffile.o
C:/Rtools/mingw_32/bin/gcc -I"C:/Users/biocbuild/bbs-3.6-bioc/R/library/zlibbioc/include" -I"C:/Users/BIOCBU˜1/BBS-3˜1.6-B/R/include" -DNDEBUG -D_USE_KNETFILE -DBGZF_CACHE -D_FILE_OFFSET_BITS=64 -D_LARGEFILE64_SOURCE -I"C:/Users/biocbuild/bbs-3.6-bioc/R/library/zlibbioc/include" -I"C:/Users/biocbuild/bbs-3.6-bioc/R/library/S4Vectors/include" -I"C:/Users/biocbuild/bbs-3.6-bioc/R/library/IRanges/include" -I"C:/Users/biocbuild/bbs-3.6-bioc/R/library/XVector/include" -I"C:/Users/biocbuild/bbs-3.6-bioc/R/library/Biostrings/include" -I"C:/Users/biocbuild/bbs-3.6-bioc/R/library/Rsamtools/include" -I"C:/local323/include" -O3 -Wall -std=gnu99 -mtune=generic -c vcftype.c -o vcftype.o
C:/Rtools/mingw_32/bin/gcc -I"C:/Users/biocbuild/bbs-3.6-bioc/R/library/zlibbioc/include" -I"C:/Users/BIOCBU˜1/BBS-3˜1.6-B/R/include" -DNDEBUG -D_USE_KNETFILE -DBGZF_CACHE -D_FILE_OFFSET_BITS=64 -D_LARGEFILE64_SOURCE -I"C:/Users/biocbuild/bbs-3.6-bioc/R/library/zlibbioc/include" -I"C:/Users/biocbuild/bbs-3.6-bioc/R/library/S4Vectors/include" -I"C:/Users/biocbuild/bbs-3.6-bioc/R/library/IRanges/include" -I"C:/Users/biocbuild/bbs-3.6-bioc/R/library/XVector/include" -I"C:/Users/biocbuild/bbs-3.6-bioc/R/library/Biostrings/include" -I"C:/Users/biocbuild/bbs-3.6-bioc/R/library/Rsamtools/include" -I"C:/local323/include" -O3 -Wall -std=gnu99 -mtune=generic -c writevcf.c -o writevcf.o
C:/Rtools/mingw_32/bin/g++ -shared -s -static-libgcc -o VariantAnnotation.dll tmp.def Biostrings_stubs.o IRanges_stubs.o R_init_VariantAnnotation.o XVector_stubs.o dna_hash.o rle.o strhash.o utilities.o vcffile.o vcftype.o writevcf.o C:/Users/biocbuild/bbs-3.6-bioc/R/library/Rsamtools/usrlib/i386/libbam.a C:/Users/biocbuild/bbs-3.6-bioc/R/library/Rsamtools/usrlib/i386/libbam.a C:/Users/biocbuild/bbs-3.6-bioc/R/library/Rsamtools/usrlib/i386/libbcf.a C:/Users/biocbuild/bbs-3.6-bioc/R/library/Rsamtools/usrlib/i386/libtabix.a -lws2_32 -pthread -LC:/Users/biocbuild/bbs-3.6-bioc/R/library/zlibbioc/libs/i386 -lzlib1bioc -LC:/local323/lib/i386 -LC:/local323/lib -LC:/Users/BIOCBU˜1/BBS-3˜1.6-B/R/bin/i386 -lR
installing to C:/Users/biocbuild/bbs-3.6-bioc/meat/VariantAnnotation.buildbin-libdir/VariantAnnotation/libs/i386
** R
** inst
** preparing package for lazy loading
Creating a new generic function for 'tabulate' in package 'VariantAnnotation'
** help
*** installing help indices
converting help for package 'VariantAnnotation'
finding HTML links ... done
GLtoGP html
PROVEANDb-class html
PolyPhenDb-class html
PolyPhenDbColumns html
SIFTDb-class html
SIFTDbColumns html
ScanVcfParam-class html
finding level-2 HTML links ... done
VCF-class html
Rd warning: C:/Users/biocbuild/bbs-3.6-bioc/tmpdir/Rtmp8CnQSY/R.INSTALL4682f85763e/VariantAnnotation/man/VCF-class.Rd:307: missing file link 'BSgenome'
Rd warning: C:/Users/biocbuild/bbs-3.6-bioc/tmpdir/Rtmp8CnQSY/R.INSTALL4682f85763e/VariantAnnotation/man/VCF-class.Rd:404: missing file link 'DataFrame'
Rd warning: C:/Users/biocbuild/bbs-3.6-bioc/tmpdir/Rtmp8CnQSY/R.INSTALL4682f85763e/VariantAnnotation/man/VCF-class.Rd:405: missing file link 'SimpleList'
Rd warning: C:/Users/biocbuild/bbs-3.6-bioc/tmpdir/Rtmp8CnQSY/R.INSTALL4682f85763e/VariantAnnotation/man/VCF-class.Rd:406: missing file link 'RangedSummarizedExperiment'
VCFHeader-class html
VRanges-class html
Rd warning: C:/Users/biocbuild/bbs-3.6-bioc/tmpdir/Rtmp8CnQSY/R.INSTALL4682f85763e/VariantAnnotation/man/VRanges-class.Rd:81: missing file link 'GRanges'
Rd warning: C:/Users/biocbuild/bbs-3.6-bioc/tmpdir/Rtmp8CnQSY/R.INSTALL4682f85763e/VariantAnnotation/man/VRanges-class.Rd:113: missing file link 'FilterMatrix'
Rd warning: C:/Users/biocbuild/bbs-3.6-bioc/tmpdir/Rtmp8CnQSY/R.INSTALL4682f85763e/VariantAnnotation/man/VRanges-class.Rd:171: missing file link 'FilterMatrix'
Rd warning: C:/Users/biocbuild/bbs-3.6-bioc/tmpdir/Rtmp8CnQSY/R.INSTALL4682f85763e/VariantAnnotation/man/VRanges-class.Rd:174: missing file link 'FilterRules'
Rd warning: C:/Users/biocbuild/bbs-3.6-bioc/tmpdir/Rtmp8CnQSY/R.INSTALL4682f85763e/VariantAnnotation/man/VRanges-class.Rd:191: missing file link 'GenomicRanges'
VRangesList-class html
VariantType-class html
VcfFile-class html
defunct html
Rd warning: C:/Users/biocbuild/bbs-3.6-bioc/tmpdir/Rtmp8CnQSY/R.INSTALL4682f85763e/VariantAnnotation/man/defunct.Rd:89: missing file link 'mapToTranscripts'
filterVcf-methods html
genotypeToSnpMatrix-methods html
Rd warning: C:/Users/biocbuild/bbs-3.6-bioc/tmpdir/Rtmp8CnQSY/R.INSTALL4682f85763e/VariantAnnotation/man/genotypeToSnpMatrix-methods.Rd:85: missing file link 'snpStats'
Rd warning: C:/Users/biocbuild/bbs-3.6-bioc/tmpdir/Rtmp8CnQSY/R.INSTALL4682f85763e/VariantAnnotation/man/genotypeToSnpMatrix-methods.Rd:89: missing file link 'snpStats'
getTranscriptSeqs-methods html
Rd warning: C:/Users/biocbuild/bbs-3.6-bioc/tmpdir/Rtmp8CnQSY/R.INSTALL4682f85763e/VariantAnnotation/man/getTranscriptSeqs-methods.Rd:14: missing file link 'BSgenome'
Rd warning: C:/Users/biocbuild/bbs-3.6-bioc/tmpdir/Rtmp8CnQSY/R.INSTALL4682f85763e/VariantAnnotation/man/getTranscriptSeqs-methods.Rd:15: missing file link 'FaFile'
Rd warning: C:/Users/biocbuild/bbs-3.6-bioc/tmpdir/Rtmp8CnQSY/R.INSTALL4682f85763e/VariantAnnotation/man/getTranscriptSeqs-methods.Rd:25: missing file link 'GRangesList'
Rd warning: C:/Users/biocbuild/bbs-3.6-bioc/tmpdir/Rtmp8CnQSY/R.INSTALL4682f85763e/VariantAnnotation/man/getTranscriptSeqs-methods.Rd:28: missing file link 'BSgenome'
Rd warning: C:/Users/biocbuild/bbs-3.6-bioc/tmpdir/Rtmp8CnQSY/R.INSTALL4682f85763e/VariantAnnotation/man/getTranscriptSeqs-methods.Rd:28: missing file link 'FaFile'
Rd warning: C:/Users/biocbuild/bbs-3.6-bioc/tmpdir/Rtmp8CnQSY/R.INSTALL4682f85763e/VariantAnnotation/man/getTranscriptSeqs-methods.Rd:39: missing file link 'BSgenome'
Rd warning: C:/Users/biocbuild/bbs-3.6-bioc/tmpdir/Rtmp8CnQSY/R.INSTALL4682f85763e/VariantAnnotation/man/getTranscriptSeqs-methods.Rd:39: missing file link 'FaFile'
Rd warning: C:/Users/biocbuild/bbs-3.6-bioc/tmpdir/Rtmp8CnQSY/R.INSTALL4682f85763e/VariantAnnotation/man/getTranscriptSeqs-methods.Rd:45: missing file link 'DNAStringSet'
indexVcf-method html
isSNV-methods html
locateVariants-methods html
Rd warning: C:/Users/biocbuild/bbs-3.6-bioc/tmpdir/Rtmp8CnQSY/R.INSTALL4682f85763e/VariantAnnotation/man/locateVariants-methods.Rd:41: missing file link 'Ranges'
Rd warning: C:/Users/biocbuild/bbs-3.6-bioc/tmpdir/Rtmp8CnQSY/R.INSTALL4682f85763e/VariantAnnotation/man/locateVariants-methods.Rd:41: missing file link 'GRanges'
Rd warning: C:/Users/biocbuild/bbs-3.6-bioc/tmpdir/Rtmp8CnQSY/R.INSTALL4682f85763e/VariantAnnotation/man/locateVariants-methods.Rd:48: missing file link 'TxDb'
Rd warning: C:/Users/biocbuild/bbs-3.6-bioc/tmpdir/Rtmp8CnQSY/R.INSTALL4682f85763e/VariantAnnotation/man/locateVariants-methods.Rd:50: missing file link 'TxDb'
Rd warning: C:/Users/biocbuild/bbs-3.6-bioc/tmpdir/Rtmp8CnQSY/R.INSTALL4682f85763e/VariantAnnotation/man/locateVariants-methods.Rd:83: missing file link 'Hits'
predictCoding-methods html
Rd warning: C:/Users/biocbuild/bbs-3.6-bioc/tmpdir/Rtmp8CnQSY/R.INSTALL4682f85763e/VariantAnnotation/man/predictCoding-methods.Rd:26: missing file link 'Ranges'
Rd warning: C:/Users/biocbuild/bbs-3.6-bioc/tmpdir/Rtmp8CnQSY/R.INSTALL4682f85763e/VariantAnnotation/man/predictCoding-methods.Rd:41: missing file link 'TxDb'
Rd warning: C:/Users/biocbuild/bbs-3.6-bioc/tmpdir/Rtmp8CnQSY/R.INSTALL4682f85763e/VariantAnnotation/man/predictCoding-methods.Rd:43: missing file link 'TxDb'
Rd warning: C:/Users/biocbuild/bbs-3.6-bioc/tmpdir/Rtmp8CnQSY/R.INSTALL4682f85763e/VariantAnnotation/man/predictCoding-methods.Rd:46: missing file link 'BSgenome'
Rd warning: C:/Users/biocbuild/bbs-3.6-bioc/tmpdir/Rtmp8CnQSY/R.INSTALL4682f85763e/VariantAnnotation/man/predictCoding-methods.Rd:49: missing file link 'DNAStringSet'
Rd warning: C:/Users/biocbuild/bbs-3.6-bioc/tmpdir/Rtmp8CnQSY/R.INSTALL4682f85763e/VariantAnnotation/man/predictCoding-methods.Rd:82: missing file link 'BSgenome'
Rd warning: C:/Users/biocbuild/bbs-3.6-bioc/tmpdir/Rtmp8CnQSY/R.INSTALL4682f85763e/VariantAnnotation/man/predictCoding-methods.Rd:103: missing file link 'GRanges'
probabilityToSnpMatrix html
readVcf-methods html
scanVcf-methods html
seqinfo-method html
snpSummary html
summarizeVariants-methods html
Rd warning: C:/Users/biocbuild/bbs-3.6-bioc/tmpdir/Rtmp8CnQSY/R.INSTALL4682f85763e/VariantAnnotation/man/summarizeVariants-methods.Rd:34: missing file link 'TxDb'
Rd warning: C:/Users/biocbuild/bbs-3.6-bioc/tmpdir/Rtmp8CnQSY/R.INSTALL4682f85763e/VariantAnnotation/man/summarizeVariants-methods.Rd:36: missing file link 'TxDb'
writeVcf-methods html
** building package indices
** installing vignettes
** testing if installed package can be loaded
In R CMD INSTALL
install for x64
* installing *source* package 'VariantAnnotation' ...
** libs
C:/Rtools/mingw_64/bin/gcc -I"C:/Users/biocbuild/bbs-3.6-bioc/R/library/zlibbioc/include" -I"C:/Users/BIOCBU˜1/BBS-3˜1.6-B/R/include" -DNDEBUG -D_USE_KNETFILE -DBGZF_CACHE -D_FILE_OFFSET_BITS=64 -D_LARGEFILE64_SOURCE -I"C:/Users/biocbuild/bbs-3.6-bioc/R/library/zlibbioc/include" -I"C:/Users/biocbuild/bbs-3.6-bioc/R/library/S4Vectors/include" -I"C:/Users/biocbuild/bbs-3.6-bioc/R/library/IRanges/include" -I"C:/Users/biocbuild/bbs-3.6-bioc/R/library/XVector/include" -I"C:/Users/biocbuild/bbs-3.6-bioc/R/library/Biostrings/include" -I"C:/Users/biocbuild/bbs-3.6-bioc/R/library/Rsamtools/include" -I"C:/local323/include" -O2 -Wall -std=gnu99 -mtune=generic -c Biostrings_stubs.c -o Biostrings_stubs.o
C:/Rtools/mingw_64/bin/gcc -I"C:/Users/biocbuild/bbs-3.6-bioc/R/library/zlibbioc/include" -I"C:/Users/BIOCBU˜1/BBS-3˜1.6-B/R/include" -DNDEBUG -D_USE_KNETFILE -DBGZF_CACHE -D_FILE_OFFSET_BITS=64 -D_LARGEFILE64_SOURCE -I"C:/Users/biocbuild/bbs-3.6-bioc/R/library/zlibbioc/include" -I"C:/Users/biocbuild/bbs-3.6-bioc/R/library/S4Vectors/include" -I"C:/Users/biocbuild/bbs-3.6-bioc/R/library/IRanges/include" -I"C:/Users/biocbuild/bbs-3.6-bioc/R/library/XVector/include" -I"C:/Users/biocbuild/bbs-3.6-bioc/R/library/Biostrings/include" -I"C:/Users/biocbuild/bbs-3.6-bioc/R/library/Rsamtools/include" -I"C:/local323/include" -O2 -Wall -std=gnu99 -mtune=generic -c IRanges_stubs.c -o IRanges_stubs.o
C:/Rtools/mingw_64/bin/gcc -I"C:/Users/biocbuild/bbs-3.6-bioc/R/library/zlibbioc/include" -I"C:/Users/BIOCBU˜1/BBS-3˜1.6-B/R/include" -DNDEBUG -D_USE_KNETFILE -DBGZF_CACHE -D_FILE_OFFSET_BITS=64 -D_LARGEFILE64_SOURCE -I"C:/Users/biocbuild/bbs-3.6-bioc/R/library/zlibbioc/include" -I"C:/Users/biocbuild/bbs-3.6-bioc/R/library/S4Vectors/include" -I"C:/Users/biocbuild/bbs-3.6-bioc/R/library/IRanges/include" -I"C:/Users/biocbuild/bbs-3.6-bioc/R/library/XVector/include" -I"C:/Users/biocbuild/bbs-3.6-bioc/R/library/Biostrings/include" -I"C:/Users/biocbuild/bbs-3.6-bioc/R/library/Rsamtools/include" -I"C:/local323/include" -O2 -Wall -std=gnu99 -mtune=generic -c R_init_VariantAnnotation.c -o R_init_VariantAnnotation.o
C:/Rtools/mingw_64/bin/gcc -I"C:/Users/biocbuild/bbs-3.6-bioc/R/library/zlibbioc/include" -I"C:/Users/BIOCBU˜1/BBS-3˜1.6-B/R/include" -DNDEBUG -D_USE_KNETFILE -DBGZF_CACHE -D_FILE_OFFSET_BITS=64 -D_LARGEFILE64_SOURCE -I"C:/Users/biocbuild/bbs-3.6-bioc/R/library/zlibbioc/include" -I"C:/Users/biocbuild/bbs-3.6-bioc/R/library/S4Vectors/include" -I"C:/Users/biocbuild/bbs-3.6-bioc/R/library/IRanges/include" -I"C:/Users/biocbuild/bbs-3.6-bioc/R/library/XVector/include" -I"C:/Users/biocbuild/bbs-3.6-bioc/R/library/Biostrings/include" -I"C:/Users/biocbuild/bbs-3.6-bioc/R/library/Rsamtools/include" -I"C:/local323/include" -O2 -Wall -std=gnu99 -mtune=generic -c XVector_stubs.c -o XVector_stubs.o
C:/Rtools/mingw_64/bin/gcc -I"C:/Users/biocbuild/bbs-3.6-bioc/R/library/zlibbioc/include" -I"C:/Users/BIOCBU˜1/BBS-3˜1.6-B/R/include" -DNDEBUG -D_USE_KNETFILE -DBGZF_CACHE -D_FILE_OFFSET_BITS=64 -D_LARGEFILE64_SOURCE -I"C:/Users/biocbuild/bbs-3.6-bioc/R/library/zlibbioc/include" -I"C:/Users/biocbuild/bbs-3.6-bioc/R/library/S4Vectors/include" -I"C:/Users/biocbuild/bbs-3.6-bioc/R/library/IRanges/include" -I"C:/Users/biocbuild/bbs-3.6-bioc/R/library/XVector/include" -I"C:/Users/biocbuild/bbs-3.6-bioc/R/library/Biostrings/include" -I"C:/Users/biocbuild/bbs-3.6-bioc/R/library/Rsamtools/include" -I"C:/local323/include" -O2 -Wall -std=gnu99 -mtune=generic -c dna_hash.c -o dna_hash.o
C:/Rtools/mingw_64/bin/gcc -I"C:/Users/biocbuild/bbs-3.6-bioc/R/library/zlibbioc/include" -I"C:/Users/BIOCBU˜1/BBS-3˜1.6-B/R/include" -DNDEBUG -D_USE_KNETFILE -DBGZF_CACHE -D_FILE_OFFSET_BITS=64 -D_LARGEFILE64_SOURCE -I"C:/Users/biocbuild/bbs-3.6-bioc/R/library/zlibbioc/include" -I"C:/Users/biocbuild/bbs-3.6-bioc/R/library/S4Vectors/include" -I"C:/Users/biocbuild/bbs-3.6-bioc/R/library/IRanges/include" -I"C:/Users/biocbuild/bbs-3.6-bioc/R/library/XVector/include" -I"C:/Users/biocbuild/bbs-3.6-bioc/R/library/Biostrings/include" -I"C:/Users/biocbuild/bbs-3.6-bioc/R/library/Rsamtools/include" -I"C:/local323/include" -O2 -Wall -std=gnu99 -mtune=generic -c rle.c -o rle.o
C:/Rtools/mingw_64/bin/gcc -I"C:/Users/biocbuild/bbs-3.6-bioc/R/library/zlibbioc/include" -I"C:/Users/BIOCBU˜1/BBS-3˜1.6-B/R/include" -DNDEBUG -D_USE_KNETFILE -DBGZF_CACHE -D_FILE_OFFSET_BITS=64 -D_LARGEFILE64_SOURCE -I"C:/Users/biocbuild/bbs-3.6-bioc/R/library/zlibbioc/include" -I"C:/Users/biocbuild/bbs-3.6-bioc/R/library/S4Vectors/include" -I"C:/Users/biocbuild/bbs-3.6-bioc/R/library/IRanges/include" -I"C:/Users/biocbuild/bbs-3.6-bioc/R/library/XVector/include" -I"C:/Users/biocbuild/bbs-3.6-bioc/R/library/Biostrings/include" -I"C:/Users/biocbuild/bbs-3.6-bioc/R/library/Rsamtools/include" -I"C:/local323/include" -O2 -Wall -std=gnu99 -mtune=generic -c strhash.c -o strhash.o
C:/Rtools/mingw_64/bin/gcc -I"C:/Users/biocbuild/bbs-3.6-bioc/R/library/zlibbioc/include" -I"C:/Users/BIOCBU˜1/BBS-3˜1.6-B/R/include" -DNDEBUG -D_USE_KNETFILE -DBGZF_CACHE -D_FILE_OFFSET_BITS=64 -D_LARGEFILE64_SOURCE -I"C:/Users/biocbuild/bbs-3.6-bioc/R/library/zlibbioc/include" -I"C:/Users/biocbuild/bbs-3.6-bioc/R/library/S4Vectors/include" -I"C:/Users/biocbuild/bbs-3.6-bioc/R/library/IRanges/include" -I"C:/Users/biocbuild/bbs-3.6-bioc/R/library/XVector/include" -I"C:/Users/biocbuild/bbs-3.6-bioc/R/library/Biostrings/include" -I"C:/Users/biocbuild/bbs-3.6-bioc/R/library/Rsamtools/include" -I"C:/local323/include" -O2 -Wall -std=gnu99 -mtune=generic -c utilities.c -o utilities.o
C:/Rtools/mingw_64/bin/gcc -I"C:/Users/biocbuild/bbs-3.6-bioc/R/library/zlibbioc/include" -I"C:/Users/BIOCBU˜1/BBS-3˜1.6-B/R/include" -DNDEBUG -D_USE_KNETFILE -DBGZF_CACHE -D_FILE_OFFSET_BITS=64 -D_LARGEFILE64_SOURCE -I"C:/Users/biocbuild/bbs-3.6-bioc/R/library/zlibbioc/include" -I"C:/Users/biocbuild/bbs-3.6-bioc/R/library/S4Vectors/include" -I"C:/Users/biocbuild/bbs-3.6-bioc/R/library/IRanges/include" -I"C:/Users/biocbuild/bbs-3.6-bioc/R/library/XVector/include" -I"C:/Users/biocbuild/bbs-3.6-bioc/R/library/Biostrings/include" -I"C:/Users/biocbuild/bbs-3.6-bioc/R/library/Rsamtools/include" -I"C:/local323/include" -O2 -Wall -std=gnu99 -mtune=generic -c vcffile.c -o vcffile.o
C:/Rtools/mingw_64/bin/gcc -I"C:/Users/biocbuild/bbs-3.6-bioc/R/library/zlibbioc/include" -I"C:/Users/BIOCBU˜1/BBS-3˜1.6-B/R/include" -DNDEBUG -D_USE_KNETFILE -DBGZF_CACHE -D_FILE_OFFSET_BITS=64 -D_LARGEFILE64_SOURCE -I"C:/Users/biocbuild/bbs-3.6-bioc/R/library/zlibbioc/include" -I"C:/Users/biocbuild/bbs-3.6-bioc/R/library/S4Vectors/include" -I"C:/Users/biocbuild/bbs-3.6-bioc/R/library/IRanges/include" -I"C:/Users/biocbuild/bbs-3.6-bioc/R/library/XVector/include" -I"C:/Users/biocbuild/bbs-3.6-bioc/R/library/Biostrings/include" -I"C:/Users/biocbuild/bbs-3.6-bioc/R/library/Rsamtools/include" -I"C:/local323/include" -O2 -Wall -std=gnu99 -mtune=generic -c vcftype.c -o vcftype.o
C:/Rtools/mingw_64/bin/gcc -I"C:/Users/biocbuild/bbs-3.6-bioc/R/library/zlibbioc/include" -I"C:/Users/BIOCBU˜1/BBS-3˜1.6-B/R/include" -DNDEBUG -D_USE_KNETFILE -DBGZF_CACHE -D_FILE_OFFSET_BITS=64 -D_LARGEFILE64_SOURCE -I"C:/Users/biocbuild/bbs-3.6-bioc/R/library/zlibbioc/include" -I"C:/Users/biocbuild/bbs-3.6-bioc/R/library/S4Vectors/include" -I"C:/Users/biocbuild/bbs-3.6-bioc/R/library/IRanges/include" -I"C:/Users/biocbuild/bbs-3.6-bioc/R/library/XVector/include" -I"C:/Users/biocbuild/bbs-3.6-bioc/R/library/Biostrings/include" -I"C:/Users/biocbuild/bbs-3.6-bioc/R/library/Rsamtools/include" -I"C:/local323/include" -O2 -Wall -std=gnu99 -mtune=generic -c writevcf.c -o writevcf.o
C:/Rtools/mingw_64/bin/g++ -shared -s -static-libgcc -o VariantAnnotation.dll tmp.def Biostrings_stubs.o IRanges_stubs.o R_init_VariantAnnotation.o XVector_stubs.o dna_hash.o rle.o strhash.o utilities.o vcffile.o vcftype.o writevcf.o C:/Users/biocbuild/bbs-3.6-bioc/R/library/Rsamtools/usrlib/x64/libbam.a C:/Users/biocbuild/bbs-3.6-bioc/R/library/Rsamtools/usrlib/x64/libbam.a C:/Users/biocbuild/bbs-3.6-bioc/R/library/Rsamtools/usrlib/x64/libbcf.a C:/Users/biocbuild/bbs-3.6-bioc/R/library/Rsamtools/usrlib/x64/libtabix.a -lws2_32 -pthread -LC:/Users/biocbuild/bbs-3.6-bioc/R/library/zlibbioc/libs/x64 -lzlib1bioc -LC:/local323/lib/x64 -LC:/local323/lib -LC:/Users/BIOCBU˜1/BBS-3˜1.6-B/R/bin/x64 -lR
installing to C:/Users/biocbuild/bbs-3.6-bioc/meat/VariantAnnotation.buildbin-libdir/VariantAnnotation/libs/x64
** testing if installed package can be loaded
* MD5 sums
packaged installation of 'VariantAnnotation' as VariantAnnotation_1.24.5.zip
* DONE (VariantAnnotation)
In R CMD INSTALL
In R CMD INSTALL
* installing to library 'C:/Users/biocbuild/bbs-3.6-bioc/R/library'
package 'VariantAnnotation' successfully unpacked and MD5 sums checked
In R CMD INSTALL