| Back to Multiple platform build/check report for BioC 3.6 | 
 | 
This page was generated on 2018-04-12 13:08:42 -0400 (Thu, 12 Apr 2018).
| Package 1384/1472 | Hostname | OS / Arch | INSTALL | BUILD | CHECK | BUILD BIN | ||||||
| TargetSearch 1.34.0 Alvaro Cuadros-Inostroza 
 | malbec1 | Linux (Ubuntu 16.04.1 LTS) / x86_64 | OK | OK | [ OK ] |  | ||||||
| tokay1 | Windows Server 2012 R2 Standard / x64 | OK | OK | WARNINGS | OK |  | ||||||
| veracruz1 | OS X 10.11.6 El Capitan / x86_64 | OK | OK | OK | OK |  | 
| Package: TargetSearch | 
| Version: 1.34.0 | 
| Command: /home/biocbuild/bbs-3.6-bioc/R/bin/R CMD check --no-vignettes --timings TargetSearch_1.34.0.tar.gz | 
| StartedAt: 2018-04-12 03:16:13 -0400 (Thu, 12 Apr 2018) | 
| EndedAt: 2018-04-12 03:17:01 -0400 (Thu, 12 Apr 2018) | 
| EllapsedTime: 48.1 seconds | 
| RetCode: 0 | 
| Status: OK | 
| CheckDir: TargetSearch.Rcheck | 
| Warnings: 0 | 
##############################################################################
##############################################################################
###
### Running command:
###
###   /home/biocbuild/bbs-3.6-bioc/R/bin/R CMD check --no-vignettes --timings TargetSearch_1.34.0.tar.gz
###
##############################################################################
##############################################################################
* using log directory ‘/home/biocbuild/bbs-3.6-bioc/meat/TargetSearch.Rcheck’
* using R version 3.4.4 (2018-03-15)
* using platform: x86_64-pc-linux-gnu (64-bit)
* using session charset: UTF-8
* using option ‘--no-vignettes’
* checking for file ‘TargetSearch/DESCRIPTION’ ... OK
* checking extension type ... Package
* this is package ‘TargetSearch’ version ‘1.34.0’
* checking package namespace information ... OK
* checking package dependencies ... OK
* checking if this is a source package ... OK
* checking if there is a namespace ... OK
* checking for hidden files and directories ... NOTE
Found the following hidden files and directories:
  .BBSoptions
These were most likely included in error. See section ‘Package
structure’ in the ‘Writing R Extensions’ manual.
* checking for portable file names ... OK
* checking for sufficient/correct file permissions ... OK
* checking whether package ‘TargetSearch’ can be installed ... OK
* checking installed package size ... OK
* checking package directory ... OK
* checking ‘build’ directory ... OK
* checking DESCRIPTION meta-information ... OK
* checking top-level files ... OK
* checking for left-over files ... OK
* checking index information ... OK
* checking package subdirectories ... OK
* checking R files for non-ASCII characters ... OK
* checking R files for syntax errors ... OK
* checking whether the package can be loaded ... OK
* checking whether the package can be loaded with stated dependencies ... OK
* checking whether the package can be unloaded cleanly ... OK
* checking whether the namespace can be loaded with stated dependencies ... OK
* checking whether the namespace can be unloaded cleanly ... OK
* checking dependencies in R code ... OK
* checking S3 generic/method consistency ... OK
* checking replacement functions ... OK
* checking foreign function calls ... OK
* checking R code for possible problems ... NOTE
ProfileCleanUp: no visible global function definition for ‘as.dist’
plotPeak: no visible global function definition for ‘mtext’
plotPeak: no visible global function definition for ‘rect’
plotPeak: no visible global function definition for ‘gray’
plotPeak: no visible global function definition for ‘matlines’
Undefined global functions or variables:
  as.dist gray matlines mtext rect
Consider adding
  importFrom("grDevices", "gray")
  importFrom("graphics", "matlines", "mtext", "rect")
  importFrom("stats", "as.dist")
to your NAMESPACE file.
* checking Rd files ... OK
* checking Rd metadata ... OK
* checking Rd cross-references ... OK
* checking for missing documentation entries ... OK
* checking for code/documentation mismatches ... OK
* checking Rd \usage sections ... OK
* checking Rd contents ... OK
* checking for unstated dependencies in examples ... OK
* checking line endings in C/C++/Fortran sources/headers ... OK
* checking compiled code ... OK
* checking installed files from ‘inst/doc’ ... OK
* checking files in ‘vignettes’ ... OK
* checking examples ... OK
Examples with CPU or elapsed time > 5s
           user system elapsed
RIcorrect 8.076  0.292   8.782
* checking for unstated dependencies in vignettes ... OK
* checking package vignettes in ‘inst/doc’ ... OK
* checking running R code from vignettes ... SKIPPED
* checking re-building of vignette outputs ... SKIPPED
* checking PDF version of manual ... OK
* DONE
Status: 2 NOTEs
See
  ‘/home/biocbuild/bbs-3.6-bioc/meat/TargetSearch.Rcheck/00check.log’
for details.
TargetSearch.Rcheck/00install.out
* installing *source* package ‘TargetSearch’ ... ** libs gcc -I/home/biocbuild/bbs-3.6-bioc/R/include -DNDEBUG -I/usr/local/include -fpic -g -O2 -Wall -c Rinit.c -o Rinit.o gcc -I/home/biocbuild/bbs-3.6-bioc/R/include -DNDEBUG -I/usr/local/include -fpic -g -O2 -Wall -c file.c -o file.o gcc -I/home/biocbuild/bbs-3.6-bioc/R/include -DNDEBUG -I/usr/local/include -fpic -g -O2 -Wall -c find_peaks.c -o find_peaks.o gcc -I/home/biocbuild/bbs-3.6-bioc/R/include -DNDEBUG -I/usr/local/include -fpic -g -O2 -Wall -c getLine.c -o getLine.o gcc -I/home/biocbuild/bbs-3.6-bioc/R/include -DNDEBUG -I/usr/local/include -fpic -g -O2 -Wall -c hpf.c -o hpf.o gcc -I/home/biocbuild/bbs-3.6-bioc/R/include -DNDEBUG -I/usr/local/include -fpic -g -O2 -Wall -c ncdf.c -o ncdf.o gcc -I/home/biocbuild/bbs-3.6-bioc/R/include -DNDEBUG -I/usr/local/include -fpic -g -O2 -Wall -c netcdf_peak_finding.c -o netcdf_peak_finding.o gcc -I/home/biocbuild/bbs-3.6-bioc/R/include -DNDEBUG -I/usr/local/include -fpic -g -O2 -Wall -c peakExtraction.c -o peakExtraction.o gcc -I/home/biocbuild/bbs-3.6-bioc/R/include -DNDEBUG -I/usr/local/include -fpic -g -O2 -Wall -c ppc.c -o ppc.o g++ -shared -L/home/biocbuild/bbs-3.6-bioc/R/lib -L/usr/local/lib -o TargetSearch.so Rinit.o file.o find_peaks.o getLine.o hpf.o ncdf.o netcdf_peak_finding.o peakExtraction.o ppc.o -L/home/biocbuild/bbs-3.6-bioc/R/lib -lR installing to /home/biocbuild/bbs-3.6-bioc/meat/TargetSearch.Rcheck/TargetSearch/libs ** R ** inst ** preparing package for lazy loading ** help *** installing help indices ** building package indices ** installing vignettes ** testing if installed package can be loaded * DONE (TargetSearch)
TargetSearch.Rcheck/TargetSearch-Ex.timings
| name | user | system | elapsed | |
| FAMEoutliers | 0.084 | 0.008 | 0.126 | |
| FindPeaks | 0.240 | 0.000 | 0.251 | |
| ImportFameSettings | 0.008 | 0.000 | 0.008 | |
| ImportLibrary | 0.012 | 0.000 | 0.012 | |
| ImportSamples | 0.000 | 0.000 | 0.003 | |
| NetCDFPeakFinding | 0.972 | 0.044 | 1.066 | |
| Profile | 1.196 | 0.028 | 1.228 | |
| ProfileCleanUp | 0.948 | 0.040 | 0.985 | |
| RIcorrect | 8.076 | 0.292 | 8.782 | |
| fixRI | 0.788 | 0.020 | 0.807 | |
| medianRILib | 0.456 | 0.000 | 0.457 | |
| peakFind | 0.228 | 0.008 | 0.237 | |
| plotFAME | 0.012 | 0.000 | 0.011 | |
| plotPeak | 0.136 | 0.012 | 0.151 | |
| plotPeakSimple | 0.300 | 0.016 | 0.317 | |
| plotRIdev | 0.376 | 0.016 | 0.390 | |
| plotSpectra | 0.240 | 0.000 | 0.241 | |
| quantMatrix | 0.836 | 0.012 | 0.848 | |
| ri2rt | 0.008 | 0.000 | 0.008 | |
| riMatrix | 0.672 | 0.028 | 0.699 | |
| rt2ri | 0.004 | 0.000 | 0.004 | |
| sampleRI | 0.504 | 0.024 | 0.525 | |
| tsLib-class | 0.008 | 0.000 | 0.008 | |
| tsMSdata-class | 0 | 0 | 0 | |
| tsProfile-class | 0.000 | 0.000 | 0.001 | |
| tsRim-class | 0.004 | 0.000 | 0.002 | |
| tsSample-class | 0.028 | 0.000 | 0.029 | |
| writeLibText | 0.016 | 0.004 | 0.023 | |