This page was generated on 2018-04-12 13:11:28 -0400 (Thu, 12 Apr 2018).
| TCC 1.18.0 Jianqiang Sun
 
 
| Snapshot Date: 2018-04-11 16:45:18 -0400 (Wed, 11 Apr 2018) |  | URL: https://git.bioconductor.org/packages/TCC |  | Branch: RELEASE_3_6 |  | Last Commit: d13750f |  | Last Changed Date: 2017-10-30 12:40:07 -0400 (Mon, 30 Oct 2017) |  | malbec1 | Linux (Ubuntu 16.04.1 LTS) / x86_64 | OK | OK | [ OK ] |  |  | 
| tokay1 | Windows Server 2012 R2 Standard / x64 | OK | OK | WARNINGS | OK |  | 
| veracruz1 | OS X 10.11.6 El Capitan / x86_64 | OK | OK | OK | OK |  | 
R version 3.4.4 (2018-03-15) -- "Someone to Lean On"
Copyright (C) 2018 The R Foundation for Statistical Computing
Platform: x86_64-pc-linux-gnu (64-bit)
R is free software and comes with ABSOLUTELY NO WARRANTY.
You are welcome to redistribute it under certain conditions.
Type 'license()' or 'licence()' for distribution details.
R is a collaborative project with many contributors.
Type 'contributors()' for more information and
'citation()' on how to cite R or R packages in publications.
Type 'demo()' for some demos, 'help()' for on-line help, or
'help.start()' for an HTML browser interface to help.
Type 'q()' to quit R.
> BiocGenerics:::testPackage("TCC")
Attaching package: 'BiocGenerics'
The following objects are masked from 'package:parallel':
    clusterApply, clusterApplyLB, clusterCall, clusterEvalQ,
    clusterExport, clusterMap, parApply, parCapply, parLapply,
    parLapplyLB, parRapply, parSapply, parSapplyLB
The following objects are masked from 'package:stats':
    IQR, mad, sd, var, xtabs
The following objects are masked from 'package:base':
    Filter, Find, Map, Position, Reduce, anyDuplicated, append,
    as.data.frame, cbind, colMeans, colSums, colnames, do.call,
    duplicated, eval, evalq, get, grep, grepl, intersect, is.unsorted,
    lapply, lengths, mapply, match, mget, order, paste, pmax, pmax.int,
    pmin, pmin.int, rank, rbind, rowMeans, rowSums, rownames, sapply,
    setdiff, sort, table, tapply, union, unique, unsplit, which,
    which.max, which.min
Welcome to Bioconductor
    Vignettes contain introductory material; view with
    'browseVignettes()'. To cite Bioconductor, see
    'citation("Biobase")', and for packages 'citation("pkgname")'.
locfit 1.5-9.1 	 2013-03-22
    Welcome to 'DESeq'. For improved performance, usability and
    functionality, please consider migrating to 'DESeq2'.
Attaching package: 'S4Vectors'
The following object is masked from 'package:base':
    expand.grid
Attaching package: 'matrixStats'
The following objects are masked from 'package:Biobase':
    anyMissing, rowMedians
Attaching package: 'DelayedArray'
The following objects are masked from 'package:matrixStats':
    colMaxs, colMins, colRanges, rowMaxs, rowMins, rowRanges
The following object is masked from 'package:base':
    apply
Attaching package: 'DESeq2'
The following objects are masked from 'package:DESeq':
    estimateSizeFactorsForMatrix, getVarianceStabilizedData,
    varianceStabilizingTransformation
Attaching package: 'limma'
The following object is masked from 'package:DESeq2':
    plotMA
The following object is masked from 'package:DESeq':
    plotMA
The following object is masked from 'package:BiocGenerics':
    plotMA
Attaching package: 'TCC'
The following object is masked from 'package:edgeR':
    calcNormFactors
TCC::INFO: Identifying DE genes using wad ...
TCC::INFO: Done.
TCC::INFO: Identifying DE genes using wad ...
TCC::INFO: Done.
TCC::INFO: Calculating normalization factors using tmm ...
TCC::INFO: Done.
TCC::INFO: Calculating normalization factors using DEGES
TCC::INFO: (iDEGES pipeline : tmm - [ edger - tmm ] X 1 )
TCC::INFO: Done.
TCC::INFO: Calculating normalization factors using DEGES
TCC::INFO: (iDEGES pipeline : tmm - [ edger - tmm ] X 1 )
TCC::INFO: Done.
TCC::INFO: Calculating normalization factors using DEGES
TCC::INFO: (iDEGES pipeline : tmm - [ edger - tmm ] X 3 )
TCC::INFO: Done.
TCC::INFO: Calculating normalization factors using DEGES
TCC::INFO: (iDEGES pipeline : tmm - [ edger - tmm ] X 1 )
TCC::INFO: Done.
TCC::INFO: Calculating normalization factors using DEGES
TCC::INFO: (iDEGES pipeline : tmm - [ edger - tmm ] X 2 )
TCC::INFO: Done.
TCC::INFO: Calculating normalization factors using DEGES
TCC::INFO: (iDEGES pipeline : tmm - [ edger - tmm ] X 3 )
TCC::INFO: Done.
TCC::INFO: Calculating normalization factors using DEGES
TCC::INFO: (iDEGES pipeline : tmm - [ edger - tmm ] X 1 )
TCC::INFO: Done.
TCC::INFO: Calculating normalization factors using DEGES
TCC::INFO: (iDEGES pipeline : tmm - [ edger - tmm ] X 3 )
TCC::INFO: Done.
TCC::INFO: Generating simulation data under NB distribution ...
TCC::INFO: (genesizes   :  1000 )
TCC::INFO: (replicates  :  3, 3 )
TCC::INFO: (PDEG        :  0.16, 0.04 )
TCC::INFO: Calculating normalization factors using DEGES
TCC::INFO: (iDEGES pipeline : tmm - [ bayseq - tmm ] X 1 )
TCC::INFO: Done.
TCC::INFO: Calculating normalization factors using DEGES
TCC::INFO: (iDEGES pipeline : deseq - [ bayseq - deseq ] X 1 )
TCC::INFO: Done.
TCC::INFO: Calculating normalization factors using DEGES
TCC::INFO: (iDEGES pipeline : deseq2 - [ bayseq - deseq2 ] X 1 )
TCC::INFO: Done.
TCC::INFO: Identifying DE genes using bayseq ...
TCC::INFO: Done.
NA in cutpts forces recomputation using smallest gap
[1] 0.7357281
NA in cutpts forces recomputation using smallest gap
TCC::INFO: Calculating normalization factors using DEGES
TCC::INFO: (iDEGES pipeline : tmm - [ deseq - tmm ] X 1 )
TCC::INFO: Done.
TCC::INFO: Calculating normalization factors using DEGES
TCC::INFO: (iDEGES pipeline : deseq - [ deseq - deseq ] X 1 )
TCC::INFO: Done.
TCC::INFO: Calculating normalization factors using DEGES
TCC::INFO: (iDEGES pipeline : deseq2 - [ deseq - deseq2 ] X 1 )
TCC::INFO: Done.
TCC::INFO: Identifying DE genes using deseq ...
TCC::INFO: Done.
NA in cutpts forces recomputation using smallest gap
[1] 0.8601875
NA in cutpts forces recomputation using smallest gap
TCC::INFO: Calculating normalization factors using DEGES
TCC::INFO: (iDEGES pipeline : tmm - [ deseq2 - tmm ] X 1 )
TCC::INFO: Done.
TCC::INFO: Calculating normalization factors using DEGES
TCC::INFO: (iDEGES pipeline : deseq - [ deseq2 - deseq ] X 1 )
TCC::INFO: Done.
TCC::INFO: Calculating normalization factors using DEGES
TCC::INFO: (iDEGES pipeline : deseq2 - [ deseq2 - deseq2 ] X 1 )
TCC::INFO: Done.
TCC::INFO: Identifying DE genes using deseq2 ...
TCC::INFO: Done.
NA in cutpts forces recomputation using smallest gap
[1] 0.8598469
NA in cutpts forces recomputation using smallest gap
TCC::INFO: Calculating normalization factors using DEGES
TCC::INFO: (iDEGES pipeline : tmm - [ edger - tmm ] X 1 )
TCC::INFO: Done.
TCC::INFO: Calculating normalization factors using DEGES
TCC::INFO: (iDEGES pipeline : deseq - [ edger - deseq ] X 1 )
TCC::INFO: Done.
TCC::INFO: Calculating normalization factors using DEGES
TCC::INFO: (iDEGES pipeline : deseq2 - [ edger - deseq2 ] X 1 )
TCC::INFO: Done.
TCC::INFO: Identifying DE genes using edger ...
TCC::INFO: Done.
NA in cutpts forces recomputation using smallest gap
[1] 0.8734937
NA in cutpts forces recomputation using smallest gap
TCC::INFO: Calculating normalization factors using DEGES
TCC::INFO: (iDEGES pipeline : tmm - [ samseq - tmm ] X 1 )
TCC::INFO: TCC does not use the normalization factors when 'test.method = "samseq"'.
TCC::INFO: Done.
TCC::INFO: Calculating normalization factors using DEGES
TCC::INFO: (iDEGES pipeline : deseq - [ samseq - deseq ] X 1 )
TCC::INFO: TCC does not use the normalization factors when 'test.method = "samseq"'.
TCC::INFO: Done.
TCC::INFO: Calculating normalization factors using DEGES
TCC::INFO: (iDEGES pipeline : deseq2 - [ samseq - deseq2 ] X 1 )
TCC::INFO: TCC does not use the normalization factors when 'test.method = "samseq"'.
TCC::INFO: Done.
TCC::INFO: Identifying DE genes using samseq ...
TCC::INFO: TCC does not use the normalization factors when 'test.method = "samseq"'.
TCC::INFO: Done.
NA in cutpts forces recomputation using smallest gap
[1] 0.8271812
NA in cutpts forces recomputation using smallest gap
TCC::INFO: Calculating normalization factors using DEGES
TCC::INFO: (iDEGES pipeline : tmm - [ voom - tmm ] X 1 )
TCC::INFO: Done.
TCC::INFO: Calculating normalization factors using DEGES
TCC::INFO: (iDEGES pipeline : deseq - [ voom - deseq ] X 1 )
TCC::INFO: Done.
TCC::INFO: Calculating normalization factors using DEGES
TCC::INFO: (iDEGES pipeline : deseq2 - [ voom - deseq2 ] X 1 )
TCC::INFO: Done.
TCC::INFO: Identifying DE genes using voom ...
TCC::INFO: Done.
NA in cutpts forces recomputation using smallest gap
[1] 0.8310656
NA in cutpts forces recomputation using smallest gap
TCC::INFO: Generating simulation data under NB distribution ...
TCC::INFO: (genesizes   :  1000 )
TCC::INFO: (replicates  :  1, 1 )
TCC::INFO: (PDEG        :  0.16, 0.04 )
TCC::INFO: Calculating normalization factors using DEGES
TCC::INFO: (iDEGES pipeline : tmm - [ bayseq - tmm ] X 1 )
TCC::INFO: Done.
TCC::INFO: Calculating normalization factors using DEGES
TCC::INFO: (iDEGES pipeline : deseq - [ bayseq - deseq ] X 1 )
TCC::INFO: Done.
TCC::INFO: Calculating normalization factors using DEGES
TCC::INFO: (iDEGES pipeline : deseq2 - [ bayseq - deseq2 ] X 1 )
TCC::INFO: Done.
TCC::INFO: Identifying DE genes using bayseq ...
TCC::INFO: Done.
NA in cutpts forces recomputation using smallest gap
[1] 0.7277
NA in cutpts forces recomputation using smallest gap
TCC::INFO: Calculating normalization factors using DEGES
TCC::INFO: (iDEGES pipeline : tmm - [ deseq - tmm ] X 1 )
Error in .local(object, ...) : 
  None of your conditions is replicated. Use method='blind' to estimate across conditions, or 'pooled-CR', if you have crossed factors.
In addition: Warning messages:
1: In .local(object, ...) :
  in estimateDispersions: Ignoring extra argument(s).
2: In .local(object, ...) :
  in estimateDispersions: Ignoring extra argument(s).
3: In .local(object, ...) :
  in estimateDispersions: Ignoring extra argument(s).
4: In .local(object, ...) :
  in estimateDispersions: Ignoring extra argument(s).
TCC::INFO: Calculating normalization factors using DEGES
TCC::INFO: (iDEGES pipeline : tmm - [ deseq - tmm ] X 1 )
TCC::INFO: Done.
TCC::INFO: Calculating normalization factors using DEGES
TCC::INFO: (iDEGES pipeline : deseq - [ deseq - deseq ] X 1 )
Error in .local(object, ...) : 
  None of your conditions is replicated. Use method='blind' to estimate across conditions, or 'pooled-CR', if you have crossed factors.
In addition: Warning messages:
1: In .local(object, ...) :
  in estimateDispersions: Ignoring extra argument(s).
2: In .local(object, ...) :
  in estimateDispersions: Ignoring extra argument(s).
TCC::INFO: Calculating normalization factors using DEGES
TCC::INFO: (iDEGES pipeline : deseq - [ deseq - deseq ] X 1 )
TCC::INFO: Done.
TCC::INFO: Calculating normalization factors using DEGES
TCC::INFO: (iDEGES pipeline : deseq2 - [ deseq - deseq2 ] X 1 )
Error in .local(object, ...) : 
  None of your conditions is replicated. Use method='blind' to estimate across conditions, or 'pooled-CR', if you have crossed factors.
In addition: Warning messages:
1: In .local(object, ...) :
  in estimateDispersions: Ignoring extra argument(s).
2: In .local(object, ...) :
  in estimateDispersions: Ignoring extra argument(s).
TCC::INFO: Calculating normalization factors using DEGES
TCC::INFO: (iDEGES pipeline : deseq2 - [ deseq - deseq2 ] X 1 )
TCC::INFO: Done.
TCC::INFO: Identifying DE genes using deseq ...
TCC::INFO: Done.
NA in cutpts forces recomputation using smallest gap
[1] 0.7830125
NA in cutpts forces recomputation using smallest gap
TCC::INFO: Calculating normalization factors using DEGES
TCC::INFO: (iDEGES pipeline : tmm - [ deseq2 - tmm ] X 1 )
TCC::INFO: Done.
TCC::INFO: Calculating normalization factors using DEGES
TCC::INFO: (iDEGES pipeline : deseq - [ deseq2 - deseq ] X 1 )
TCC::INFO: Done.
TCC::INFO: Calculating normalization factors using DEGES
TCC::INFO: (iDEGES pipeline : deseq2 - [ deseq2 - deseq2 ] X 1 )
TCC::INFO: Done.
TCC::INFO: Identifying DE genes using deseq2 ...
TCC::INFO: Done.
NA in cutpts forces recomputation using smallest gap
[1] 0.8018062
NA in cutpts forces recomputation using smallest gap
TCC::INFO: Calculating normalization factors using DEGES
TCC::INFO: (iDEGES pipeline : tmm - [ edger - tmm ] X 1 )
TCC::INFO: Done.
TCC::INFO: Calculating normalization factors using DEGES
TCC::INFO: (iDEGES pipeline : deseq - [ edger - deseq ] X 1 )
TCC::INFO: Done.
TCC::INFO: Calculating normalization factors using DEGES
TCC::INFO: (iDEGES pipeline : deseq2 - [ edger - deseq2 ] X 1 )
TCC::INFO: Done.
TCC::INFO: Identifying DE genes using edger ...
TCC::INFO: Done.
NA in cutpts forces recomputation using smallest gap
[1] 0.7875406
NA in cutpts forces recomputation using smallest gap
TCC::INFO: Generating simulation data under NB distribution ...
TCC::INFO: (genesizes   :  1000 )
TCC::INFO: (samples     :  8 )
TCC::INFO: (factors     :  2 )
TCC::INFO: (PDEG        :  0.1 )
TCC::INFO: Calculating normalization factors using DEGES
TCC::INFO: (iDEGES pipeline : tmm - [ bayseq - tmm ] X 1 )
TCC::INFO: Done.
TCC::INFO: Calculating normalization factors using DEGES
TCC::INFO: (iDEGES pipeline : deseq - [ bayseq - deseq ] X 1 )
TCC::INFO: Done.
TCC::INFO: Calculating normalization factors using DEGES
TCC::INFO: (iDEGES pipeline : deseq2 - [ bayseq - deseq2 ] X 1 )
TCC::INFO: Done.
TCC::INFO: Identifying DE genes using bayseq ...
TCC::INFO: Done.
NA in cutpts forces recomputation using smallest gap
[1] 0.8155056
NA in cutpts forces recomputation using smallest gap
TCC::INFO: Calculating normalization factors using DEGES
TCC::INFO: (iDEGES pipeline : tmm - [ deseq - tmm ] X 1 )
Error in .local(object, ...) : 
  None of your conditions is replicated. Use method='blind' to estimate across conditions, or 'pooled-CR', if you have crossed factors.
In addition: Warning messages:
1: In .local(object, ...) :
  in estimateDispersions: Ignoring extra argument(s).
2: In checkForExperimentalReplicates(object, modelMatrix) :
  same number of samples and coefficients to fit,
  estimating dispersion by treating samples as replicates.
  please read the ?DESeq section on 'Experiments without replicates'.
  in summary: this analysis only potentially useful for data exploration,
  accurate differential expression analysis requires replication
3: In checkForExperimentalReplicates(object, modelMatrix) :
  same number of samples and coefficients to fit,
  estimating dispersion by treating samples as replicates.
  please read the ?DESeq section on 'Experiments without replicates'.
  in summary: this analysis only potentially useful for data exploration,
  accurate differential expression analysis requires replication
4: In checkForExperimentalReplicates(object, modelMatrix) :
  same number of samples and coefficients to fit,
  estimating dispersion by treating samples as replicates.
  please read the ?DESeq section on 'Experiments without replicates'.
  in summary: this analysis only potentially useful for data exploration,
  accurate differential expression analysis requires replication
5: In checkForExperimentalReplicates(object, modelMatrix) :
  same number of samples and coefficients to fit,
  estimating dispersion by treating samples as replicates.
  please read the ?DESeq section on 'Experiments without replicates'.
  in summary: this analysis only potentially useful for data exploration,
  accurate differential expression analysis requires replication
6: In .local(object, ...) :
  in estimateDispersions: Ignoring extra argument(s).
TCC::INFO: Calculating normalization factors using DEGES
TCC::INFO: (iDEGES pipeline : tmm - [ deseq - tmm ] X 1 )
TCC::INFO: Done.
TCC::INFO: Calculating normalization factors using DEGES
TCC::INFO: (iDEGES pipeline : deseq - [ deseq - deseq ] X 1 )
Error in .local(object, ...) : 
  None of your conditions is replicated. Use method='blind' to estimate across conditions, or 'pooled-CR', if you have crossed factors.
In addition: There were 39 warnings (use warnings() to see them)
TCC::INFO: Calculating normalization factors using DEGES
TCC::INFO: (iDEGES pipeline : deseq - [ deseq - deseq ] X 1 )
TCC::INFO: Done.
TCC::INFO: Calculating normalization factors using DEGES
TCC::INFO: (iDEGES pipeline : deseq2 - [ deseq - deseq2 ] X 1 )
Error in .local(object, ...) : 
  None of your conditions is replicated. Use method='blind' to estimate across conditions, or 'pooled-CR', if you have crossed factors.
In addition: There were 39 warnings (use warnings() to see them)
TCC::INFO: Calculating normalization factors using DEGES
TCC::INFO: (iDEGES pipeline : deseq2 - [ deseq - deseq2 ] X 1 )
TCC::INFO: Done.
TCC::INFO: Identifying DE genes using deseq ...
TCC::INFO: Done.
NA in cutpts forces recomputation using smallest gap
[1] 0.9104667
NA in cutpts forces recomputation using smallest gap
TCC::INFO: Calculating normalization factors using DEGES
TCC::INFO: (iDEGES pipeline : tmm - [ deseq2 - tmm ] X 1 )
TCC::INFO: Done.
TCC::INFO: Calculating normalization factors using DEGES
TCC::INFO: (iDEGES pipeline : deseq - [ deseq2 - deseq ] X 1 )
TCC::INFO: Done.
TCC::INFO: Calculating normalization factors using DEGES
TCC::INFO: (iDEGES pipeline : deseq2 - [ deseq2 - deseq2 ] X 1 )
TCC::INFO: Done.
TCC::INFO: Identifying DE genes using deseq2 ...
TCC::INFO: Done.
NA in cutpts forces recomputation using smallest gap
[1] 0.8982222
NA in cutpts forces recomputation using smallest gap
TCC::INFO: Calculating normalization factors using DEGES
TCC::INFO: (iDEGES pipeline : tmm - [ edger - tmm ] X 1 )
TCC::INFO: Done.
TCC::INFO: Calculating normalization factors using DEGES
TCC::INFO: (iDEGES pipeline : deseq - [ edger - deseq ] X 1 )
TCC::INFO: Done.
TCC::INFO: Calculating normalization factors using DEGES
TCC::INFO: (iDEGES pipeline : deseq2 - [ edger - deseq2 ] X 1 )
TCC::INFO: Done.
TCC::INFO: Identifying DE genes using edger ...
TCC::INFO: Done.
NA in cutpts forces recomputation using smallest gap
[1] 0.9163889
NA in cutpts forces recomputation using smallest gap
TCC::INFO: Calculating normalization factors using DEGES
TCC::INFO: (iDEGES pipeline : tmm - [ samseq - tmm ] X 1 )
TCC::INFO: TCC does not use the normalization factors when 'test.method = "samseq"'.
TCC::INFO: Done.
TCC::INFO: Calculating normalization factors using DEGES
TCC::INFO: (iDEGES pipeline : deseq - [ samseq - deseq ] X 1 )
TCC::INFO: TCC does not use the normalization factors when 'test.method = "samseq"'.
TCC::INFO: Done.
TCC::INFO: Calculating normalization factors using DEGES
TCC::INFO: (iDEGES pipeline : deseq2 - [ samseq - deseq2 ] X 1 )
TCC::INFO: TCC does not use the normalization factors when 'test.method = "samseq"'.
TCC::INFO: Done.
TCC::INFO: Identifying DE genes using samseq ...
TCC::INFO: TCC does not use the normalization factors when 'test.method = "samseq"'.
TCC::INFO: Done.
NA in cutpts forces recomputation using smallest gap
[1] 0.8867833
NA in cutpts forces recomputation using smallest gap
TCC::INFO: Calculating normalization factors using DEGES
TCC::INFO: (iDEGES pipeline : tmm - [ voom - tmm ] X 1 )
TCC::INFO: Done.
TCC::INFO: Calculating normalization factors using DEGES
TCC::INFO: (iDEGES pipeline : deseq - [ voom - deseq ] X 1 )
TCC::INFO: Done.
TCC::INFO: Calculating normalization factors using DEGES
TCC::INFO: (iDEGES pipeline : deseq2 - [ voom - deseq2 ] X 1 )
TCC::INFO: Done.
TCC::INFO: Identifying DE genes using voom ...
TCC::INFO: Done.
NA in cutpts forces recomputation using smallest gap
[1] 0.8745556
NA in cutpts forces recomputation using smallest gap
TCC::INFO: Generating simulation data under NB distribution ...
TCC::INFO: (genesizes   :  1000 )
TCC::INFO: (replicates  :  3, 3, 3 )
TCC::INFO: (PDEG        :  0.12, 0.04, 0.04 )
TCC::INFO: Calculating normalization factors using DEGES
TCC::INFO: (iDEGES pipeline : tmm - [ bayseq - tmm ] X 1 )
TCC::INFO: Done.
TCC::INFO: Calculating normalization factors using DEGES
TCC::INFO: (iDEGES pipeline : deseq - [ bayseq - deseq ] X 1 )
TCC::INFO: Done.
TCC::INFO: Calculating normalization factors using DEGES
TCC::INFO: (iDEGES pipeline : deseq2 - [ bayseq - deseq2 ] X 1 )
TCC::INFO: Done.
TCC::INFO: Identifying DE genes using bayseq ...
TCC::INFO: Done.
NA in cutpts forces recomputation using smallest gap
[1] 0.5912875
NA in cutpts forces recomputation using smallest gap
TCC::INFO: Calculating normalization factors using DEGES
TCC::INFO: (iDEGES pipeline : tmm - [ deseq - tmm ] X 1 )
TCC::INFO: Done.
TCC::INFO: Calculating normalization factors using DEGES
TCC::INFO: (iDEGES pipeline : deseq - [ deseq - deseq ] X 1 )
TCC::INFO: Done.
TCC::INFO: Calculating normalization factors using DEGES
TCC::INFO: (iDEGES pipeline : deseq2 - [ deseq - deseq2 ] X 1 )
TCC::INFO: Done.
TCC::INFO: Identifying DE genes using deseq ...
TCC::INFO: Done.
NA in cutpts forces recomputation using smallest gap
[1] 0.9232125
NA in cutpts forces recomputation using smallest gap
TCC::INFO: Calculating normalization factors using DEGES
TCC::INFO: (iDEGES pipeline : tmm - [ deseq2 - tmm ] X 1 )
TCC::INFO: Done.
TCC::INFO: Calculating normalization factors using DEGES
TCC::INFO: (iDEGES pipeline : deseq - [ deseq2 - deseq ] X 1 )
TCC::INFO: Done.
TCC::INFO: Calculating normalization factors using DEGES
TCC::INFO: (iDEGES pipeline : deseq2 - [ deseq2 - deseq2 ] X 1 )
TCC::INFO: Done.
TCC::INFO: Identifying DE genes using deseq2 ...
TCC::INFO: Done.
NA in cutpts forces recomputation using smallest gap
[1] 0.9033875
NA in cutpts forces recomputation using smallest gap
TCC::INFO: Calculating normalization factors using DEGES
TCC::INFO: (iDEGES pipeline : tmm - [ edger - tmm ] X 1 )
TCC::INFO: Done.
TCC::INFO: Calculating normalization factors using DEGES
TCC::INFO: (iDEGES pipeline : deseq - [ edger - deseq ] X 1 )
TCC::INFO: Done.
TCC::INFO: Calculating normalization factors using DEGES
TCC::INFO: (iDEGES pipeline : deseq2 - [ edger - deseq2 ] X 1 )
TCC::INFO: Done.
TCC::INFO: Identifying DE genes using edger ...
TCC::INFO: Done.
NA in cutpts forces recomputation using smallest gap
[1] 0.9360625
NA in cutpts forces recomputation using smallest gap
TCC::INFO: Calculating normalization factors using DEGES
TCC::INFO: (iDEGES pipeline : tmm - [ samseq - tmm ] X 1 )
TCC::INFO: TCC does not use the normalization factors when 'test.method = "samseq"'.
TCC::INFO: Done.
TCC::INFO: Calculating normalization factors using DEGES
TCC::INFO: (iDEGES pipeline : deseq - [ samseq - deseq ] X 1 )
TCC::INFO: TCC does not use the normalization factors when 'test.method = "samseq"'.
TCC::INFO: Done.
TCC::INFO: Calculating normalization factors using DEGES
TCC::INFO: (iDEGES pipeline : deseq2 - [ samseq - deseq2 ] X 1 )
TCC::INFO: TCC does not use the normalization factors when 'test.method = "samseq"'.
TCC::INFO: Done.
TCC::INFO: Identifying DE genes using samseq ...
TCC::INFO: TCC does not use the normalization factors when 'test.method = "samseq"'.
TCC::INFO: Done.
NA in cutpts forces recomputation using smallest gap
[1] 0.8705156
NA in cutpts forces recomputation using smallest gap
TCC::INFO: Calculating normalization factors using DEGES
TCC::INFO: (iDEGES pipeline : tmm - [ voom - tmm ] X 1 )
TCC::INFO: Done.
TCC::INFO: Calculating normalization factors using DEGES
TCC::INFO: (iDEGES pipeline : deseq - [ voom - deseq ] X 1 )
TCC::INFO: Done.
TCC::INFO: Calculating normalization factors using DEGES
TCC::INFO: (iDEGES pipeline : deseq2 - [ voom - deseq2 ] X 1 )
TCC::INFO: Done.
TCC::INFO: Identifying DE genes using voom ...
TCC::INFO: Done.
NA in cutpts forces recomputation using smallest gap
[1] 0.8904062
NA in cutpts forces recomputation using smallest gap
TCC::INFO: Generating simulation data under NB distribution ...
TCC::INFO: (genesizes   :  1000 )
TCC::INFO: (replicates  :  1, 1, 1 )
TCC::INFO: (PDEG        :  0.12, 0.04, 0.04 )
TCC::INFO: Calculating normalization factors using DEGES
TCC::INFO: (iDEGES pipeline : tmm - [ bayseq - tmm ] X 1 )
TCC::INFO: Done.
TCC::INFO: Calculating normalization factors using DEGES
TCC::INFO: (iDEGES pipeline : deseq - [ bayseq - deseq ] X 1 )
TCC::INFO: Done.
TCC::INFO: Calculating normalization factors using DEGES
TCC::INFO: (iDEGES pipeline : deseq2 - [ bayseq - deseq2 ] X 1 )
TCC::INFO: Done.
TCC::INFO: Identifying DE genes using bayseq ...
TCC::INFO: Done.
NA in cutpts forces recomputation using smallest gap
[1] 0.7669656
NA in cutpts forces recomputation using smallest gap
TCC::INFO: Calculating normalization factors using DEGES
TCC::INFO: (iDEGES pipeline : tmm - [ deseq - tmm ] X 1 )
Error in .local(object, ...) : 
  None of your conditions is replicated. Use method='blind' to estimate across conditions, or 'pooled-CR', if you have crossed factors.
In addition: There were 50 or more warnings (use warnings() to see the first 50)
TCC::INFO: Calculating normalization factors using DEGES
TCC::INFO: (iDEGES pipeline : tmm - [ deseq - tmm ] X 1 )
TCC::INFO: Done.
TCC::INFO: Calculating normalization factors using DEGES
TCC::INFO: (iDEGES pipeline : deseq - [ deseq - deseq ] X 1 )
Error in .local(object, ...) : 
  None of your conditions is replicated. Use method='blind' to estimate across conditions, or 'pooled-CR', if you have crossed factors.
In addition: Warning messages:
1: In .local(object, ...) :
  in estimateDispersions: Ignoring extra argument(s).
2: In .local(object, ...) :
  in estimateDispersions: Ignoring extra argument(s).
TCC::INFO: Calculating normalization factors using DEGES
TCC::INFO: (iDEGES pipeline : deseq - [ deseq - deseq ] X 1 )
TCC::INFO: Done.
TCC::INFO: Calculating normalization factors using DEGES
TCC::INFO: (iDEGES pipeline : deseq2 - [ deseq - deseq2 ] X 1 )
Error in .local(object, ...) : 
  None of your conditions is replicated. Use method='blind' to estimate across conditions, or 'pooled-CR', if you have crossed factors.
In addition: Warning messages:
1: In .local(object, ...) :
  in estimateDispersions: Ignoring extra argument(s).
2: In .local(object, ...) :
  in estimateDispersions: Ignoring extra argument(s).
TCC::INFO: Calculating normalization factors using DEGES
TCC::INFO: (iDEGES pipeline : deseq2 - [ deseq - deseq2 ] X 1 )
TCC::INFO: Done.
TCC::INFO: Identifying DE genes using deseq ...
TCC::INFO: Done.
NA in cutpts forces recomputation using smallest gap
[1] 0.8120906
NA in cutpts forces recomputation using smallest gap
TCC::INFO: Calculating normalization factors using DEGES
TCC::INFO: (iDEGES pipeline : tmm - [ deseq2 - tmm ] X 1 )
TCC::INFO: Done.
TCC::INFO: Calculating normalization factors using DEGES
TCC::INFO: (iDEGES pipeline : deseq - [ deseq2 - deseq ] X 1 )
TCC::INFO: Done.
TCC::INFO: Calculating normalization factors using DEGES
TCC::INFO: (iDEGES pipeline : deseq2 - [ deseq2 - deseq2 ] X 1 )
TCC::INFO: Done.
TCC::INFO: Identifying DE genes using deseq2 ...
TCC::INFO: Done.
NA in cutpts forces recomputation using smallest gap
[1] 0.8118031
NA in cutpts forces recomputation using smallest gap
TCC::INFO: Calculating normalization factors using DEGES
TCC::INFO: (iDEGES pipeline : tmm - [ edger - tmm ] X 1 )
TCC::INFO: Done.
TCC::INFO: Calculating normalization factors using DEGES
TCC::INFO: (iDEGES pipeline : deseq - [ edger - deseq ] X 1 )
TCC::INFO: Done.
TCC::INFO: Calculating normalization factors using DEGES
TCC::INFO: (iDEGES pipeline : deseq2 - [ edger - deseq2 ] X 1 )
TCC::INFO: Done.
TCC::INFO: Identifying DE genes using edger ...
TCC::INFO: Done.
NA in cutpts forces recomputation using smallest gap
[1] 0.7779531
NA in cutpts forces recomputation using smallest gap
TCC::INFO: Generating simulation data under NB distribution ...
TCC::INFO: (genesizes   :  1000 )
TCC::INFO: (samples     :  12 )
TCC::INFO: (factors     :  2 )
TCC::INFO: (PDEG        :  0.1 )
TCC::INFO: Calculating normalization factors using DEGES
TCC::INFO: (iDEGES pipeline : tmm - [ bayseq - tmm ] X 1 )
TCC::INFO: Done.
TCC::INFO: Calculating normalization factors using DEGES
TCC::INFO: (iDEGES pipeline : deseq - [ bayseq - deseq ] X 1 )
TCC::INFO: Done.
TCC::INFO: Calculating normalization factors using DEGES
TCC::INFO: (iDEGES pipeline : deseq2 - [ bayseq - deseq2 ] X 1 )
TCC::INFO: Done.
TCC::INFO: Identifying DE genes using bayseq ...
TCC::INFO: Done.
NA in cutpts forces recomputation using smallest gap
[1] 0.6336421
NA in cutpts forces recomputation using smallest gap
TCC::INFO: Calculating normalization factors using DEGES
TCC::INFO: (iDEGES pipeline : tmm - [ deseq - tmm ] X 1 )
TCC::INFO: Done.
TCC::INFO: Calculating normalization factors using DEGES
TCC::INFO: (iDEGES pipeline : deseq - [ deseq - deseq ] X 1 )
TCC::INFO: Done.
TCC::INFO: Calculating normalization factors using DEGES
TCC::INFO: (iDEGES pipeline : deseq2 - [ deseq - deseq2 ] X 1 )
TCC::INFO: Done.
TCC::INFO: Identifying DE genes using deseq ...
TCC::INFO: Done.
NA in cutpts forces recomputation using smallest gap
[1] 0.9379033
NA in cutpts forces recomputation using smallest gap
TCC::INFO: Calculating normalization factors using DEGES
TCC::INFO: (iDEGES pipeline : tmm - [ deseq2 - tmm ] X 1 )
TCC::INFO: Done.
TCC::INFO: Calculating normalization factors using DEGES
TCC::INFO: (iDEGES pipeline : deseq - [ deseq2 - deseq ] X 1 )
TCC::INFO: Done.
TCC::INFO: Calculating normalization factors using DEGES
TCC::INFO: (iDEGES pipeline : deseq2 - [ deseq2 - deseq2 ] X 1 )
TCC::INFO: Done.
TCC::INFO: Identifying DE genes using deseq2 ...
TCC::INFO: Done.
NA in cutpts forces recomputation using smallest gap
[1] 0.9244676
NA in cutpts forces recomputation using smallest gap
TCC::INFO: Calculating normalization factors using DEGES
TCC::INFO: (iDEGES pipeline : tmm - [ edger - tmm ] X 1 )
TCC::INFO: Done.
TCC::INFO: Calculating normalization factors using DEGES
TCC::INFO: (iDEGES pipeline : deseq - [ edger - deseq ] X 1 )
TCC::INFO: Done.
TCC::INFO: Calculating normalization factors using DEGES
TCC::INFO: (iDEGES pipeline : deseq2 - [ edger - deseq2 ] X 1 )
TCC::INFO: Done.
TCC::INFO: Identifying DE genes using edger ...
TCC::INFO: Done.
NA in cutpts forces recomputation using smallest gap
[1] 0.9400005
NA in cutpts forces recomputation using smallest gap
TCC::INFO: Calculating normalization factors using DEGES
TCC::INFO: (iDEGES pipeline : tmm - [ voom - tmm ] X 1 )
TCC::INFO: Done.
TCC::INFO: Calculating normalization factors using DEGES
TCC::INFO: (iDEGES pipeline : deseq - [ voom - deseq ] X 1 )
TCC::INFO: Done.
TCC::INFO: Calculating normalization factors using DEGES
TCC::INFO: (iDEGES pipeline : deseq2 - [ voom - deseq2 ] X 1 )
TCC::INFO: Done.
TCC::INFO: Identifying DE genes using voom ...
TCC::INFO: Done.
NA in cutpts forces recomputation using smallest gap
[1] 0.9159638
NA in cutpts forces recomputation using smallest gap
TCC::INFO: Calculating normalization factors using tmm ...
TCC::INFO: Done.
TCC::INFO: Identifying DE genes using edger ...
TCC::INFO: Done.
TCC::INFO: Calculating normalization factors using tmm ...
TCC::INFO: Done.
TCC::INFO: Identifying DE genes using edger ...
TCC::INFO: Done.
TCC::INFO: Generating simulation data under NB distribution ...
TCC::INFO: (genesizes   :  1000 )
TCC::INFO: (replicates  :  3, 3 )
TCC::INFO: (PDEG        :  0.18, 0.02 )
TCC::INFO: Generating simulation data under NB distribution ...
TCC::INFO: (genesizes   :  1000 )
TCC::INFO: (replicates  :  3, 3, 3 )
TCC::INFO: (PDEG        :  0.18, 0.01, 0.01 )
RUNIT TEST PROTOCOL -- Thu Apr 12 03:24:29 2018 
*********************************************** 
Number of test functions: 10 
Number of errors: 0 
Number of failures: 0 
 
1 Test Suite : 
TCC RUnit Tests - 10 test functions, 0 errors, 0 failures
Number of test functions: 10 
Number of errors: 0 
Number of failures: 0 
There were 50 or more warnings (use warnings() to see the first 50)
> 
> proc.time()
   user  system elapsed 
277.084   0.240 277.548