| Back to Multiple platform build/check report for BioC 3.6 | 
 | 
This page was generated on 2018-04-12 13:45:16 -0400 (Thu, 12 Apr 2018).
| Package 1305/1472 | Hostname | OS / Arch | INSTALL | BUILD | CHECK | BUILD BIN | ||||||
| SingleCellExperiment 1.0.0 Davide Risso 
 | malbec1 | Linux (Ubuntu 16.04.1 LTS) / x86_64 | OK | OK | OK |  | ||||||
| tokay1 | Windows Server 2012 R2 Standard / x64 | OK | OK | OK | OK |  | ||||||
| veracruz1 | OS X 10.11.6 El Capitan / x86_64 | OK | OK | OK | [ OK ] |  | 
| Package: SingleCellExperiment | 
| Version: 1.0.0 | 
| Command: rm -rf SingleCellExperiment.buildbin-libdir && mkdir SingleCellExperiment.buildbin-libdir && /Users/biocbuild/BBS/utils/build-universal.sh SingleCellExperiment_1.0.0.tar.gz /Library/Frameworks/R.framework/Versions/Current/Resources/bin/R SingleCellExperiment.buildbin-libdir | 
| StartedAt: 2018-04-12 12:16:13 -0400 (Thu, 12 Apr 2018) | 
| EndedAt: 2018-04-12 12:16:28 -0400 (Thu, 12 Apr 2018) | 
| EllapsedTime: 15.0 seconds | 
| RetCode: 0 | 
| Status: OK | 
| PackageFile: SingleCellExperiment_1.0.0.tgz | 
| PackageFileSize: 513.8 KiB | 
############################################################################## ############################################################################## ### ### Running command: ### ### rm -rf SingleCellExperiment.buildbin-libdir && mkdir SingleCellExperiment.buildbin-libdir && /Users/biocbuild/BBS/utils/build-universal.sh SingleCellExperiment_1.0.0.tar.gz /Library/Frameworks/R.framework/Versions/Current/Resources/bin/R SingleCellExperiment.buildbin-libdir ### ############################################################################## ############################################################################## >>>>>>> >>>>>>> INSTALLATION WITH 'R CMD INSTALL --preclean --no-multiarch --library=SingleCellExperiment.buildbin-libdir SingleCellExperiment_1.0.0.tar.gz' >>>>>>> * installing *source* package ‘SingleCellExperiment’ ... ** R ** inst ** preparing package for lazy loading ** help *** installing help indices ** building package indices ** installing vignettes ** testing if installed package can be loaded * DONE (SingleCellExperiment)