| Back to Multiple platform build/check report for BioC 3.6 | 
 | 
This page was generated on 2018-04-12 13:23:09 -0400 (Thu, 12 Apr 2018).
| Package 1282/1472 | Hostname | OS / Arch | INSTALL | BUILD | CHECK | BUILD BIN | ||||||
| SeqVarTools 1.16.1 Stephanie M. Gogarten 
 | malbec1 | Linux (Ubuntu 16.04.1 LTS) / x86_64 | OK | OK | OK |  | ||||||
| tokay1 | Windows Server 2012 R2 Standard / x64 | [ OK ] | OK | OK | OK |  | ||||||
| veracruz1 | OS X 10.11.6 El Capitan / x86_64 | OK | OK | OK | OK |  | 
| Package: SeqVarTools | 
| Version: 1.16.1 | 
| Command: rm -rf SeqVarTools.buildbin-libdir && mkdir SeqVarTools.buildbin-libdir && C:\cygwin\bin\curl.exe -O https://malbec1.bioconductor.org/BBS/3.6/bioc/src/contrib/SeqVarTools_1.16.1.tar.gz && C:\Users\biocbuild\bbs-3.6-bioc\R\bin\R.exe CMD INSTALL --build --library=SeqVarTools.buildbin-libdir --merge-multiarch SeqVarTools_1.16.1.tar.gz && C:\Users\biocbuild\bbs-3.6-bioc\R\bin\R.exe CMD INSTALL SeqVarTools_1.16.1.zip && rm SeqVarTools_1.16.1.tar.gz SeqVarTools_1.16.1.zip | 
| StartedAt: 2018-04-11 18:43:53 -0400 (Wed, 11 Apr 2018) | 
| EndedAt: 2018-04-11 18:45:17 -0400 (Wed, 11 Apr 2018) | 
| EllapsedTime: 84.7 seconds | 
| RetCode: 0 | 
| Status: OK | 
##############################################################################
##############################################################################
###
### Running command:
###
###   rm -rf SeqVarTools.buildbin-libdir && mkdir SeqVarTools.buildbin-libdir  && C:\cygwin\bin\curl.exe -O https://malbec1.bioconductor.org/BBS/3.6/bioc/src/contrib/SeqVarTools_1.16.1.tar.gz && C:\Users\biocbuild\bbs-3.6-bioc\R\bin\R.exe CMD INSTALL --build --library=SeqVarTools.buildbin-libdir --merge-multiarch SeqVarTools_1.16.1.tar.gz && C:\Users\biocbuild\bbs-3.6-bioc\R\bin\R.exe CMD INSTALL SeqVarTools_1.16.1.zip  && rm SeqVarTools_1.16.1.tar.gz SeqVarTools_1.16.1.zip
###
##############################################################################
##############################################################################
  % Total    % Received % Xferd  Average Speed   Time    Time     Time  Current
                                 Dload  Upload   Total   Spent    Left  Speed
  0     0    0     0    0     0      0      0 --:--:-- --:--:-- --:--:--     0
  0     0    0     0    0     0      0      0 --:--:-- --:--:-- --:--:--     0
100  383k  100  383k    0     0   391k      0 --:--:-- --:--:-- --:--:--  392k
install for i386
* installing *source* package 'SeqVarTools' ...
** R
** data
*** moving datasets to lazyload DB
** inst
** preparing package for lazy loading
** help
*** installing help indices
  converting help for package 'SeqVarTools'
    finding HTML links ... done
    Iterator-class                          html  
    finding level-2 HTML links ... done
    SeqVarData-class                        html  
    SeqVarTools-package                     html  
    allele-methods                          html  
    alleleFrequency                         html  
    alternateAlleleDetection                html  
    applyMethod                             html  
    chromWithPAR                            html  
    countSingletons                         html  
    duplicateDiscordance                    html  
    getGenotype                             html  
    getVariableLengthData                   html  
    heterozygosity                          html  
    hwe                                     html  
    inbreedCoeff                            html  
    isSNV                                   html  
    isVariant                               html  
    meanBySample                            html  
    mendelErr                               html  
    missingGenotypeRate                     html  
    pca                                     html  
    pedigree                                html  
    refFrac                                 html  
    regression                              html  
    setVariantID                            html  
    titv                                    html  
    variantInfo                             html  
** building package indices
** installing vignettes
** testing if installed package can be loaded
In R CMD INSTALL
install for x64
* installing *source* package 'SeqVarTools' ...
** testing if installed package can be loaded
* MD5 sums
packaged installation of 'SeqVarTools' as SeqVarTools_1.16.1.zip
* DONE (SeqVarTools)
In R CMD INSTALL
In R CMD INSTALL
* installing to library 'C:/Users/biocbuild/bbs-3.6-bioc/R/library'
package 'SeqVarTools' successfully unpacked and MD5 sums checked
In R CMD INSTALL