| Back to Multiple platform build/check report for BioC 3.6 |
|
This page was generated on 2018-04-12 13:33:39 -0400 (Thu, 12 Apr 2018).
| Package 1344/1472 | Hostname | OS / Arch | INSTALL | BUILD | CHECK | BUILD BIN | ||||||
| SRAdb 1.40.0 Jack Zhu
| malbec1 | Linux (Ubuntu 16.04.1 LTS) / x86_64 | OK | OK | OK | |||||||
| tokay1 | Windows Server 2012 R2 Standard / x64 | ...NOT SUPPORTED...NOT SUPPORTED...NOT SUPPORTED... | ||||||||||
| veracruz1 | OS X 10.11.6 El Capitan / x86_64 | OK | OK | OK | [ OK ] | |||||||
| Package: SRAdb |
| Version: 1.40.0 |
| Command: rm -rf SRAdb.buildbin-libdir && mkdir SRAdb.buildbin-libdir && /Users/biocbuild/BBS/utils/build-universal.sh SRAdb_1.40.0.tar.gz /Library/Frameworks/R.framework/Versions/Current/Resources/bin/R SRAdb.buildbin-libdir |
| StartedAt: 2018-04-12 12:17:59 -0400 (Thu, 12 Apr 2018) |
| EndedAt: 2018-04-12 12:18:06 -0400 (Thu, 12 Apr 2018) |
| EllapsedTime: 7.3 seconds |
| RetCode: 0 |
| Status: OK |
| PackageFile: SRAdb_1.40.0.tgz |
| PackageFileSize: 416.6 KiB |
############################################################################## ############################################################################## ### ### Running command: ### ### rm -rf SRAdb.buildbin-libdir && mkdir SRAdb.buildbin-libdir && /Users/biocbuild/BBS/utils/build-universal.sh SRAdb_1.40.0.tar.gz /Library/Frameworks/R.framework/Versions/Current/Resources/bin/R SRAdb.buildbin-libdir ### ############################################################################## ############################################################################## >>>>>>> >>>>>>> INSTALLATION WITH 'R CMD INSTALL --preclean --no-multiarch --library=SRAdb.buildbin-libdir SRAdb_1.40.0.tar.gz' >>>>>>> * installing *source* package ‘SRAdb’ ... ** R ** inst ** preparing package for lazy loading ** help *** installing help indices ** building package indices ** installing vignettes ** testing if installed package can be loaded * DONE (SRAdb)