| Back to Multiple platform build/check report for BioC 3.6 | 
  | 
This page was generated on 2018-04-12 13:11:03 -0400 (Thu, 12 Apr 2018).
| Package 1328/1472 | Hostname | OS / Arch | INSTALL | BUILD | CHECK | BUILD BIN | ||||||
| SPEM 1.18.0 Xinyi YANG 
  | malbec1 | Linux (Ubuntu 16.04.1 LTS) / x86_64 | OK | OK | [ OK ] | |||||||
| tokay1 | Windows Server 2012 R2 Standard / x64 | OK | OK | OK | OK | |||||||
| veracruz1 | OS X 10.11.6 El Capitan / x86_64 | OK | OK | OK | OK | 
| Package: SPEM | 
| Version: 1.18.0 | 
| Command: /home/biocbuild/bbs-3.6-bioc/R/bin/R CMD check --no-vignettes --timings SPEM_1.18.0.tar.gz | 
| StartedAt: 2018-04-12 03:04:40 -0400 (Thu, 12 Apr 2018) | 
| EndedAt: 2018-04-12 03:05:22 -0400 (Thu, 12 Apr 2018) | 
| EllapsedTime: 41.9 seconds | 
| RetCode: 0 | 
| Status: OK | 
| CheckDir: SPEM.Rcheck | 
| Warnings: 0 | 
##############################################################################
##############################################################################
###
### Running command:
###
###   /home/biocbuild/bbs-3.6-bioc/R/bin/R CMD check --no-vignettes --timings SPEM_1.18.0.tar.gz
###
##############################################################################
##############################################################################
* using log directory ‘/home/biocbuild/bbs-3.6-bioc/meat/SPEM.Rcheck’
* using R version 3.4.4 (2018-03-15)
* using platform: x86_64-pc-linux-gnu (64-bit)
* using session charset: UTF-8
* using option ‘--no-vignettes’
* checking for file ‘SPEM/DESCRIPTION’ ... OK
* checking extension type ... Package
* this is package ‘SPEM’ version ‘1.18.0’
* checking package namespace information ... OK
* checking package dependencies ... OK
* checking if this is a source package ... OK
* checking if there is a namespace ... OK
* checking for hidden files and directories ... OK
* checking for portable file names ... OK
* checking for sufficient/correct file permissions ... OK
* checking whether package ‘SPEM’ can be installed ... OK
* checking installed package size ... OK
* checking package directory ... OK
* checking ‘build’ directory ... OK
* checking DESCRIPTION meta-information ... NOTE
Malformed Description field: should contain one or more complete sentences.
* checking top-level files ... OK
* checking for left-over files ... OK
* checking index information ... OK
* checking package subdirectories ... OK
* checking R files for non-ASCII characters ... OK
* checking R files for syntax errors ... OK
* checking whether the package can be loaded ... OK
* checking whether the package can be loaded with stated dependencies ... OK
* checking whether the package can be unloaded cleanly ... OK
* checking whether the namespace can be loaded with stated dependencies ... OK
* checking whether the namespace can be unloaded cleanly ... OK
* checking dependencies in R code ... NOTE
Packages in Depends field not imported from:
  ‘Biobase’ ‘Rsolnp’ ‘methods’
  These packages need to be imported from (in the NAMESPACE file)
  for when this namespace is loaded but not attached.
* checking S3 generic/method consistency ... OK
* checking replacement functions ... OK
* checking foreign function calls ... OK
* checking R code for possible problems ... NOTE
opt_parameter: no visible global function definition for ‘solnp’
SPEM,ExpressionSet: no visible global function definition for ‘exprs’
SPEM,ExpressionSet: no visible global function definition for ‘pData’
pre_prepare,ExpressionSet: no visible global function definition for
  ‘runif’
row_optimize,ExpressionSet: no visible global function definition for
  ‘exprs’
s_diff,ExpressionSet: no visible global function definition for ‘exprs’
s_diff,ExpressionSet: no visible global function definition for ‘pData’
s_diff,ExpressionSet : pre_smooth: no visible global function
  definition for ‘predict’
s_diff,ExpressionSet : pre_smooth: no visible global function
  definition for ‘smooth.spline’
Undefined global functions or variables:
  exprs pData predict runif smooth.spline solnp
Consider adding
  importFrom("stats", "predict", "runif", "smooth.spline")
to your NAMESPACE file.
* checking Rd files ... OK
* checking Rd metadata ... OK
* checking Rd cross-references ... OK
* checking for missing documentation entries ... OK
* checking for code/documentation mismatches ... OK
* checking Rd \usage sections ... OK
* checking Rd contents ... OK
* checking for unstated dependencies in examples ... OK
* checking contents of ‘data’ directory ... OK
* checking data for non-ASCII characters ... OK
* checking data for ASCII and uncompressed saves ... OK
* checking installed files from ‘inst/doc’ ... OK
* checking files in ‘vignettes’ ... OK
* checking examples ... OK
Examples with CPU or elapsed time > 5s
               user system elapsed
row_optimize 17.116      0  17.128
* checking for unstated dependencies in vignettes ... OK
* checking package vignettes in ‘inst/doc’ ... OK
* checking running R code from vignettes ... SKIPPED
* checking re-building of vignette outputs ... SKIPPED
* checking PDF version of manual ... OK
* DONE
Status: 3 NOTEs
See
  ‘/home/biocbuild/bbs-3.6-bioc/meat/SPEM.Rcheck/00check.log’
for details.
SPEM.Rcheck/00install.out
* installing *source* package ‘SPEM’ ... ** R ** data ** inst ** preparing package for lazy loading ** help *** installing help indices ** building package indices ** installing vignettes ** testing if installed package can be loaded * DONE (SPEM)
SPEM.Rcheck/SPEM-Ex.timings
| name | user | system | elapsed | |
| SPEM | 1.284 | 0.008 | 1.296 | |
| row_optimize | 17.116 | 0.000 | 17.128 | |
| s_diff | 0.056 | 0.004 | 0.059 | |
| sos | 0.004 | 0.000 | 0.001 | |