| Back to Multiple platform build/check report for BioC 3.6 |
|
This page was generated on 2018-04-12 13:18:36 -0400 (Thu, 12 Apr 2018).
| Package 1311/1472 | Hostname | OS / Arch | INSTALL | BUILD | CHECK | BUILD BIN | ||||||
| SLqPCR 1.44.0 Matthias Kohl
| malbec1 | Linux (Ubuntu 16.04.1 LTS) / x86_64 | OK | OK | OK | |||||||
| tokay1 | Windows Server 2012 R2 Standard / x64 | [ OK ] | OK | OK | OK | |||||||
| veracruz1 | OS X 10.11.6 El Capitan / x86_64 | OK | OK | OK | OK |
| Package: SLqPCR |
| Version: 1.44.0 |
| Command: rm -rf SLqPCR.buildbin-libdir && mkdir SLqPCR.buildbin-libdir && C:\cygwin\bin\curl.exe -O https://malbec1.bioconductor.org/BBS/3.6/bioc/src/contrib/SLqPCR_1.44.0.tar.gz && C:\Users\biocbuild\bbs-3.6-bioc\R\bin\R.exe CMD INSTALL --build --library=SLqPCR.buildbin-libdir --merge-multiarch SLqPCR_1.44.0.tar.gz && C:\Users\biocbuild\bbs-3.6-bioc\R\bin\R.exe CMD INSTALL SLqPCR_1.44.0.zip && rm SLqPCR_1.44.0.tar.gz SLqPCR_1.44.0.zip |
| StartedAt: 2018-04-11 18:11:01 -0400 (Wed, 11 Apr 2018) |
| EndedAt: 2018-04-11 18:11:52 -0400 (Wed, 11 Apr 2018) |
| EllapsedTime: 51.0 seconds |
| RetCode: 0 |
| Status: OK |
##############################################################################
##############################################################################
###
### Running command:
###
### rm -rf SLqPCR.buildbin-libdir && mkdir SLqPCR.buildbin-libdir && C:\cygwin\bin\curl.exe -O https://malbec1.bioconductor.org/BBS/3.6/bioc/src/contrib/SLqPCR_1.44.0.tar.gz && C:\Users\biocbuild\bbs-3.6-bioc\R\bin\R.exe CMD INSTALL --build --library=SLqPCR.buildbin-libdir --merge-multiarch SLqPCR_1.44.0.tar.gz && C:\Users\biocbuild\bbs-3.6-bioc\R\bin\R.exe CMD INSTALL SLqPCR_1.44.0.zip && rm SLqPCR_1.44.0.tar.gz SLqPCR_1.44.0.zip
###
##############################################################################
##############################################################################
% Total % Received % Xferd Average Speed Time Time Time Current
Dload Upload Total Spent Left Speed
0 0 0 0 0 0 0 0 --:--:-- --:--:-- --:--:-- 0
100 25893 100 25893 0 0 1053k 0 --:--:-- --:--:-- --:--:-- 1264k
install for i386
* installing *source* package 'SLqPCR' ...
** R
** data
** inst
** preparing package for lazy loading
** help
*** installing help indices
converting help for package 'SLqPCR'
finding HTML links ... done
SLqPCR-package html
SLqPCRdata html
geneStabM html
geomMean html
normPCR html
relQuantPCR html
selectHKgenes html
vandesompele html
** building package indices
** installing vignettes
** testing if installed package can be loaded
In R CMD INSTALL
install for x64
* installing *source* package 'SLqPCR' ...
** testing if installed package can be loaded
* MD5 sums
packaged installation of 'SLqPCR' as SLqPCR_1.44.0.zip
* DONE (SLqPCR)
In R CMD INSTALL
In R CMD INSTALL
* installing to library 'C:/Users/biocbuild/bbs-3.6-bioc/R/library'
package 'SLqPCR' successfully unpacked and MD5 sums checked
In R CMD INSTALL