| Back to Multiple platform build/check report for BioC 3.6 | 
 | 
This page was generated on 2018-04-12 13:08:13 -0400 (Thu, 12 Apr 2018).
| Package 1310/1472 | Hostname | OS / Arch | INSTALL | BUILD | CHECK | BUILD BIN | ||||||
| SLGI 1.38.0 Nolwenn Le Meur 
 | malbec1 | Linux (Ubuntu 16.04.1 LTS) / x86_64 | OK | OK | [ OK ] |  | ||||||
| tokay1 | Windows Server 2012 R2 Standard / x64 | OK | OK | OK | OK |  | ||||||
| veracruz1 | OS X 10.11.6 El Capitan / x86_64 | OK | OK | OK | OK |  | 
| Package: SLGI | 
| Version: 1.38.0 | 
| Command: /home/biocbuild/bbs-3.6-bioc/R/bin/R CMD check --no-vignettes --timings SLGI_1.38.0.tar.gz | 
| StartedAt: 2018-04-12 03:00:23 -0400 (Thu, 12 Apr 2018) | 
| EndedAt: 2018-04-12 03:03:19 -0400 (Thu, 12 Apr 2018) | 
| EllapsedTime: 176.8 seconds | 
| RetCode: 0 | 
| Status: OK | 
| CheckDir: SLGI.Rcheck | 
| Warnings: 0 | 
##############################################################################
##############################################################################
###
### Running command:
###
###   /home/biocbuild/bbs-3.6-bioc/R/bin/R CMD check --no-vignettes --timings SLGI_1.38.0.tar.gz
###
##############################################################################
##############################################################################
* using log directory ‘/home/biocbuild/bbs-3.6-bioc/meat/SLGI.Rcheck’
* using R version 3.4.4 (2018-03-15)
* using platform: x86_64-pc-linux-gnu (64-bit)
* using session charset: UTF-8
* using option ‘--no-vignettes’
* checking for file ‘SLGI/DESCRIPTION’ ... OK
* this is package ‘SLGI’ version ‘1.38.0’
* checking package namespace information ... OK
* checking package dependencies ... OK
* checking if this is a source package ... OK
* checking if there is a namespace ... OK
* checking for hidden files and directories ... OK
* checking for portable file names ... OK
* checking for sufficient/correct file permissions ... OK
* checking whether package ‘SLGI’ can be installed ... OK
* checking installed package size ... NOTE
  installed size is 15.9Mb
  sub-directories of 1Mb or more:
    data      4.2Mb
    extdata  11.3Mb
* checking package directory ... OK
* checking ‘build’ directory ... OK
* checking DESCRIPTION meta-information ... NOTE
Malformed Description field: should contain one or more complete sentences.
Packages listed in more than one of Depends, Imports, Suggests, Enhances:
  ‘ScISI’ ‘lattice’ ‘GO.db’
A package should be listed in only one of these fields.
* checking top-level files ... OK
* checking for left-over files ... OK
* checking index information ... OK
* checking package subdirectories ... OK
* checking R files for non-ASCII characters ... OK
* checking R files for syntax errors ... OK
* checking whether the package can be loaded ... OK
* checking whether the package can be loaded with stated dependencies ... OK
* checking whether the package can be unloaded cleanly ... OK
* checking whether the namespace can be loaded with stated dependencies ... OK
* checking whether the namespace can be unloaded cleanly ... OK
* checking dependencies in R code ... NOTE
'library' or 'require' call to ‘GO.db’ in package code.
  Please use :: or requireNamespace() instead.
  See section 'Suggested packages' in the 'Writing R Extensions' manual.
* checking S3 generic/method consistency ... OK
* checking replacement functions ... OK
* checking foreign function calls ... OK
* checking R code for possible problems ... OK
* checking Rd files ... OK
* checking Rd metadata ... OK
* checking Rd cross-references ... OK
* checking for missing documentation entries ... OK
* checking for code/documentation mismatches ... OK
* checking Rd \usage sections ... OK
* checking Rd contents ... OK
* checking for unstated dependencies in examples ... OK
* checking contents of ‘data’ directory ... OK
* checking data for non-ASCII characters ... OK
* checking data for ASCII and uncompressed saves ... OK
* checking installed files from ‘inst/doc’ ... OK
* checking files in ‘vignettes’ ... OK
* checking examples ... OK
Examples with CPU or elapsed time > 5s
                 user system elapsed
iSummary       17.452  0.044  17.503
siResult-class 10.464  0.008  10.479
compare         9.712  0.040   9.756
plot            9.424  0.004   9.432
modelSLGI       8.012  0.152   8.167
topInteraction  5.504  0.008   5.515
* checking for unstated dependencies in vignettes ... OK
* checking package vignettes in ‘inst/doc’ ... OK
* checking running R code from vignettes ... SKIPPED
* checking re-building of vignette outputs ... SKIPPED
* checking PDF version of manual ... OK
* DONE
Status: 3 NOTEs
See
  ‘/home/biocbuild/bbs-3.6-bioc/meat/SLGI.Rcheck/00check.log’
for details.
SLGI.Rcheck/00install.out
* installing *source* package ‘SLGI’ ... ** R ** data ** inst ** preparing package for lazy loading No methods found in package ‘Biobase’ for request: ‘listlen’ when loading ‘RpsiXML’ No methods found in package ‘annotate’ for requests: ‘pubmed’, ‘buildPubMedAbst’ when loading ‘RpsiXML’ No methods found in package ‘BiocGenerics’ for request: ‘plot’ when loading ‘SLGI’ ** help *** installing help indices ** building package indices ** installing vignettes ** testing if installed package can be loaded No methods found in package ‘Biobase’ for request: ‘listlen’ when loading ‘RpsiXML’ No methods found in package ‘annotate’ for requests: ‘pubmed’, ‘buildPubMedAbst’ when loading ‘RpsiXML’ No methods found in package ‘BiocGenerics’ for request: ‘plot’ when loading ‘SLGI’ * DONE (SLGI)
SLGI.Rcheck/SLGI-Ex.timings
| name | user | system | elapsed | |
| Atong | 0.016 | 0.004 | 0.020 | |
| AtongFnDomain | 3.420 | 0.072 | 3.493 | |
| AtongPair | 0.492 | 0.004 | 0.496 | |
| SDL | 0.004 | 0.000 | 0.004 | |
| SGA | 0.008 | 0.000 | 0.005 | |
| SGD.SL | 0.108 | 0.004 | 0.112 | |
| TFmat | 0.064 | 0.004 | 0.068 | |
| byComplex | 0.168 | 0.012 | 0.183 | |
| comemberIn | 0.460 | 0.036 | 0.498 | |
| compare | 9.712 | 0.040 | 9.756 | |
| congruence | 0.000 | 0.000 | 0.002 | |
| createSquareMatrix | 0.112 | 0.016 | 0.129 | |
| domainDist | 1.956 | 0.032 | 1.991 | |
| essglist | 0.008 | 0.000 | 0.008 | |
| getInteraction | 0.000 | 0.000 | 0.002 | |
| getSharedDomains | 0.008 | 0.000 | 0.010 | |
| getSharedInteraction | 0.012 | 0.004 | 0.016 | |
| getTestedPairs | 0.004 | 0.004 | 0.010 | |
| getUniquePairs | 0.052 | 0.008 | 0.061 | |
| gi2005 | 0.044 | 0.000 | 0.042 | |
| gi2007 | 0.112 | 0.004 | 0.117 | |
| gi2Interactome | 0.004 | 0.000 | 0.001 | |
| hyperG | 0.004 | 0.000 | 0.006 | |
| iSummary | 17.452 | 0.044 | 17.503 | |
| modelSLGI | 8.012 | 0.152 | 8.167 | |
| normInteraction | 4.116 | 0.096 | 4.213 | |
| plot | 9.424 | 0.004 | 9.432 | |
| seqMatcherAlign | 0.000 | 0.000 | 0.001 | |
| sharedBy | 2.216 | 0.012 | 2.228 | |
| sharedInt | 0.004 | 0.000 | 0.002 | |
| siResult-class | 10.464 | 0.008 | 10.479 | |
| test2Interact | 0.004 | 0.000 | 0.003 | |
| topInteraction | 5.504 | 0.008 | 5.515 | |
| twoWayTable | 3.448 | 0.008 | 3.459 | |
| withinComplex | 0.776 | 0.012 | 0.791 | |