| Back to Multiple platform build/check report for BioC 3.6 |
|
This page was generated on 2018-04-12 13:12:54 -0400 (Thu, 12 Apr 2018).
| Package 1284/1472 | Hostname | OS / Arch | INSTALL | BUILD | CHECK | BUILD BIN | ||||||
| SGSeq 1.12.0 Leonard Goldstein
| malbec1 | Linux (Ubuntu 16.04.1 LTS) / x86_64 | OK | OK | [ OK ] | |||||||
| tokay1 | Windows Server 2012 R2 Standard / x64 | OK | OK | OK | OK | |||||||
| veracruz1 | OS X 10.11.6 El Capitan / x86_64 | OK | OK | OK | OK |
| Package: SGSeq |
| Version: 1.12.0 |
| Command: /home/biocbuild/bbs-3.6-bioc/R/bin/R CMD check --no-vignettes --timings SGSeq_1.12.0.tar.gz |
| StartedAt: 2018-04-12 02:53:59 -0400 (Thu, 12 Apr 2018) |
| EndedAt: 2018-04-12 03:00:22 -0400 (Thu, 12 Apr 2018) |
| EllapsedTime: 383.1 seconds |
| RetCode: 0 |
| Status: OK |
| CheckDir: SGSeq.Rcheck |
| Warnings: 0 |
##############################################################################
##############################################################################
###
### Running command:
###
### /home/biocbuild/bbs-3.6-bioc/R/bin/R CMD check --no-vignettes --timings SGSeq_1.12.0.tar.gz
###
##############################################################################
##############################################################################
* using log directory ‘/home/biocbuild/bbs-3.6-bioc/meat/SGSeq.Rcheck’
* using R version 3.4.4 (2018-03-15)
* using platform: x86_64-pc-linux-gnu (64-bit)
* using session charset: UTF-8
* using option ‘--no-vignettes’
* checking for file ‘SGSeq/DESCRIPTION’ ... OK
* checking extension type ... Package
* this is package ‘SGSeq’ version ‘1.12.0’
* checking package namespace information ... OK
* checking package dependencies ... OK
* checking if this is a source package ... OK
* checking if there is a namespace ... OK
* checking for hidden files and directories ... OK
* checking for portable file names ... OK
* checking for sufficient/correct file permissions ... OK
* checking whether package ‘SGSeq’ can be installed ... OK
* checking installed package size ... OK
* checking package directory ... OK
* checking ‘build’ directory ... OK
* checking DESCRIPTION meta-information ... OK
* checking top-level files ... OK
* checking for left-over files ... OK
* checking index information ... OK
* checking package subdirectories ... OK
* checking R files for non-ASCII characters ... OK
* checking R files for syntax errors ... OK
* checking whether the package can be loaded ... OK
* checking whether the package can be loaded with stated dependencies ... OK
* checking whether the package can be unloaded cleanly ... OK
* checking whether the namespace can be loaded with stated dependencies ... OK
* checking whether the namespace can be unloaded cleanly ... OK
* checking dependencies in R code ... NOTE
Unexported objects imported by ':::' calls:
‘GenomicRanges:::extraColumnSlotNames’
‘GenomicRanges:::extraColumnSlotsAsDF’
See the note in ?`:::` about the use of this operator.
* checking S3 generic/method consistency ... OK
* checking replacement functions ... OK
* checking foreign function calls ... OK
* checking R code for possible problems ... NOTE
plotFeatures: no visible global function definition for ‘frame’
plotVariants: no visible global function definition for ‘frame’
Undefined global functions or variables:
frame
Consider adding
importFrom("graphics", "frame")
to your NAMESPACE file.
* checking Rd files ... OK
* checking Rd metadata ... OK
* checking Rd cross-references ... OK
* checking for missing documentation entries ... OK
* checking for code/documentation mismatches ... OK
* checking Rd \usage sections ... OK
* checking Rd contents ... OK
* checking for unstated dependencies in examples ... OK
* checking contents of ‘data’ directory ... OK
* checking data for non-ASCII characters ... OK
* checking data for ASCII and uncompressed saves ... OK
* checking installed files from ‘inst/doc’ ... OK
* checking files in ‘vignettes’ ... OK
* checking examples ... OK
Examples with CPU or elapsed time > 5s
user system elapsed
predictVariantEffects 23.900 0.024 23.938
analyzeFeatures 16.740 0.236 16.989
predictTxFeatures 9.096 0.120 9.220
getSGVariantCounts 5.308 0.120 5.434
* checking for unstated dependencies in ‘tests’ ... OK
* checking tests ...
Running ‘runTests.R’
OK
* checking for unstated dependencies in vignettes ... OK
* checking package vignettes in ‘inst/doc’ ... OK
* checking running R code from vignettes ... SKIPPED
* checking re-building of vignette outputs ... SKIPPED
* checking PDF version of manual ... OK
* DONE
Status: 2 NOTEs
See
‘/home/biocbuild/bbs-3.6-bioc/meat/SGSeq.Rcheck/00check.log’
for details.
SGSeq.Rcheck/00install.out
* installing *source* package ‘SGSeq’ ... ** R ** data *** moving datasets to lazyload DB ** inst ** preparing package for lazy loading ** help *** installing help indices ** building package indices ** installing vignettes ** testing if installed package can be loaded * DONE (SGSeq)
SGSeq.Rcheck/tests/runTests.Rout
R version 3.4.4 (2018-03-15) -- "Someone to Lean On"
Copyright (C) 2018 The R Foundation for Statistical Computing
Platform: x86_64-pc-linux-gnu (64-bit)
R is free software and comes with ABSOLUTELY NO WARRANTY.
You are welcome to redistribute it under certain conditions.
Type 'license()' or 'licence()' for distribution details.
R is a collaborative project with many contributors.
Type 'contributors()' for more information and
'citation()' on how to cite R or R packages in publications.
Type 'demo()' for some demos, 'help()' for on-line help, or
'help.start()' for an HTML browser interface to help.
Type 'q()' to quit R.
> BiocGenerics:::testPackage("SGSeq")
Attaching package: 'BiocGenerics'
The following objects are masked from 'package:parallel':
clusterApply, clusterApplyLB, clusterCall, clusterEvalQ,
clusterExport, clusterMap, parApply, parCapply, parLapply,
parLapplyLB, parRapply, parSapply, parSapplyLB
The following objects are masked from 'package:stats':
IQR, mad, sd, var, xtabs
The following objects are masked from 'package:base':
Filter, Find, Map, Position, Reduce, anyDuplicated, append,
as.data.frame, cbind, colMeans, colSums, colnames, do.call,
duplicated, eval, evalq, get, grep, grepl, intersect, is.unsorted,
lapply, lengths, mapply, match, mget, order, paste, pmax, pmax.int,
pmin, pmin.int, rank, rbind, rowMeans, rowSums, rownames, sapply,
setdiff, sort, table, tapply, union, unique, unsplit, which,
which.max, which.min
Attaching package: 'S4Vectors'
The following object is masked from 'package:base':
expand.grid
Attaching package: 'Biostrings'
The following object is masked from 'package:base':
strsplit
Welcome to Bioconductor
Vignettes contain introductory material; view with
'browseVignettes()'. To cite Bioconductor, see
'citation("Biobase")', and for packages 'citation("pkgname")'.
Attaching package: 'matrixStats'
The following objects are masked from 'package:Biobase':
anyMissing, rowMedians
Attaching package: 'DelayedArray'
The following objects are masked from 'package:matrixStats':
colMaxs, colMins, colRanges, rowMaxs, rowMins, rowRanges
The following object is masked from 'package:Biostrings':
type
The following object is masked from 'package:base':
apply
Predict features...
N1 complete.
N2 complete.
N3 complete.
N4 complete.
T1 complete.
T2 complete.
T3 complete.
T4 complete.
Process features...
Obtain counts...
N1 complete.
N2 complete.
N3 complete.
N4 complete.
T1 complete.
T2 complete.
T3 complete.
T4 complete.
Find segments...
Find variants...
Annotate variants...
Find segments...
Find variants...
Annotate variants...
Find segments...
Find variants...
Annotate variants...
Find segments...
Find variants...
Annotate variants...
Find segments...
Find variants...
Annotate variants...
N1 complete.
N2 complete.
N3 complete.
N4 complete.
T1 complete.
T2 complete.
T3 complete.
T4 complete.
N1 complete.
N2 complete.
N3 complete.
N4 complete.
T1 complete.
T2 complete.
T3 complete.
T4 complete.
N1 complete.
N2 complete.
N3 complete.
N4 complete.
T1 complete.
T2 complete.
T3 complete.
T4 complete.
N1 complete.
N2 complete.
N3 complete.
N4 complete.
T1 complete.
T2 complete.
T3 complete.
T4 complete.
Loading required package: BSgenome.Hsapiens.UCSC.hg19
Loading required package: BSgenome
Loading required package: rtracklayer
Predicting effect of 2 variants on 3 coding transcripts...
Predicting effect of 3 variants on 3 coding transcripts...
RUNIT TEST PROTOCOL -- Thu Apr 12 03:00:18 2018
***********************************************
Number of test functions: 17
Number of errors: 0
Number of failures: 0
1 Test Suite :
SGSeq RUnit Tests - 17 test functions, 0 errors, 0 failures
Number of test functions: 17
Number of errors: 0
Number of failures: 0
>
> proc.time()
user system elapsed
128.172 0.928 129.203
SGSeq.Rcheck/SGSeq-Ex.timings
| name | user | system | elapsed | |
| SGFeatureCounts | 0.348 | 0.000 | 0.345 | |
| SGFeatures | 0.084 | 0.000 | 0.083 | |
| SGVariantCounts | 0.276 | 0.000 | 0.280 | |
| SGVariants | 0.140 | 0.000 | 0.136 | |
| TxFeatures | 0.04 | 0.00 | 0.04 | |
| analyzeFeatures | 16.740 | 0.236 | 16.989 | |
| analyzeVariants | 1.712 | 0.000 | 1.712 | |
| annotate | 1.852 | 0.000 | 1.855 | |
| assays | 0.048 | 0.000 | 0.050 | |
| convertToSGFeatures | 1.144 | 0.000 | 1.146 | |
| convertToTxFeatures | 0.436 | 0.000 | 0.436 | |
| exportFeatures | 0.000 | 0.000 | 0.001 | |
| findSGVariants | 1.620 | 0.000 | 1.619 | |
| getBamInfo | 1.268 | 0.224 | 1.494 | |
| getSGFeatureCounts | 4.144 | 0.116 | 4.267 | |
| getSGVariantCounts | 5.308 | 0.120 | 5.434 | |
| importTranscripts | 0.004 | 0.000 | 0.000 | |
| makeSGFeatureCounts | 0.028 | 0.000 | 0.031 | |
| makeVariantNames | 0.004 | 0.000 | 0.005 | |
| mergeTxFeatures | 0.260 | 0.000 | 0.259 | |
| plotCoverage | 0 | 0 | 0 | |
| plotFeatures | 0.004 | 0.000 | 0.000 | |
| plotSpliceGraph | 0.000 | 0.000 | 0.001 | |
| plotVariants | 0 | 0 | 0 | |
| predictTxFeatures | 9.096 | 0.120 | 9.220 | |
| predictVariantEffects | 23.900 | 0.024 | 23.938 | |
| processTerminalExons | 0.296 | 0.000 | 0.298 | |
| slots | 0.004 | 0.000 | 0.004 | |