| Back to Multiple platform build/check report for BioC 3.6 |
|
This page was generated on 2018-04-12 13:32:54 -0400 (Thu, 12 Apr 2018).
| Package 1209/1472 | Hostname | OS / Arch | INSTALL | BUILD | CHECK | BUILD BIN | ||||||
| RpsiXML 2.20.0 Jitao David Zhang
| malbec1 | Linux (Ubuntu 16.04.1 LTS) / x86_64 | OK | OK | OK | |||||||
| tokay1 | Windows Server 2012 R2 Standard / x64 | OK | OK | OK | OK | |||||||
| veracruz1 | OS X 10.11.6 El Capitan / x86_64 | OK | OK | OK | [ OK ] |
| Package: RpsiXML |
| Version: 2.20.0 |
| Command: rm -rf RpsiXML.buildbin-libdir && mkdir RpsiXML.buildbin-libdir && /Users/biocbuild/BBS/utils/build-universal.sh RpsiXML_2.20.0.tar.gz /Library/Frameworks/R.framework/Versions/Current/Resources/bin/R RpsiXML.buildbin-libdir |
| StartedAt: 2018-04-12 12:10:36 -0400 (Thu, 12 Apr 2018) |
| EndedAt: 2018-04-12 12:10:47 -0400 (Thu, 12 Apr 2018) |
| EllapsedTime: 11.3 seconds |
| RetCode: 0 |
| Status: OK |
| PackageFile: RpsiXML_2.20.0.tgz |
| PackageFileSize: 2.787 MiB |
############################################################################## ############################################################################## ### ### Running command: ### ### rm -rf RpsiXML.buildbin-libdir && mkdir RpsiXML.buildbin-libdir && /Users/biocbuild/BBS/utils/build-universal.sh RpsiXML_2.20.0.tar.gz /Library/Frameworks/R.framework/Versions/Current/Resources/bin/R RpsiXML.buildbin-libdir ### ############################################################################## ############################################################################## >>>>>>> >>>>>>> INSTALLATION WITH 'R CMD INSTALL --preclean --no-multiarch --library=RpsiXML.buildbin-libdir RpsiXML_2.20.0.tar.gz' >>>>>>> * installing *source* package ‘RpsiXML’ ... ** R ** inst ** preparing package for lazy loading No methods found in package ‘Biobase’ for request: ‘listlen’ when loading ‘RpsiXML’ No methods found in package ‘annotate’ for requests: ‘pubmed’, ‘buildPubMedAbst’ when loading ‘RpsiXML’ Note: in method for ‘head’ with signature ‘x="ANY"’: expanding the signature to include omitted arguments in definition: x = "missing" Note: in method for ‘tail’ with signature ‘x="ANY"’: expanding the signature to include omitted arguments in definition: x = "missing" ** help *** installing help indices ** building package indices ** installing vignettes ** testing if installed package can be loaded No methods found in package ‘Biobase’ for request: ‘listlen’ when loading ‘RpsiXML’ No methods found in package ‘annotate’ for requests: ‘pubmed’, ‘buildPubMedAbst’ when loading ‘RpsiXML’ * DONE (RpsiXML)