| Back to Multiple platform build/check report for BioC 3.6 |
|
This page was generated on 2018-04-12 13:23:15 -0400 (Thu, 12 Apr 2018).
| Package 1202/1472 | Hostname | OS / Arch | INSTALL | BUILD | CHECK | BUILD BIN | ||||||
| Roleswitch 1.16.0 Yue Li
| malbec1 | Linux (Ubuntu 16.04.1 LTS) / x86_64 | OK | OK | OK | |||||||
| tokay1 | Windows Server 2012 R2 Standard / x64 | [ OK ] | OK | WARNINGS | OK | |||||||
| veracruz1 | OS X 10.11.6 El Capitan / x86_64 | OK | OK | OK | OK |
| Package: Roleswitch |
| Version: 1.16.0 |
| Command: rm -rf Roleswitch.buildbin-libdir && mkdir Roleswitch.buildbin-libdir && C:\cygwin\bin\curl.exe -O https://malbec1.bioconductor.org/BBS/3.6/bioc/src/contrib/Roleswitch_1.16.0.tar.gz && C:\Users\biocbuild\bbs-3.6-bioc\R\bin\R.exe CMD INSTALL --build --library=Roleswitch.buildbin-libdir --merge-multiarch Roleswitch_1.16.0.tar.gz && C:\Users\biocbuild\bbs-3.6-bioc\R\bin\R.exe CMD INSTALL Roleswitch_1.16.0.zip && rm Roleswitch_1.16.0.tar.gz Roleswitch_1.16.0.zip |
| StartedAt: 2018-04-11 18:37:31 -0400 (Wed, 11 Apr 2018) |
| EndedAt: 2018-04-11 18:38:21 -0400 (Wed, 11 Apr 2018) |
| EllapsedTime: 50.2 seconds |
| RetCode: 0 |
| Status: OK |
##############################################################################
##############################################################################
###
### Running command:
###
### rm -rf Roleswitch.buildbin-libdir && mkdir Roleswitch.buildbin-libdir && C:\cygwin\bin\curl.exe -O https://malbec1.bioconductor.org/BBS/3.6/bioc/src/contrib/Roleswitch_1.16.0.tar.gz && C:\Users\biocbuild\bbs-3.6-bioc\R\bin\R.exe CMD INSTALL --build --library=Roleswitch.buildbin-libdir --merge-multiarch Roleswitch_1.16.0.tar.gz && C:\Users\biocbuild\bbs-3.6-bioc\R\bin\R.exe CMD INSTALL Roleswitch_1.16.0.zip && rm Roleswitch_1.16.0.tar.gz Roleswitch_1.16.0.zip
###
##############################################################################
##############################################################################
% Total % Received % Xferd Average Speed Time Time Time Current
Dload Upload Total Spent Left Speed
0 0 0 0 0 0 0 0 --:--:-- --:--:-- --:--:-- 0
100 369k 100 369k 0 0 13.9M 0 --:--:-- --:--:-- --:--:-- 15.6M
install for i386
* installing *source* package 'Roleswitch' ...
** R
** data
** inst
** preparing package for lazy loading
** help
*** installing help indices
converting help for package 'Roleswitch'
finding HTML links ... done
Roleswitch-package html
diagnosticPlot html
getSeedMatrix html
roleswitch html
Rd warning: C:/Users/biocbuild/bbs-3.6-bioc/tmpdir/Rtmp44fjSa/R.INSTALLc147bb724ad/Roleswitch/man/roleswitch.Rd:42: missing file link 'eSet'
Rd warning: C:/Users/biocbuild/bbs-3.6-bioc/tmpdir/Rtmp44fjSa/R.INSTALLc147bb724ad/Roleswitch/man/roleswitch.Rd:42: missing file link 'ExpressionSet'
Rd warning: C:/Users/biocbuild/bbs-3.6-bioc/tmpdir/Rtmp44fjSa/R.INSTALLc147bb724ad/Roleswitch/man/roleswitch.Rd:45: missing file link 'eSet'
tcga_gbm_testdata html
** building package indices
** installing vignettes
** testing if installed package can be loaded
In R CMD INSTALL
install for x64
* installing *source* package 'Roleswitch' ...
** testing if installed package can be loaded
* MD5 sums
packaged installation of 'Roleswitch' as Roleswitch_1.16.0.zip
* DONE (Roleswitch)
In R CMD INSTALL
In R CMD INSTALL
* installing to library 'C:/Users/biocbuild/bbs-3.6-bioc/R/library'
package 'Roleswitch' successfully unpacked and MD5 sums checked
In R CMD INSTALL