| Back to Multiple platform build/check report for BioC 3.6 |
|
This page was generated on 2018-04-12 13:09:43 -0400 (Thu, 12 Apr 2018).
| Package 1151/1472 | Hostname | OS / Arch | INSTALL | BUILD | CHECK | BUILD BIN | ||||||
| RedeR 1.26.0 Mauro Castro
| malbec1 | Linux (Ubuntu 16.04.1 LTS) / x86_64 | OK | OK | [ OK ] | |||||||
| tokay1 | Windows Server 2012 R2 Standard / x64 | OK | OK | WARNINGS | OK | |||||||
| veracruz1 | OS X 10.11.6 El Capitan / x86_64 | OK | OK | OK | OK |
| Package: RedeR |
| Version: 1.26.0 |
| Command: /home/biocbuild/bbs-3.6-bioc/R/bin/R CMD check --no-vignettes --timings RedeR_1.26.0.tar.gz |
| StartedAt: 2018-04-12 02:16:41 -0400 (Thu, 12 Apr 2018) |
| EndedAt: 2018-04-12 02:17:14 -0400 (Thu, 12 Apr 2018) |
| EllapsedTime: 32.8 seconds |
| RetCode: 0 |
| Status: OK |
| CheckDir: RedeR.Rcheck |
| Warnings: 0 |
##############################################################################
##############################################################################
###
### Running command:
###
### /home/biocbuild/bbs-3.6-bioc/R/bin/R CMD check --no-vignettes --timings RedeR_1.26.0.tar.gz
###
##############################################################################
##############################################################################
* using log directory ‘/home/biocbuild/bbs-3.6-bioc/meat/RedeR.Rcheck’
* using R version 3.4.4 (2018-03-15)
* using platform: x86_64-pc-linux-gnu (64-bit)
* using session charset: UTF-8
* using option ‘--no-vignettes’
* checking for file ‘RedeR/DESCRIPTION’ ... OK
* checking extension type ... Package
* this is package ‘RedeR’ version ‘1.26.0’
* checking package namespace information ... OK
* checking package dependencies ... OK
* checking if this is a source package ... OK
* checking if there is a namespace ... OK
* checking for hidden files and directories ... OK
* checking for portable file names ... OK
* checking for sufficient/correct file permissions ... OK
* checking whether package ‘RedeR’ can be installed ... OK
* checking installed package size ... NOTE
installed size is 10.0Mb
sub-directories of 1Mb or more:
data 3.3Mb
doc 2.0Mb
java 4.3Mb
* checking package directory ... OK
* checking ‘build’ directory ... OK
* checking DESCRIPTION meta-information ... OK
* checking top-level files ... OK
* checking for left-over files ... OK
* checking index information ... OK
* checking package subdirectories ... OK
* checking R files for non-ASCII characters ... OK
* checking R files for syntax errors ... OK
* checking whether the package can be loaded ... OK
* checking whether the package can be loaded with stated dependencies ... OK
* checking whether the package can be unloaded cleanly ... OK
* checking whether the namespace can be loaded with stated dependencies ... OK
* checking whether the namespace can be unloaded cleanly ... OK
* checking dependencies in R code ... OK
* checking S3 generic/method consistency ... OK
* checking replacement functions ... OK
* checking foreign function calls ... OK
* checking R code for possible problems ... OK
* checking Rd files ... OK
* checking Rd metadata ... OK
* checking Rd cross-references ... OK
* checking for missing documentation entries ... OK
* checking for code/documentation mismatches ... OK
* checking Rd \usage sections ... OK
* checking Rd contents ... OK
* checking for unstated dependencies in examples ... OK
* checking contents of ‘data’ directory ... OK
* checking data for non-ASCII characters ... OK
* checking data for ASCII and uncompressed saves ... OK
* checking installed files from ‘inst/doc’ ... OK
* checking files in ‘vignettes’ ... OK
* checking examples ... OK
* checking for unstated dependencies in vignettes ... OK
* checking package vignettes in ‘inst/doc’ ... OK
* checking running R code from vignettes ... SKIPPED
* checking re-building of vignette outputs ... SKIPPED
* checking PDF version of manual ... OK
* DONE
Status: 1 NOTE
See
‘/home/biocbuild/bbs-3.6-bioc/meat/RedeR.Rcheck/00check.log’
for details.
RedeR.Rcheck/00install.out
* installing *source* package ‘RedeR’ ... ** R ** data ** inst ** preparing package for lazy loading ** help *** installing help indices ** building package indices ** installing vignettes ** testing if installed package can be loaded * DONE (RedeR)
RedeR.Rcheck/RedeR-Ex.timings
| name | user | system | elapsed | |
| RedPort-class | 0.012 | 0.000 | 0.009 | |
| RedPort | 0.000 | 0.000 | 0.001 | |
| RedeR.data | 0.464 | 0.000 | 0.465 | |
| addEdgeBetweenContainers | 0.012 | 0.000 | 0.010 | |
| addEdges | 0.008 | 0.000 | 0.008 | |
| addGraph | 0.012 | 0.000 | 0.008 | |
| addLegend | 0.008 | 0.000 | 0.010 | |
| addNodes | 0.004 | 0.000 | 0.007 | |
| addSeries | 0.004 | 0.000 | 0.007 | |
| addSubgraph | 0.008 | 0.000 | 0.008 | |
| addSubgraph.list | 0.008 | 0.000 | 0.008 | |
| att | 0.372 | 0.000 | 0.373 | |
| calld | 0.004 | 0.000 | 0.001 | |
| cea | 0.012 | 0.000 | 0.013 | |
| deSelectEdges | 0.012 | 0.000 | 0.009 | |
| deSelectGraph | 0.012 | 0.000 | 0.011 | |
| deSelectNodes | 0.008 | 0.000 | 0.009 | |
| deleteEdges | 0.008 | 0.004 | 0.011 | |
| deleteNodes | 0.008 | 0.000 | 0.008 | |
| deleteSelectedEdges | 0.008 | 0.000 | 0.008 | |
| deleteSelectedNodes | 0.008 | 0.000 | 0.009 | |
| duplicateGraph | 0.008 | 0.000 | 0.010 | |
| exitd | 0.000 | 0.000 | 0.002 | |
| getContainerComponets | 0.008 | 0.000 | 0.010 | |
| getEdgeIDs | 0.008 | 0.000 | 0.008 | |
| getEdges | 0.008 | 0.000 | 0.009 | |
| getGraph | 0.012 | 0.000 | 0.009 | |
| getNodeIDs | 0.008 | 0.000 | 0.009 | |
| getNodes | 0.008 | 0.000 | 0.009 | |
| getSourceEdgeIDs | 0.012 | 0.000 | 0.010 | |
| getTargetEdgeIDs | 0.008 | 0.000 | 0.009 | |
| gtoy.rm | 0.004 | 0.000 | 0.000 | |
| isDynamicsActive | 0 | 0 | 0 | |
| mergeNodes | 0.012 | 0.000 | 0.011 | |
| mergeOutEdges | 0.008 | 0.000 | 0.009 | |
| nestNodes | 0.008 | 0.000 | 0.008 | |
| nesthc | 1.104 | 0.008 | 1.113 | |
| ping | 0.000 | 0.000 | 0.001 | |
| relax | 0.008 | 0.000 | 0.010 | |
| resetd | 0 | 0 | 0 | |
| selectAllEdges | 0.012 | 0.000 | 0.009 | |
| selectAllNodes | 0.008 | 0.000 | 0.009 | |
| selectEdges | 0.004 | 0.004 | 0.009 | |
| selectGraph | 0.008 | 0.000 | 0.008 | |
| selectNodes | 0.012 | 0.000 | 0.008 | |
| setArrowDirection | 0.008 | 0.000 | 0.009 | |
| subg | 0.044 | 0.000 | 0.045 | |
| updateContainerSize | 0.008 | 0.000 | 0.009 | |
| updateGraph | 0.008 | 0.000 | 0.008 | |
| version | 0 | 0 | 0 | |