| Back to Multiple platform build/check report for BioC 3.6 |
|
This page was generated on 2018-04-12 13:09:41 -0400 (Thu, 12 Apr 2018).
| Package 1147/1472 | Hostname | OS / Arch | INSTALL | BUILD | CHECK | BUILD BIN | ||||||
| ReadqPCR 1.24.0 James Perkins
| malbec1 | Linux (Ubuntu 16.04.1 LTS) / x86_64 | OK | OK | [ OK ] | |||||||
| tokay1 | Windows Server 2012 R2 Standard / x64 | OK | OK | WARNINGS | OK | |||||||
| veracruz1 | OS X 10.11.6 El Capitan / x86_64 | OK | OK | OK | OK |
| Package: ReadqPCR |
| Version: 1.24.0 |
| Command: /home/biocbuild/bbs-3.6-bioc/R/bin/R CMD check --no-vignettes --timings ReadqPCR_1.24.0.tar.gz |
| StartedAt: 2018-04-12 02:15:55 -0400 (Thu, 12 Apr 2018) |
| EndedAt: 2018-04-12 02:16:40 -0400 (Thu, 12 Apr 2018) |
| EllapsedTime: 45.0 seconds |
| RetCode: 0 |
| Status: OK |
| CheckDir: ReadqPCR.Rcheck |
| Warnings: 0 |
##############################################################################
##############################################################################
###
### Running command:
###
### /home/biocbuild/bbs-3.6-bioc/R/bin/R CMD check --no-vignettes --timings ReadqPCR_1.24.0.tar.gz
###
##############################################################################
##############################################################################
* using log directory ‘/home/biocbuild/bbs-3.6-bioc/meat/ReadqPCR.Rcheck’
* using R version 3.4.4 (2018-03-15)
* using platform: x86_64-pc-linux-gnu (64-bit)
* using session charset: UTF-8
* using option ‘--no-vignettes’
* checking for file ‘ReadqPCR/DESCRIPTION’ ... OK
* this is package ‘ReadqPCR’ version ‘1.24.0’
* checking package namespace information ... OK
* checking package dependencies ... OK
* checking if this is a source package ... OK
* checking if there is a namespace ... OK
* checking for hidden files and directories ... OK
* checking for portable file names ... OK
* checking for sufficient/correct file permissions ... OK
* checking whether package ‘ReadqPCR’ can be installed ... OK
* checking installed package size ... OK
* checking package directory ... OK
* checking ‘build’ directory ... OK
* checking DESCRIPTION meta-information ... NOTE
Package listed in more than one of Depends, Imports, Suggests, Enhances:
‘Biobase’
A package should be listed in only one of these fields.
* checking top-level files ... OK
* checking for left-over files ... OK
* checking index information ... OK
* checking package subdirectories ... OK
* checking R files for non-ASCII characters ... OK
* checking R files for syntax errors ... OK
* checking whether the package can be loaded ... OK
* checking whether the package can be loaded with stated dependencies ... OK
* checking whether the package can be unloaded cleanly ... OK
* checking whether the namespace can be loaded with stated dependencies ... OK
* checking whether the namespace can be unloaded cleanly ... OK
* checking dependencies in R code ... NOTE
Packages in Depends field not imported from:
‘affy’ ‘methods’
These packages need to be imported from (in the NAMESPACE file)
for when this namespace is loaded but not attached.
* checking S3 generic/method consistency ... OK
* checking replacement functions ... OK
* checking foreign function calls ... OK
* checking R code for possible problems ... NOTE
.read.TaqBatch: no visible global function definition for ‘read.delim’
.read.qPCR: no visible global function definition for ‘read.table’
.readLC480txt: no visible global function definition for ‘read.table’
.readLC480txt: no visible global function definition for
‘AnnotatedDataFrame’
.readLC480txt: no visible global function definition for ‘new’
qpcR2CyclesSet: no visible global function definition for ‘new’
read.LC480SampleInfo: no visible global function definition for
‘read.table’
read.LC480SampleInfo: no visible global function definition for
‘AnnotatedDataFrame’
read.qPCR: no visible global function definition for ‘new’
read.qPCR: no visible global function definition for ‘pData’
read.qPCR: no visible global function definition for ‘assayDataNew’
read.taqman: no visible global function definition for ‘new’
read.taqman: no visible global function definition for ‘pData’
read.taqman: no visible global function definition for ‘assayDataNew’
effs,qPCRBatch: no visible global function definition for ‘fData’
effs<-,qPCRBatch: no visible global function definition for ‘fData’
effs<-,qPCRBatch: no visible global function definition for ‘fData<-’
exprs.well.order,qPCRBatch: no visible global function definition for
‘assayDataElement’
exprs.well.order<-,qPCRBatch: no visible global function definition for
‘assayDataElementReplace’
exprs,CyclesSet: no visible global function definition for
‘assayDataElement’
exprs,qPCRBatch: no visible global function definition for
‘assayDataElement’
exprs<-,CyclesSet-ANY: no visible global function definition for
‘assayDataElementReplace’
exprs<-,qPCRBatch-ANY: no visible global function definition for
‘assayDataElementReplace’
merge,AnnotatedDataFrame-eSet: no visible global function definition
for ‘pData’
merge,eSet-AnnotatedDataFrame: no visible global function definition
for ‘pData’
merge,eSet-AnnotatedDataFrame: no visible global function definition
for ‘varMetadata’
merge,eSet-AnnotatedDataFrame: no visible global function definition
for ‘phenoData’
merge,eSet-AnnotatedDataFrame: no visible global function definition
for ‘pData<-’
merge,eSet-AnnotatedDataFrame: no visible global function definition
for ‘varMetadata<-’
merge,eSet-AnnotatedDataFrame: no visible global function definition
for ‘phenoData<-’
merge,eSet-AnnotatedDataFrame: no visible global function definition
for ‘featureData’
merge,eSet-AnnotatedDataFrame: no visible global function definition
for ‘fData<-’
merge,eSet-AnnotatedDataFrame: no visible global function definition
for ‘featureData<-’
merge,eSet-AnnotatedDataFrame: no visible global function definition
for ‘protocolData’
merge,eSet-AnnotatedDataFrame: no visible global function definition
for ‘protocolData<-’
se.effs,qPCRBatch: no visible global function definition for ‘fData’
se.effs<-,qPCRBatch: no visible global function definition for ‘fData’
se.effs<-,qPCRBatch: no visible global function definition for
‘fData<-’
se.exprs,qPCRBatch: no visible global function definition for
‘assayDataElement’
se.exprs<-,qPCRBatch: no visible global function definition for
‘assayDataElementReplace’
Undefined global functions or variables:
AnnotatedDataFrame assayDataElement assayDataElementReplace
assayDataNew fData fData<- featureData featureData<- new pData
pData<- phenoData phenoData<- protocolData protocolData<- read.delim
read.table varMetadata varMetadata<-
Consider adding
importFrom("methods", "new")
importFrom("utils", "read.delim", "read.table")
to your NAMESPACE file (and ensure that your DESCRIPTION Imports field
contains 'methods').
* checking Rd files ... OK
* checking Rd metadata ... OK
* checking Rd cross-references ... OK
* checking for missing documentation entries ... OK
* checking for code/documentation mismatches ... OK
* checking Rd \usage sections ... OK
* checking Rd contents ... OK
* checking for unstated dependencies in examples ... OK
* checking installed files from ‘inst/doc’ ... OK
* checking files in ‘vignettes’ ... OK
* checking examples ... OK
* checking for unstated dependencies in vignettes ... OK
* checking package vignettes in ‘inst/doc’ ... OK
* checking running R code from vignettes ... SKIPPED
* checking re-building of vignette outputs ... SKIPPED
* checking PDF version of manual ... OK
* DONE
Status: 3 NOTEs
See
‘/home/biocbuild/bbs-3.6-bioc/meat/ReadqPCR.Rcheck/00check.log’
for details.
ReadqPCR.Rcheck/00install.out
* installing *source* package ‘ReadqPCR’ ... ** R ** inst ** preparing package for lazy loading ** help *** installing help indices ** building package indices ** installing vignettes ** testing if installed package can be loaded * DONE (ReadqPCR)
ReadqPCR.Rcheck/ReadqPCR-Ex.timings
| name | user | system | elapsed | |
| ReadqPCR-package | 0.000 | 0.000 | 0.001 | |
| merge | 0.212 | 0.000 | 0.212 | |
| qpcR2CyclesSet | 1.540 | 0.036 | 1.581 | |
| read.qPCR | 0.064 | 0.000 | 0.064 | |
| read.taqman | 0.468 | 0.000 | 0.469 | |
| readLC480 | 0.128 | 0.004 | 0.132 | |
| readLC480SampleInfo | 0.028 | 0.000 | 0.027 | |