| Back to Multiple platform build/check report for BioC 3.6 |
|
This page was generated on 2018-04-12 13:21:40 -0400 (Thu, 12 Apr 2018).
| Package 1145/1472 | Hostname | OS / Arch | INSTALL | BUILD | CHECK | BUILD BIN | ||||||
| ReactomePA 1.22.0 Guangchuang Yu
| malbec1 | Linux (Ubuntu 16.04.1 LTS) / x86_64 | OK | OK | OK | |||||||
| tokay1 | Windows Server 2012 R2 Standard / x64 | [ OK ] | OK | OK | OK | |||||||
| veracruz1 | OS X 10.11.6 El Capitan / x86_64 | OK | OK | OK | OK |
| Package: ReactomePA |
| Version: 1.22.0 |
| Command: rm -rf ReactomePA.buildbin-libdir && mkdir ReactomePA.buildbin-libdir && C:\cygwin\bin\curl.exe -O https://malbec1.bioconductor.org/BBS/3.6/bioc/src/contrib/ReactomePA_1.22.0.tar.gz && C:\Users\biocbuild\bbs-3.6-bioc\R\bin\R.exe CMD INSTALL --build --library=ReactomePA.buildbin-libdir --merge-multiarch ReactomePA_1.22.0.tar.gz && C:\Users\biocbuild\bbs-3.6-bioc\R\bin\R.exe CMD INSTALL ReactomePA_1.22.0.zip && rm ReactomePA_1.22.0.tar.gz ReactomePA_1.22.0.zip |
| StartedAt: 2018-04-11 18:31:49 -0400 (Wed, 11 Apr 2018) |
| EndedAt: 2018-04-11 18:33:14 -0400 (Wed, 11 Apr 2018) |
| EllapsedTime: 85.4 seconds |
| RetCode: 0 |
| Status: OK |
##############################################################################
##############################################################################
###
### Running command:
###
### rm -rf ReactomePA.buildbin-libdir && mkdir ReactomePA.buildbin-libdir && C:\cygwin\bin\curl.exe -O https://malbec1.bioconductor.org/BBS/3.6/bioc/src/contrib/ReactomePA_1.22.0.tar.gz && C:\Users\biocbuild\bbs-3.6-bioc\R\bin\R.exe CMD INSTALL --build --library=ReactomePA.buildbin-libdir --merge-multiarch ReactomePA_1.22.0.tar.gz && C:\Users\biocbuild\bbs-3.6-bioc\R\bin\R.exe CMD INSTALL ReactomePA_1.22.0.zip && rm ReactomePA_1.22.0.tar.gz ReactomePA_1.22.0.zip
###
##############################################################################
##############################################################################
% Total % Received % Xferd Average Speed Time Time Time Current
Dload Upload Total Spent Left Speed
0 0 0 0 0 0 0 0 --:--:-- --:--:-- --:--:-- 0
100 2341k 100 2341k 0 0 53.3M 0 --:--:-- --:--:-- --:--:-- 57.1M
install for i386
* installing *source* package 'ReactomePA' ...
** R
** inst
** byte-compile and prepare package for lazy loading
** help
*** installing help indices
converting help for package 'ReactomePA'
finding HTML links ... done
DataSet html
ReactomePA-package html
finding level-2 HTML links ... done
enrichPathway html
getALLEG html
getDb html
gsePathway html
viewPathway html
** building package indices
** installing vignettes
** testing if installed package can be loaded
In R CMD INSTALL
install for x64
* installing *source* package 'ReactomePA' ...
** testing if installed package can be loaded
* MD5 sums
packaged installation of 'ReactomePA' as ReactomePA_1.22.0.zip
* DONE (ReactomePA)
In R CMD INSTALL
In R CMD INSTALL
* installing to library 'C:/Users/biocbuild/bbs-3.6-bioc/R/library'
package 'ReactomePA' successfully unpacked and MD5 sums checked
In R CMD INSTALL