| Back to Multiple platform build/check report for BioC 3.6 |
|
This page was generated on 2018-04-12 13:19:00 -0400 (Thu, 12 Apr 2018).
| Package 1143/1472 | Hostname | OS / Arch | INSTALL | BUILD | CHECK | BUILD BIN | ||||||
| Rdisop 1.38.0 Steffen Neumann
| malbec1 | Linux (Ubuntu 16.04.1 LTS) / x86_64 | OK | OK | OK | |||||||
| tokay1 | Windows Server 2012 R2 Standard / x64 | OK | [ OK ] | OK | OK | |||||||
| veracruz1 | OS X 10.11.6 El Capitan / x86_64 | ERROR | ERROR | skipped | skipped |
| Package: Rdisop |
| Version: 1.38.0 |
| Command: chmod a+r Rdisop -R && C:\Users\biocbuild\bbs-3.6-bioc\R\bin\R.exe CMD build --keep-empty-dirs --no-resave-data Rdisop |
| StartedAt: 2018-04-11 19:16:44 -0400 (Wed, 11 Apr 2018) |
| EndedAt: 2018-04-11 19:17:55 -0400 (Wed, 11 Apr 2018) |
| EllapsedTime: 71.3 seconds |
| RetCode: 0 |
| Status: OK |
| PackageFile: Rdisop_1.38.0.tar.gz |
| PackageFileSize: 1005 KiB |
############################################################################## ############################################################################## ### ### Running command: ### ### chmod a+r Rdisop -R && C:\Users\biocbuild\bbs-3.6-bioc\R\bin\R.exe CMD build --keep-empty-dirs --no-resave-data Rdisop ### ############################################################################## ############################################################################## * checking for file 'Rdisop/DESCRIPTION' ... OK * preparing 'Rdisop': * checking DESCRIPTION meta-information ... OK * cleaning src Warning: running command '"make" -f "C:/Users/biocbuild/bbs-3.6-bioc/R/share/make/clean.mk" -f Makevars.win clean' had status 2 * installing the package to build vignettes * creating vignettes ... OK * cleaning src Warning: running command '"make" -f "C:/Users/biocbuild/bbs-3.6-bioc/R/share/make/clean.mk" -f Makevars.win clean' had status 2 * checking for LF line-endings in source and make files and shell scripts * checking for empty or unneeded directories * building 'Rdisop_1.38.0.tar.gz' Warning: file 'Rdisop/cleanup' did not have execute permissions: corrected Warning: file 'Rdisop/src/imslib/configure' did not have execute permissions: corrected