| Back to Multiple platform build/check report for BioC 3.6 |
|
This page was generated on 2018-04-12 13:13:42 -0400 (Thu, 12 Apr 2018).
| Package 1224/1472 | Hostname | OS / Arch | INSTALL | BUILD | CHECK | BUILD BIN | ||||||
| RTCGAToolbox 2.8.0 Marcel Ramos
| malbec1 | Linux (Ubuntu 16.04.1 LTS) / x86_64 | OK | OK | [ OK ] | |||||||
| tokay1 | Windows Server 2012 R2 Standard / x64 | OK | OK | WARNINGS | OK | |||||||
| veracruz1 | OS X 10.11.6 El Capitan / x86_64 | OK | OK | OK | OK |
| Package: RTCGAToolbox |
| Version: 2.8.0 |
| Command: /home/biocbuild/bbs-3.6-bioc/R/bin/R CMD check --no-vignettes --timings RTCGAToolbox_2.8.0.tar.gz |
| StartedAt: 2018-04-12 02:38:13 -0400 (Thu, 12 Apr 2018) |
| EndedAt: 2018-04-12 02:40:23 -0400 (Thu, 12 Apr 2018) |
| EllapsedTime: 129.7 seconds |
| RetCode: 0 |
| Status: OK |
| CheckDir: RTCGAToolbox.Rcheck |
| Warnings: 0 |
##############################################################################
##############################################################################
###
### Running command:
###
### /home/biocbuild/bbs-3.6-bioc/R/bin/R CMD check --no-vignettes --timings RTCGAToolbox_2.8.0.tar.gz
###
##############################################################################
##############################################################################
* using log directory ‘/home/biocbuild/bbs-3.6-bioc/meat/RTCGAToolbox.Rcheck’
* using R version 3.4.4 (2018-03-15)
* using platform: x86_64-pc-linux-gnu (64-bit)
* using session charset: UTF-8
* using option ‘--no-vignettes’
* checking for file ‘RTCGAToolbox/DESCRIPTION’ ... OK
* checking extension type ... Package
* this is package ‘RTCGAToolbox’ version ‘2.8.0’
* checking package namespace information ... OK
* checking package dependencies ... OK
* checking if this is a source package ... OK
* checking if there is a namespace ... OK
* checking for hidden files and directories ... OK
* checking for portable file names ... OK
* checking for sufficient/correct file permissions ... OK
* checking whether package ‘RTCGAToolbox’ can be installed ... OK
* checking installed package size ... OK
* checking package directory ... OK
* checking ‘build’ directory ... OK
* checking DESCRIPTION meta-information ... OK
* checking top-level files ... OK
* checking for left-over files ... OK
* checking index information ... OK
* checking package subdirectories ... OK
* checking R files for non-ASCII characters ... OK
* checking R files for syntax errors ... OK
* checking whether the package can be loaded ... OK
* checking whether the package can be loaded with stated dependencies ... OK
* checking whether the package can be unloaded cleanly ... OK
* checking whether the namespace can be loaded with stated dependencies ... OK
* checking whether the namespace can be unloaded cleanly ... OK
* checking dependencies in R code ... NOTE
Namespaces in Imports field not imported from:
‘Biobase’ ‘httr’ ‘plyr’
All declared Imports should be used.
Unexported objects imported by ':::' calls:
‘GenomicRanges:::.find_width_col’ ‘GenomicRanges:::.normarg_field’
See the note in ?`:::` about the use of this operator.
* checking S3 generic/method consistency ... OK
* checking replacement functions ... OK
* checking foreign function calls ... OK
* checking R code for possible problems ... OK
* checking Rd files ... OK
* checking Rd metadata ... OK
* checking Rd cross-references ... OK
* checking for missing documentation entries ... OK
* checking for code/documentation mismatches ... OK
* checking Rd \usage sections ... OK
* checking Rd contents ... OK
* checking for unstated dependencies in examples ... OK
* checking contents of ‘data’ directory ... OK
* checking data for non-ASCII characters ... OK
* checking data for ASCII and uncompressed saves ... OK
* checking installed files from ‘inst/doc’ ... OK
* checking files in ‘vignettes’ ... OK
* checking examples ... OK
Examples with CPU or elapsed time > 5s
user system elapsed
getReport 8.18 0.096 8.87
* checking for unstated dependencies in vignettes ... OK
* checking package vignettes in ‘inst/doc’ ... OK
* checking running R code from vignettes ... SKIPPED
* checking re-building of vignette outputs ... SKIPPED
* checking PDF version of manual ... OK
* DONE
Status: 1 NOTE
See
‘/home/biocbuild/bbs-3.6-bioc/meat/RTCGAToolbox.Rcheck/00check.log’
for details.
RTCGAToolbox.Rcheck/00install.out
* installing *source* package ‘RTCGAToolbox’ ... ** R ** data *** moving datasets to lazyload DB ** inst ** preparing package for lazy loading ** help *** installing help indices ** building package indices ** installing vignettes ** testing if installed package can be loaded * DONE (RTCGAToolbox)
RTCGAToolbox.Rcheck/RTCGAToolbox-Ex.timings
| name | user | system | elapsed | |
| biocExtract | 0 | 0 | 0 | |
| getCNGECorrelation | 0.876 | 0.020 | 0.896 | |
| getData | 0.180 | 0.108 | 0.290 | |
| getDiffExpressedGenes | 0.684 | 0.024 | 0.709 | |
| getFirehoseAnalyzeDates | 0.000 | 0.004 | 0.138 | |
| getFirehoseData | 0.036 | 0.000 | 0.035 | |
| getFirehoseDatasets | 0.000 | 0.000 | 0.136 | |
| getFirehoseRunningDates | 0.000 | 0.004 | 0.272 | |
| getMutationRate | 0.304 | 0.000 | 0.304 | |
| getReport | 8.180 | 0.096 | 8.870 | |
| getSurvival | 0.096 | 0.000 | 0.095 | |
| showResults-CorResult | 0.764 | 0.012 | 0.774 | |
| showResults-DGEResult | 0.160 | 0.004 | 0.165 | |
| showResults | 0.164 | 0.004 | 0.167 | |