| Back to Multiple platform build/check report for BioC 3.6 |
|
This page was generated on 2018-04-12 13:41:34 -0400 (Thu, 12 Apr 2018).
| Package 1223/1472 | Hostname | OS / Arch | INSTALL | BUILD | CHECK | BUILD BIN | ||||||
| RTCGA 1.8.0 Marcin Kosinski
| malbec1 | Linux (Ubuntu 16.04.1 LTS) / x86_64 | OK | OK | OK | |||||||
| tokay1 | Windows Server 2012 R2 Standard / x64 | OK | OK | WARNINGS | OK | |||||||
| veracruz1 | OS X 10.11.6 El Capitan / x86_64 | OK | OK | OK | [ OK ] |
| Package: RTCGA |
| Version: 1.8.0 |
| Command: rm -rf RTCGA.buildbin-libdir && mkdir RTCGA.buildbin-libdir && /Users/biocbuild/BBS/utils/build-universal.sh RTCGA_1.8.0.tar.gz /Library/Frameworks/R.framework/Versions/Current/Resources/bin/R RTCGA.buildbin-libdir |
| StartedAt: 2018-04-12 12:11:25 -0400 (Thu, 12 Apr 2018) |
| EndedAt: 2018-04-12 12:11:33 -0400 (Thu, 12 Apr 2018) |
| EllapsedTime: 8.2 seconds |
| RetCode: 0 |
| Status: OK |
| PackageFile: RTCGA_1.8.0.tgz |
| PackageFileSize: 452.8 KiB |
############################################################################## ############################################################################## ### ### Running command: ### ### rm -rf RTCGA.buildbin-libdir && mkdir RTCGA.buildbin-libdir && /Users/biocbuild/BBS/utils/build-universal.sh RTCGA_1.8.0.tar.gz /Library/Frameworks/R.framework/Versions/Current/Resources/bin/R RTCGA.buildbin-libdir ### ############################################################################## ############################################################################## >>>>>>> >>>>>>> INSTALLATION WITH 'R CMD INSTALL --preclean --no-multiarch --library=RTCGA.buildbin-libdir RTCGA_1.8.0.tar.gz' >>>>>>> * installing *source* package ‘RTCGA’ ... ** R ** inst ** preparing package for lazy loading ** help *** installing help indices ** building package indices ** installing vignettes ** testing if installed package can be loaded * DONE (RTCGA)