| Back to Multiple platform build/check report for BioC 3.6 |
|
This page was generated on 2018-04-12 13:22:41 -0400 (Thu, 12 Apr 2018).
| Package 1204/1472 | Hostname | OS / Arch | INSTALL | BUILD | CHECK | BUILD BIN | ||||||
| ROntoTools 2.6.0 Calin Voichita
| malbec1 | Linux (Ubuntu 16.04.1 LTS) / x86_64 | OK | OK | OK | |||||||
| tokay1 | Windows Server 2012 R2 Standard / x64 | [ OK ] | OK | OK | OK | |||||||
| veracruz1 | OS X 10.11.6 El Capitan / x86_64 | OK | OK | OK | OK |
| Package: ROntoTools |
| Version: 2.6.0 |
| Command: rm -rf ROntoTools.buildbin-libdir && mkdir ROntoTools.buildbin-libdir && C:\cygwin\bin\curl.exe -O https://malbec1.bioconductor.org/BBS/3.6/bioc/src/contrib/ROntoTools_2.6.0.tar.gz && C:\Users\biocbuild\bbs-3.6-bioc\R\bin\R.exe CMD INSTALL --build --library=ROntoTools.buildbin-libdir --merge-multiarch ROntoTools_2.6.0.tar.gz && C:\Users\biocbuild\bbs-3.6-bioc\R\bin\R.exe CMD INSTALL ROntoTools_2.6.0.zip && rm ROntoTools_2.6.0.tar.gz ROntoTools_2.6.0.zip |
| StartedAt: 2018-04-11 18:39:29 -0400 (Wed, 11 Apr 2018) |
| EndedAt: 2018-04-11 18:40:28 -0400 (Wed, 11 Apr 2018) |
| EllapsedTime: 58.9 seconds |
| RetCode: 0 |
| Status: OK |
##############################################################################
##############################################################################
###
### Running command:
###
### rm -rf ROntoTools.buildbin-libdir && mkdir ROntoTools.buildbin-libdir && C:\cygwin\bin\curl.exe -O https://malbec1.bioconductor.org/BBS/3.6/bioc/src/contrib/ROntoTools_2.6.0.tar.gz && C:\Users\biocbuild\bbs-3.6-bioc\R\bin\R.exe CMD INSTALL --build --library=ROntoTools.buildbin-libdir --merge-multiarch ROntoTools_2.6.0.tar.gz && C:\Users\biocbuild\bbs-3.6-bioc\R\bin\R.exe CMD INSTALL ROntoTools_2.6.0.zip && rm ROntoTools_2.6.0.tar.gz ROntoTools_2.6.0.zip
###
##############################################################################
##############################################################################
% Total % Received % Xferd Average Speed Time Time Time Current
Dload Upload Total Spent Left Speed
0 0 0 0 0 0 0 0 --:--:-- --:--:-- --:--:-- 0
100 1149k 100 1149k 0 0 34.0M 0 --:--:-- --:--:-- --:--:-- 37.4M
install for i386
* installing *source* package 'ROntoTools' ...
** R
** inst
** preparing package for lazy loading
** help
*** installing help indices
converting help for package 'ROntoTools'
finding HTML links ... done
KEGGpathway2Graph html
Summary-pDisRes-method html
Summary-peRes-method html
alpha1MR html
alphaMLG html
compute.fisher html
compute.normalInv html
keggPathwayGraphs html
finding level-2 HTML links ... done
keggPathwayNames html
nodeWeights html
pDis html
pDisPathway-class html
pDisRes-class html
pe html
peEdgeRenderInfo html
peNodeRenderInfo html
pePathway-class html
peRes-class html
plot.pePathway-methods html
plot.peRes-methods html
setEdgeWeights html
setNodeWeights html
subGraphByNodeType html
summary.pDisRes html
summary.peRes html
** building package indices
** installing vignettes
** testing if installed package can be loaded
In R CMD INSTALL
install for x64
* installing *source* package 'ROntoTools' ...
** testing if installed package can be loaded
* MD5 sums
packaged installation of 'ROntoTools' as ROntoTools_2.6.0.zip
* DONE (ROntoTools)
In R CMD INSTALL
In R CMD INSTALL
* installing to library 'C:/Users/biocbuild/bbs-3.6-bioc/R/library'
package 'ROntoTools' successfully unpacked and MD5 sums checked
In R CMD INSTALL