| Back to Multiple platform build/check report for BioC 3.6 |
|
This page was generated on 2018-04-12 13:10:23 -0400 (Thu, 12 Apr 2018).
| Package 1092/1472 | Hostname | OS / Arch | INSTALL | BUILD | CHECK | BUILD BIN | ||||||
| PWMEnrich 4.14.0 Robert Stojnic
| malbec1 | Linux (Ubuntu 16.04.1 LTS) / x86_64 | OK | OK | [ OK ] | |||||||
| tokay1 | Windows Server 2012 R2 Standard / x64 | OK | OK | OK | OK | |||||||
| veracruz1 | OS X 10.11.6 El Capitan / x86_64 | OK | OK | OK | OK |
| Package: PWMEnrich |
| Version: 4.14.0 |
| Command: /home/biocbuild/bbs-3.6-bioc/R/bin/R CMD check --no-vignettes --timings PWMEnrich_4.14.0.tar.gz |
| StartedAt: 2018-04-12 02:01:59 -0400 (Thu, 12 Apr 2018) |
| EndedAt: 2018-04-12 02:03:36 -0400 (Thu, 12 Apr 2018) |
| EllapsedTime: 96.7 seconds |
| RetCode: 0 |
| Status: OK |
| CheckDir: PWMEnrich.Rcheck |
| Warnings: 0 |
##############################################################################
##############################################################################
###
### Running command:
###
### /home/biocbuild/bbs-3.6-bioc/R/bin/R CMD check --no-vignettes --timings PWMEnrich_4.14.0.tar.gz
###
##############################################################################
##############################################################################
* using log directory ‘/home/biocbuild/bbs-3.6-bioc/meat/PWMEnrich.Rcheck’
* using R version 3.4.4 (2018-03-15)
* using platform: x86_64-pc-linux-gnu (64-bit)
* using session charset: UTF-8
* using option ‘--no-vignettes’
* checking for file ‘PWMEnrich/DESCRIPTION’ ... OK
* checking extension type ... Package
* this is package ‘PWMEnrich’ version ‘4.14.0’
* checking package namespace information ... OK
* checking package dependencies ... OK
* checking if this is a source package ... OK
* checking if there is a namespace ... OK
* checking for hidden files and directories ... OK
* checking for portable file names ... OK
* checking for sufficient/correct file permissions ... OK
* checking whether package ‘PWMEnrich’ can be installed ... OK
* checking installed package size ... NOTE
installed size is 5.3Mb
sub-directories of 1Mb or more:
doc 1.4Mb
extdata 3.4Mb
* checking package directory ... OK
* checking ‘build’ directory ... OK
* checking DESCRIPTION meta-information ... OK
* checking top-level files ... OK
* checking for left-over files ... OK
* checking index information ... OK
* checking package subdirectories ... OK
* checking R files for non-ASCII characters ... OK
* checking R files for syntax errors ... OK
* checking whether the package can be loaded ... OK
* checking whether the package can be loaded with stated dependencies ... OK
* checking whether the package can be unloaded cleanly ... OK
* checking whether the namespace can be loaded with stated dependencies ... OK
* checking whether the namespace can be unloaded cleanly ... OK
* checking dependencies in R code ... NOTE
'library' or 'require' calls in package code:
‘PWMEnrich.Dmelanogaster.background’ ‘PWMEnrich.Hsapiens.background’
‘PWMEnrich.Mmusculus.background’ ‘parallel’
Please use :: or requireNamespace() instead.
See section 'Suggested packages' in the 'Writing R Extensions' manual.
* checking S3 generic/method consistency ... OK
* checking replacement functions ... OK
* checking foreign function calls ... OK
* checking R code for possible problems ... NOTE
colMedians: no visible binding for global variable ‘median’
getPromoters: no visible global function definition for
‘providerVersion’
getPromoters: no visible global function definition for ‘data’
gevPerSequence: no visible global function definition for ‘predict.lm’
logNormPval: no visible global function definition for ‘plnorm’
makePWMGEVBackground : <anonymous>: no visible global function
definition for ‘lm’
makePWMLognBackground : dlnorm.lcen: no visible global function
definition for ‘dlnorm’
makePWMLognBackground : dlnorm.lcen: no visible global function
definition for ‘plnorm’
makePWMLognBackground: no visible global function definition for
‘quantile’
makePWMLognBackground: no visible global function definition for
‘median’
makePWMLognBackground: no visible global function definition for
‘optimize’
makePWMPvalCutoffBackground: no visible global function definition for
‘quantile’
makePWMPvalCutoffBackground: no visible global function definition for
‘ecdf’
makePWMPvalCutoffBackgroundFromSeq: no visible global function
definition for ‘na.omit’
makePWMPvalCutoffBackgroundFromSeq: no visible global function
definition for ‘quantile’
makePWMPvalCutoffBackgroundFromSeq: no visible global function
definition for ‘ecdf’
motifEcdf : <anonymous>: no visible global function definition for
‘na.omit’
motifEcdf: no visible binding for global variable ‘ecdf’
motifEnrichment: no visible binding for global variable ‘qlnorm’
motifEnrichment : <anonymous>: no visible global function definition
for ‘pchisq’
motifScores: no visible global function definition for ‘mclapply’
motifScoresBigMemory: no visible global function definition for
‘mclapply’
plotMotifScores: no visible global function definition for ‘palette’
plotMotifScores: no visible global function definition for ‘col2rgb’
plotMotifScores: no visible global function definition for ‘rgb’
plotMotifScores: no visible global function definition for ‘par’
plotMotifScores: no visible global function definition for ‘lines’
plotMotifScores: no visible global function definition for ‘polygon’
plotMotifScores: no visible global function definition for ‘rect’
plotMotifScores: no visible global function definition for ‘text’
registerCoresPWMEnrich: no visible global function definition for
‘detectCores’
tryAllMotifAlignments : <anonymous>: no visible global function
definition for ‘cor’
Undefined global functions or variables:
col2rgb cor data detectCores dlnorm ecdf lines lm mclapply median
na.omit optimize palette par pchisq plnorm polygon predict.lm
providerVersion qlnorm quantile rect rgb text
Consider adding
importFrom("grDevices", "col2rgb", "palette", "rgb")
importFrom("graphics", "lines", "par", "polygon", "rect", "text")
importFrom("stats", "cor", "dlnorm", "ecdf", "lm", "median", "na.omit",
"optimize", "pchisq", "plnorm", "predict.lm", "qlnorm",
"quantile")
importFrom("utils", "data")
to your NAMESPACE file.
* checking Rd files ... OK
* checking Rd metadata ... OK
* checking Rd cross-references ... OK
* checking for missing documentation entries ... OK
* checking for code/documentation mismatches ... OK
* checking Rd \usage sections ... OK
* checking Rd contents ... OK
* checking for unstated dependencies in examples ... OK
* checking installed files from ‘inst/doc’ ... OK
* checking files in ‘vignettes’ ... OK
* checking examples ... OK
* checking for unstated dependencies in ‘tests’ ... OK
* checking tests ...
Running ‘test-all.R’
OK
* checking for unstated dependencies in vignettes ... OK
* checking package vignettes in ‘inst/doc’ ... OK
* checking running R code from vignettes ... SKIPPED
* checking re-building of vignette outputs ... SKIPPED
* checking PDF version of manual ... OK
* DONE
Status: 3 NOTEs
See
‘/home/biocbuild/bbs-3.6-bioc/meat/PWMEnrich.Rcheck/00check.log’
for details.
PWMEnrich.Rcheck/00install.out
* installing *source* package ‘PWMEnrich’ ... ** R ** inst ** preparing package for lazy loading ** help *** installing help indices ** building package indices ** installing vignettes ** testing if installed package can be loaded * DONE (PWMEnrich)
PWMEnrich.Rcheck/tests/test-all.Rout
R version 3.4.4 (2018-03-15) -- "Someone to Lean On"
Copyright (C) 2018 The R Foundation for Statistical Computing
Platform: x86_64-pc-linux-gnu (64-bit)
R is free software and comes with ABSOLUTELY NO WARRANTY.
You are welcome to redistribute it under certain conditions.
Type 'license()' or 'licence()' for distribution details.
R is a collaborative project with many contributors.
Type 'contributors()' for more information and
'citation()' on how to cite R or R packages in publications.
Type 'demo()' for some demos, 'help()' for on-line help, or
'help.start()' for an HTML browser interface to help.
Type 'q()' to quit R.
> library(testthat)
> library(PWMEnrich)
Loading required package: grid
Loading required package: BiocGenerics
Loading required package: parallel
Attaching package: 'BiocGenerics'
The following objects are masked from 'package:parallel':
clusterApply, clusterApplyLB, clusterCall, clusterEvalQ,
clusterExport, clusterMap, parApply, parCapply, parLapply,
parLapplyLB, parRapply, parSapply, parSapplyLB
The following objects are masked from 'package:stats':
IQR, mad, sd, var, xtabs
The following objects are masked from 'package:base':
Filter, Find, Map, Position, Reduce, anyDuplicated, append,
as.data.frame, cbind, colMeans, colSums, colnames, do.call,
duplicated, eval, evalq, get, grep, grepl, intersect, is.unsorted,
lapply, lengths, mapply, match, mget, order, paste, pmax, pmax.int,
pmin, pmin.int, rank, rbind, rowMeans, rowSums, rownames, sapply,
setdiff, sort, table, tapply, union, unique, unsplit, which,
which.max, which.min
Loading required package: Biostrings
Loading required package: S4Vectors
Loading required package: stats4
Attaching package: 'S4Vectors'
The following object is masked from 'package:base':
expand.grid
Loading required package: IRanges
Loading required package: XVector
Attaching package: 'Biostrings'
The following object is masked from 'package:base':
strsplit
>
> test_package("PWMEnrich")
Calculating motif enrichment scores ...
Calculating motif enrichment scores ...
NOTE: Using the 'default' algorithm to infer background parameters,
appropriate for all organisms except human.
Calculating motif enrichment scores ...
Calculating motif enrichment scores ...
Calculating motif enrichment scores ...
Calculating motif enrichment scores ...
Calculating motif enrichment scores ...
Calculating motif enrichment scores ...
Calculating motif enrichment scores ...
Calculating motif enrichment scores ...
NOTE: Using the 'default' algorithm to infer background parameters,
appropriate for all organisms except human.
Calculating motif enrichment scores ...
Calculating motif enrichment scores ...
══ testthat results ═══════════════════════════════════════════════════════════
OK: 48 SKIPPED: 0 FAILED: 0
Warning message:
Placing tests in `inst/tests` is deprecated. Please use `tests/testthat` instead
>
>
> proc.time()
user system elapsed
4.808 0.076 4.881
PWMEnrich.Rcheck/PWMEnrich-Ex.timings
| name | user | system | elapsed | |
| PFMtoPWM | 1.996 | 0.176 | 2.260 | |
| PWMUnscaled | 0.416 | 0.004 | 0.423 | |
| getBackgroundFrequencies | 0 | 0 | 0 | |
| groupReport-commaMotifEnrichmentResults-method | 2.708 | 0.000 | 2.717 | |
| makeBackground | 0.000 | 0.004 | 0.004 | |
| makePWMCutoffBackground | 0.000 | 0.000 | 0.001 | |
| makePWMEmpiricalBackground | 0 | 0 | 0 | |
| makePWMGEVBackground | 0 | 0 | 0 | |
| makePWMLognBackground | 0.000 | 0.000 | 0.001 | |
| makePWMPvalCutoffBackground | 0 | 0 | 0 | |
| makePWMPvalCutoffBackgroundFromSeq | 0 | 0 | 0 | |
| makePriors | 0.000 | 0.000 | 0.002 | |
| motifDiffEnrichment | 2.540 | 0.000 | 2.545 | |
| motifEnrichment | 3.588 | 0.004 | 3.610 | |
| motifIC | 0.068 | 0.000 | 0.079 | |
| motifRankingForGroup-commaMotifEnrichmentResults-method | 1.964 | 0.004 | 1.968 | |
| motifRankingForSequence-commaMotifEnrichmentResults-method | 1.960 | 0.000 | 1.963 | |
| motifScores | 3.692 | 0.012 | 3.709 | |
| motifSimilarity | 0.100 | 0.000 | 0.103 | |
| plot | 0.164 | 0.000 | 0.164 | |
| plotMotifScores | 0.064 | 0.000 | 0.063 | |
| plotTopMotifsGroup-commaMotifEnrichmentResults-method | 2.052 | 0.000 | 2.055 | |
| plotTopMotifsSequence-commaMotifEnrichmentResults-method | 2.044 | 0.012 | 2.059 | |
| readMotifs | 0.116 | 0.004 | 0.119 | |
| registerCoresPWMEnrich | 0 | 0 | 0 | |
| reverseComplement | 0.016 | 0.000 | 0.015 | |
| scanWithPWM | 0.036 | 0.004 | 0.038 | |
| sequenceReport-commaMotifEnrichmentResults-method | 2.696 | 0.008 | 2.704 | |
| toPWM | 1.952 | 0.148 | 2.101 | |
| useBigMemoryPWMEnrich | 0 | 0 | 0 | |