| Back to Multiple platform build/check report for BioC 3.6 |
|
This page was generated on 2018-04-12 13:27:49 -0400 (Thu, 12 Apr 2018).
| Package 909/1472 | Hostname | OS / Arch | INSTALL | BUILD | CHECK | BUILD BIN | ||||||
| MultiAssayExperiment 1.4.9 Marcel Ramos
| malbec1 | Linux (Ubuntu 16.04.1 LTS) / x86_64 | OK | OK | OK | |||||||
| tokay1 | Windows Server 2012 R2 Standard / x64 | [ OK ] | OK | WARNINGS | OK | |||||||
| veracruz1 | OS X 10.11.6 El Capitan / x86_64 | OK | OK | OK | OK |
| Package: MultiAssayExperiment |
| Version: 1.4.9 |
| Command: rm -rf MultiAssayExperiment.buildbin-libdir && mkdir MultiAssayExperiment.buildbin-libdir && C:\cygwin\bin\curl.exe -O https://malbec1.bioconductor.org/BBS/3.6/bioc/src/contrib/MultiAssayExperiment_1.4.9.tar.gz && C:\Users\biocbuild\bbs-3.6-bioc\R\bin\R.exe CMD INSTALL --build --library=MultiAssayExperiment.buildbin-libdir --merge-multiarch MultiAssayExperiment_1.4.9.tar.gz && C:\Users\biocbuild\bbs-3.6-bioc\R\bin\R.exe CMD INSTALL MultiAssayExperiment_1.4.9.zip && rm MultiAssayExperiment_1.4.9.tar.gz MultiAssayExperiment_1.4.9.zip |
| StartedAt: 2018-04-11 18:45:18 -0400 (Wed, 11 Apr 2018) |
| EndedAt: 2018-04-11 18:46:29 -0400 (Wed, 11 Apr 2018) |
| EllapsedTime: 70.2 seconds |
| RetCode: 0 |
| Status: OK |
##############################################################################
##############################################################################
###
### Running command:
###
### rm -rf MultiAssayExperiment.buildbin-libdir && mkdir MultiAssayExperiment.buildbin-libdir && C:\cygwin\bin\curl.exe -O https://malbec1.bioconductor.org/BBS/3.6/bioc/src/contrib/MultiAssayExperiment_1.4.9.tar.gz && C:\Users\biocbuild\bbs-3.6-bioc\R\bin\R.exe CMD INSTALL --build --library=MultiAssayExperiment.buildbin-libdir --merge-multiarch MultiAssayExperiment_1.4.9.tar.gz && C:\Users\biocbuild\bbs-3.6-bioc\R\bin\R.exe CMD INSTALL MultiAssayExperiment_1.4.9.zip && rm MultiAssayExperiment_1.4.9.tar.gz MultiAssayExperiment_1.4.9.zip
###
##############################################################################
##############################################################################
% Total % Received % Xferd Average Speed Time Time Time Current
Dload Upload Total Spent Left Speed
0 0 0 0 0 0 0 0 --:--:-- --:--:-- --:--:-- 0
62 1052k 62 656k 0 0 2195k 0 --:--:-- --:--:-- --:--:-- 2223k
100 1052k 100 1052k 0 0 3037k 0 --:--:-- --:--:-- --:--:-- 3067k
install for i386
* installing *source* package 'MultiAssayExperiment' ...
** R
** data
*** moving datasets to lazyload DB
** inst
** preparing package for lazy loading
** help
*** installing help indices
converting help for package 'MultiAssayExperiment'
finding HTML links ... done
API html
ExperimentList-class html
finding level-2 HTML links ... done
Rd warning: C:/Users/biocbuild/bbs-3.6-bioc/tmpdir/RtmpIRRJ6N/R.INSTALLb6075f1974/MultiAssayExperiment/man/ExperimentList-class.Rd:89: missing file link 'CharacterList'
ExperimentList html
MatchedAssayExperiment-class html
Rd warning: C:/Users/biocbuild/bbs-3.6-bioc/tmpdir/RtmpIRRJ6N/R.INSTALLb6075f1974/MultiAssayExperiment/man/MatchedAssayExperiment-class.Rd:18: missing file link 'DataFrame'
MultiAssayExperiment-class html
Rd warning: C:/Users/biocbuild/bbs-3.6-bioc/tmpdir/RtmpIRRJ6N/R.INSTALLb6075f1974/MultiAssayExperiment/man/MultiAssayExperiment-class.Rd:75: missing file link 'RaggedExperiment'
Rd warning: C:/Users/biocbuild/bbs-3.6-bioc/tmpdir/RtmpIRRJ6N/R.INSTALLb6075f1974/MultiAssayExperiment/man/MultiAssayExperiment-class.Rd:159: missing file link 'SimpleList'
MultiAssayExperiment-helpers html
MultiAssayExperiment-methods html
MultiAssayExperiment-package html
MultiAssayExperiment html
Rd warning: C:/Users/biocbuild/bbs-3.6-bioc/tmpdir/RtmpIRRJ6N/R.INSTALLb6075f1974/MultiAssayExperiment/man/MultiAssayExperiment.Rd:16: missing file link 'DataFrame'
RangedRaggedAssay-class html
Rd warning: C:/Users/biocbuild/bbs-3.6-bioc/tmpdir/RtmpIRRJ6N/R.INSTALLb6075f1974/MultiAssayExperiment/man/RangedRaggedAssay-class.Rd:47: missing file link 'GRangesList'
RangedRaggedAssay html
Rd warning: C:/Users/biocbuild/bbs-3.6-bioc/tmpdir/RtmpIRRJ6N/R.INSTALLb6075f1974/MultiAssayExperiment/man/RangedRaggedAssay.Rd:26: missing file link 'RaggedExperiment'
assay-RangedRaggedAssay-missing-method
html
clusterOn html
hasAssay html
mapToList html
miniACC html
prepMultiAssay html
subsetBy html
upsetSamples html
** building package indices
** installing vignettes
** testing if installed package can be loaded
In R CMD INSTALL
install for x64
* installing *source* package 'MultiAssayExperiment' ...
** testing if installed package can be loaded
* MD5 sums
packaged installation of 'MultiAssayExperiment' as MultiAssayExperiment_1.4.9.zip
* DONE (MultiAssayExperiment)
In R CMD INSTALL
In R CMD INSTALL
* installing to library 'C:/Users/biocbuild/bbs-3.6-bioc/R/library'
package 'MultiAssayExperiment' successfully unpacked and MD5 sums checked
In R CMD INSTALL