| Back to Multiple platform build/check report for BioC 3.6 | 
 | 
This page was generated on 2018-04-12 13:33:50 -0400 (Thu, 12 Apr 2018).
| Package 908/1472 | Hostname | OS / Arch | INSTALL | BUILD | CHECK | BUILD BIN | ||||||
| Mulcom 1.28.0 Claudio Isella 
 | malbec1 | Linux (Ubuntu 16.04.1 LTS) / x86_64 | OK | OK | OK |  | ||||||
| tokay1 | Windows Server 2012 R2 Standard / x64 | OK | OK | OK | OK |  | ||||||
| veracruz1 | OS X 10.11.6 El Capitan / x86_64 | OK | OK | OK | [ OK ] |  | 
| Package: Mulcom | 
| Version: 1.28.0 | 
| Command: rm -rf Mulcom.buildbin-libdir && mkdir Mulcom.buildbin-libdir && /Users/biocbuild/BBS/utils/build-universal.sh Mulcom_1.28.0.tar.gz /Library/Frameworks/R.framework/Versions/Current/Resources/bin/R Mulcom.buildbin-libdir | 
| StartedAt: 2018-04-12 11:53:00 -0400 (Thu, 12 Apr 2018) | 
| EndedAt: 2018-04-12 11:53:09 -0400 (Thu, 12 Apr 2018) | 
| EllapsedTime: 9.2 seconds | 
| RetCode: 0 | 
| Status: OK | 
| PackageFile: Mulcom_1.28.0.tgz | 
| PackageFileSize: 1.412 MiB | 
##############################################################################
##############################################################################
###
### Running command:
###
###   rm -rf Mulcom.buildbin-libdir && mkdir Mulcom.buildbin-libdir && /Users/biocbuild/BBS/utils/build-universal.sh Mulcom_1.28.0.tar.gz /Library/Frameworks/R.framework/Versions/Current/Resources/bin/R Mulcom.buildbin-libdir
###
##############################################################################
##############################################################################
>>>>>>> 
>>>>>>> INSTALLATION WITH 'R CMD INSTALL --preclean --no-multiarch --library=Mulcom.buildbin-libdir Mulcom_1.28.0.tar.gz'
>>>>>>> 
* installing *source* package ‘Mulcom’ ...
** libs
clang++  -I/Library/Frameworks/R.framework/Resources/include -DNDEBUG   -I/usr/local/include   -fPIC  -Wall -g -O2  -c mulLibs.cc -o mulLibs.o
mulLibs.cc:708:17: warning: expression result unused [-Wunused-value]
                current_cluster ;
                ^˜˜˜˜˜˜˜˜˜˜˜˜˜˜
1 warning generated.
clang++ -dynamiclib -Wl,-headerpad_max_install_names -undefined dynamic_lookup -single_module -multiply_defined suppress -L/Library/Frameworks/R.framework/Resources/lib -L/usr/local/lib -o Mulcom.so mulLibs.o -F/Library/Frameworks/R.framework/.. -framework R -Wl,-framework -Wl,CoreFoundation
installing to /Users/biocbuild/bbs-3.6-bioc/meat/Mulcom.buildbin-libdir/Mulcom/libs
** R
** data
** inst
** preparing package for lazy loading
** help
*** installing help indices
** building package indices
** installing vignettes
** testing if installed package can be loaded
* DONE (Mulcom)
>>>>>>> 
>>>>>>> FIXING LINKS FOR Mulcom.buildbin-libdir/Mulcom/libs//Mulcom.so
>>>>>>> 
install_name_tool -change "/usr/local/lib/libgcc_s.1.dylib" "/Library/Frameworks/R.framework/Versions/3.4/Resources/lib/libgcc_s.1.dylib" "Mulcom.buildbin-libdir/Mulcom/libs//Mulcom.so"
install_name_tool -change "/usr/local/lib/libgfortran.3.dylib" "/Library/Frameworks/R.framework/Versions/3.4/Resources/lib/libgfortran.3.dylib" "Mulcom.buildbin-libdir/Mulcom/libs//Mulcom.so"
install_name_tool -change "/usr/local/lib/libreadline.5.2.dylib" "/Library/Frameworks/R.framework/Versions/3.4/Resources/lib/libreadline.5.2.dylib" "Mulcom.buildbin-libdir/Mulcom/libs//Mulcom.so"
install_name_tool -change "/usr/local/lib/libreadline.dylib" "/Library/Frameworks/R.framework/Versions/3.4/Resources/lib/libreadline.dylib" "Mulcom.buildbin-libdir/Mulcom/libs//Mulcom.so"
install_name_tool -change "/usr/local/lib/libquadmath.0.dylib" "/Library/Frameworks/R.framework/Versions/3.4/Resources/lib/libquadmath.0.dylib" "Mulcom.buildbin-libdir/Mulcom/libs//Mulcom.so"