| Back to Multiple platform build/check report for BioC 3.6 |
|
This page was generated on 2018-04-12 13:35:55 -0400 (Thu, 12 Apr 2018).
| Package 889/1472 | Hostname | OS / Arch | INSTALL | BUILD | CHECK | BUILD BIN | ||||||
| MotifDb 1.20.0 Paul Shannon
| malbec1 | Linux (Ubuntu 16.04.1 LTS) / x86_64 | OK | OK | OK | |||||||
| tokay1 | Windows Server 2012 R2 Standard / x64 | OK | OK | OK | OK | |||||||
| veracruz1 | OS X 10.11.6 El Capitan / x86_64 | OK | OK | OK | [ OK ] |
| Package: MotifDb |
| Version: 1.20.0 |
| Command: rm -rf MotifDb.buildbin-libdir && mkdir MotifDb.buildbin-libdir && /Users/biocbuild/BBS/utils/build-universal.sh MotifDb_1.20.0.tar.gz /Library/Frameworks/R.framework/Versions/Current/Resources/bin/R MotifDb.buildbin-libdir |
| StartedAt: 2018-04-12 11:51:47 -0400 (Thu, 12 Apr 2018) |
| EndedAt: 2018-04-12 11:52:08 -0400 (Thu, 12 Apr 2018) |
| EllapsedTime: 21.3 seconds |
| RetCode: 0 |
| Status: OK |
| PackageFile: MotifDb_1.20.0.tgz |
| PackageFileSize: 2.847 MiB |
##############################################################################
##############################################################################
###
### Running command:
###
### rm -rf MotifDb.buildbin-libdir && mkdir MotifDb.buildbin-libdir && /Users/biocbuild/BBS/utils/build-universal.sh MotifDb_1.20.0.tar.gz /Library/Frameworks/R.framework/Versions/Current/Resources/bin/R MotifDb.buildbin-libdir
###
##############################################################################
##############################################################################
>>>>>>>
>>>>>>> INSTALLATION WITH 'R CMD INSTALL --preclean --no-multiarch --library=MotifDb.buildbin-libdir MotifDb_1.20.0.tar.gz'
>>>>>>>
* installing *source* package ‘MotifDb’ ...
** R
** inst
** preparing package for lazy loading
** help
*** installing help indices
** building package indices
** installing vignettes
** testing if installed package can be loaded
See system.file("LICENSE", package="MotifDb") for use restrictions.
* DONE (MotifDb)