| Back to Multiple platform build/check report for BioC 3.6 |
|
This page was generated on 2018-04-12 13:17:35 -0400 (Thu, 12 Apr 2018).
| Package 810/1472 | Hostname | OS / Arch | INSTALL | BUILD | CHECK | BUILD BIN | ||||||
| MergeMaid 2.50.0 Xiaogang Zhong
| malbec1 | Linux (Ubuntu 16.04.1 LTS) / x86_64 | OK | OK | WARNINGS | |||||||
| tokay1 | Windows Server 2012 R2 Standard / x64 | [ OK ] | OK | WARNINGS | OK | |||||||
| veracruz1 | OS X 10.11.6 El Capitan / x86_64 | OK | OK | WARNINGS | OK |
| Package: MergeMaid |
| Version: 2.50.0 |
| Command: rm -rf MergeMaid.buildbin-libdir && mkdir MergeMaid.buildbin-libdir && C:\cygwin\bin\curl.exe -O https://malbec1.bioconductor.org/BBS/3.6/bioc/src/contrib/MergeMaid_2.50.0.tar.gz && C:\Users\biocbuild\bbs-3.6-bioc\R\bin\R.exe CMD INSTALL --build --library=MergeMaid.buildbin-libdir --merge-multiarch MergeMaid_2.50.0.tar.gz && C:\Users\biocbuild\bbs-3.6-bioc\R\bin\R.exe CMD INSTALL MergeMaid_2.50.0.zip && rm MergeMaid_2.50.0.tar.gz MergeMaid_2.50.0.zip |
| StartedAt: 2018-04-11 18:23:51 -0400 (Wed, 11 Apr 2018) |
| EndedAt: 2018-04-11 18:24:28 -0400 (Wed, 11 Apr 2018) |
| EllapsedTime: 37.1 seconds |
| RetCode: 0 |
| Status: OK |
##############################################################################
##############################################################################
###
### Running command:
###
### rm -rf MergeMaid.buildbin-libdir && mkdir MergeMaid.buildbin-libdir && C:\cygwin\bin\curl.exe -O https://malbec1.bioconductor.org/BBS/3.6/bioc/src/contrib/MergeMaid_2.50.0.tar.gz && C:\Users\biocbuild\bbs-3.6-bioc\R\bin\R.exe CMD INSTALL --build --library=MergeMaid.buildbin-libdir --merge-multiarch MergeMaid_2.50.0.tar.gz && C:\Users\biocbuild\bbs-3.6-bioc\R\bin\R.exe CMD INSTALL MergeMaid_2.50.0.zip && rm MergeMaid_2.50.0.tar.gz MergeMaid_2.50.0.zip
###
##############################################################################
##############################################################################
% Total % Received % Xferd Average Speed Time Time Time Current
Dload Upload Total Spent Left Speed
0 0 0 0 0 0 0 0 --:--:-- --:--:-- --:--:-- 0
100 339k 100 339k 0 0 13.8M 0 --:--:-- --:--:-- --:--:-- 15.8M
install for i386
* installing *source* package 'MergeMaid' ...
** R
** data
** preparing package for lazy loading
** help
*** installing help indices
converting help for package 'MergeMaid'
finding HTML links ... done
class.mergeCoeff html
class.mergeCor html
class.mergeExpressionSet html
intCor html
intcorDens html
intersection html
mergeData html
mergeExprs html
modelOutcome html
** building package indices
** installing vignettes
** testing if installed package can be loaded
In R CMD INSTALL
install for x64
* installing *source* package 'MergeMaid' ...
** testing if installed package can be loaded
* MD5 sums
packaged installation of 'MergeMaid' as MergeMaid_2.50.0.zip
* DONE (MergeMaid)
In R CMD INSTALL
In R CMD INSTALL
* installing to library 'C:/Users/biocbuild/bbs-3.6-bioc/R/library'
package 'MergeMaid' successfully unpacked and MD5 sums checked
In R CMD INSTALL