| Back to Multiple platform build/check report for BioC 3.6 |
|
This page was generated on 2018-04-12 13:18:40 -0400 (Thu, 12 Apr 2018).
| Package 789/1472 | Hostname | OS / Arch | INSTALL | BUILD | CHECK | BUILD BIN | ||||||
| MassSpecWavelet 1.44.0 Pan Du
| malbec1 | Linux (Ubuntu 16.04.1 LTS) / x86_64 | OK | OK | OK | |||||||
| tokay1 | Windows Server 2012 R2 Standard / x64 | [ OK ] | OK | OK | OK | |||||||
| veracruz1 | OS X 10.11.6 El Capitan / x86_64 | OK | OK | OK | OK |
| Package: MassSpecWavelet |
| Version: 1.44.0 |
| Command: rm -rf MassSpecWavelet.buildbin-libdir && mkdir MassSpecWavelet.buildbin-libdir && C:\cygwin\bin\curl.exe -O https://malbec1.bioconductor.org/BBS/3.6/bioc/src/contrib/MassSpecWavelet_1.44.0.tar.gz && C:\Users\biocbuild\bbs-3.6-bioc\R\bin\R.exe CMD INSTALL --build --library=MassSpecWavelet.buildbin-libdir --merge-multiarch MassSpecWavelet_1.44.0.tar.gz && C:\Users\biocbuild\bbs-3.6-bioc\R\bin\R.exe CMD INSTALL MassSpecWavelet_1.44.0.zip && rm MassSpecWavelet_1.44.0.tar.gz MassSpecWavelet_1.44.0.zip |
| StartedAt: 2018-04-11 18:10:51 -0400 (Wed, 11 Apr 2018) |
| EndedAt: 2018-04-11 18:11:54 -0400 (Wed, 11 Apr 2018) |
| EllapsedTime: 63.2 seconds |
| RetCode: 0 |
| Status: OK |
##############################################################################
##############################################################################
###
### Running command:
###
### rm -rf MassSpecWavelet.buildbin-libdir && mkdir MassSpecWavelet.buildbin-libdir && C:\cygwin\bin\curl.exe -O https://malbec1.bioconductor.org/BBS/3.6/bioc/src/contrib/MassSpecWavelet_1.44.0.tar.gz && C:\Users\biocbuild\bbs-3.6-bioc\R\bin\R.exe CMD INSTALL --build --library=MassSpecWavelet.buildbin-libdir --merge-multiarch MassSpecWavelet_1.44.0.tar.gz && C:\Users\biocbuild\bbs-3.6-bioc\R\bin\R.exe CMD INSTALL MassSpecWavelet_1.44.0.zip && rm MassSpecWavelet_1.44.0.tar.gz MassSpecWavelet_1.44.0.zip
###
##############################################################################
##############################################################################
% Total % Received % Xferd Average Speed Time Time Time Current
Dload Upload Total Spent Left Speed
0 0 0 0 0 0 0 0 --:--:-- --:--:-- --:--:-- 0
100 80181 100 80181 0 0 561k 0 --:--:-- --:--:-- --:--:-- 575k
install for i386
* installing *source* package 'MassSpecWavelet' ...
** libs
C:/Rtools/mingw_32/bin/gcc -I"C:/Users/BIOCBU˜1/BBS-3˜1.6-B/R/include" -DNDEBUG -I"C:/local323/include" -O3 -Wall -std=gnu99 -mtune=generic -c convolve2.c -o convolve2.o
C:/Rtools/mingw_32/bin/g++ -shared -s -static-libgcc -o MassSpecWavelet.dll tmp.def convolve2.o -LC:/local323/lib/i386 -LC:/local323/lib -LC:/Users/BIOCBU˜1/BBS-3˜1.6-B/R/bin/i386 -lR
installing to C:/Users/biocbuild/bbs-3.6-bioc/meat/MassSpecWavelet.buildbin-libdir/MassSpecWavelet/libs/i386
** R
** data
** inst
** preparing package for lazy loading
** help
*** installing help indices
converting help for package 'MassSpecWavelet'
finding HTML links ... done
MassSpecWavelet.package html
cwt html
exampleMS html
extendLength html
extendNBase html
getLocalMaximumCWT html
getRidge html
getRidgeLength html
getRidgeValue html
identifyMajorPeaks html
localMaximum html
mzInd2vRange html
mzV2indRange html
peakDetectionCWT html
plotLocalMax html
plotPeak html
plotRidgeList html
sav.gol html
smoothDWT html
tuneInPeakInfo html
** building package indices
** installing vignettes
** testing if installed package can be loaded
In R CMD INSTALL
install for x64
* installing *source* package 'MassSpecWavelet' ...
** libs
C:/Rtools/mingw_64/bin/gcc -I"C:/Users/BIOCBU˜1/BBS-3˜1.6-B/R/include" -DNDEBUG -I"C:/local323/include" -O2 -Wall -std=gnu99 -mtune=generic -c convolve2.c -o convolve2.o
C:/Rtools/mingw_64/bin/g++ -shared -s -static-libgcc -o MassSpecWavelet.dll tmp.def convolve2.o -LC:/local323/lib/x64 -LC:/local323/lib -LC:/Users/BIOCBU˜1/BBS-3˜1.6-B/R/bin/x64 -lR
installing to C:/Users/biocbuild/bbs-3.6-bioc/meat/MassSpecWavelet.buildbin-libdir/MassSpecWavelet/libs/x64
** testing if installed package can be loaded
* MD5 sums
packaged installation of 'MassSpecWavelet' as MassSpecWavelet_1.44.0.zip
* DONE (MassSpecWavelet)
In R CMD INSTALL
In R CMD INSTALL
* installing to library 'C:/Users/biocbuild/bbs-3.6-bioc/R/library'
package 'MassSpecWavelet' successfully unpacked and MD5 sums checked
In R CMD INSTALL