| Back to Multiple platform build/check report for BioC 3.6 |
|
This page was generated on 2018-04-12 13:28:06 -0400 (Thu, 12 Apr 2018).
| Package 879/1472 | Hostname | OS / Arch | INSTALL | BUILD | CHECK | BUILD BIN | ||||||
| MMDiff2 1.6.0 Gabriele Schweikert
| malbec1 | Linux (Ubuntu 16.04.1 LTS) / x86_64 | OK | OK | OK | |||||||
| tokay1 | Windows Server 2012 R2 Standard / x64 | [ OK ] | OK | OK | OK | |||||||
| veracruz1 | OS X 10.11.6 El Capitan / x86_64 | OK | OK | OK | OK |
| Package: MMDiff2 |
| Version: 1.6.0 |
| Command: C:\Users\biocbuild\bbs-3.6-bioc\R\bin\R.exe --arch i386 CMD INSTALL --no-multiarch MMDiff2 |
| StartedAt: 2018-04-11 18:50:58 -0400 (Wed, 11 Apr 2018) |
| EndedAt: 2018-04-11 18:51:55 -0400 (Wed, 11 Apr 2018) |
| EllapsedTime: 56.2 seconds |
| RetCode: 0 |
| Status: OK |
##############################################################################
##############################################################################
###
### Running command:
###
### C:\Users\biocbuild\bbs-3.6-bioc\R\bin\R.exe --arch i386 CMD INSTALL --no-multiarch MMDiff2
###
##############################################################################
##############################################################################
* installing to library 'C:/Users/biocbuild/bbs-3.6-bioc/R/library'
* installing *source* package 'MMDiff2' ...
** R
** data
** preparing package for lazy loading
** help
*** installing help indices
converting help for package 'MMDiff2'
finding HTML links ... done
Cfp1-Peaks html
DBAmmd-Accessors html
DBAmmd-class html
MMD html
compDists html
compHists html
compPvals html
estimateFragmentCenters html
getPeakReads html
mm9-Genes html
myGeneric html
plotDISTS4Peak html
plotDists html
plotPeak html
reportResults html
runShinyMMDiff2 html
server.MMDiff2 html
ui.MMDiff2 html
** building package indices
** installing vignettes
** testing if installed package can be loaded
* DONE (MMDiff2)
Making 'packages.html' ... done
In R CMD INSTALL