| Back to Multiple platform build/check report for BioC 3.6 |
|
This page was generated on 2018-04-12 13:31:27 -0400 (Thu, 12 Apr 2018).
| Package 876/1472 | Hostname | OS / Arch | INSTALL | BUILD | CHECK | BUILD BIN | ||||||
| MLInterfaces 1.58.1 V. Carey
| malbec1 | Linux (Ubuntu 16.04.1 LTS) / x86_64 | OK | OK | OK | |||||||
| tokay1 | Windows Server 2012 R2 Standard / x64 | OK | OK | WARNINGS | OK | |||||||
| veracruz1 | OS X 10.11.6 El Capitan / x86_64 | OK | OK | [ OK ] | OK |
| Package: MLInterfaces |
| Version: 1.58.1 |
| Command: /Library/Frameworks/R.framework/Versions/Current/Resources/bin/R CMD check --no-vignettes --timings MLInterfaces_1.58.1.tar.gz |
| StartedAt: 2018-04-12 06:34:22 -0400 (Thu, 12 Apr 2018) |
| EndedAt: 2018-04-12 06:37:32 -0400 (Thu, 12 Apr 2018) |
| EllapsedTime: 190.0 seconds |
| RetCode: 0 |
| Status: OK |
| CheckDir: MLInterfaces.Rcheck |
| Warnings: 0 |
##############################################################################
##############################################################################
###
### Running command:
###
### /Library/Frameworks/R.framework/Versions/Current/Resources/bin/R CMD check --no-vignettes --timings MLInterfaces_1.58.1.tar.gz
###
##############################################################################
##############################################################################
* using log directory ‘/Users/biocbuild/bbs-3.6-bioc/meat/MLInterfaces.Rcheck’
* using R version 3.4.4 (2018-03-15)
* using platform: x86_64-apple-darwin15.6.0 (64-bit)
* using session charset: UTF-8
* using option ‘--no-vignettes’
* checking for file ‘MLInterfaces/DESCRIPTION’ ... OK
* this is package ‘MLInterfaces’ version ‘1.58.1’
* checking package namespace information ... OK
* checking package dependencies ... OK
* checking if this is a source package ... OK
* checking if there is a namespace ... OK
* checking for hidden files and directories ... OK
* checking for portable file names ... OK
* checking for sufficient/correct file permissions ... OK
* checking whether package ‘MLInterfaces’ can be installed ... OK
* checking installed package size ... OK
* checking package directory ... OK
* checking ‘build’ directory ... OK
* checking DESCRIPTION meta-information ... OK
* checking top-level files ... OK
* checking for left-over files ... OK
* checking index information ... OK
* checking package subdirectories ... OK
* checking R files for non-ASCII characters ... OK
* checking R files for syntax errors ... OK
* checking whether the package can be loaded ... OK
* checking whether the package can be loaded with stated dependencies ... OK
* checking whether the package can be unloaded cleanly ... OK
* checking whether the namespace can be loaded with stated dependencies ... OK
* checking whether the namespace can be unloaded cleanly ... OK
* checking dependencies in R code ... NOTE
Unexported objects imported by ':::' calls:
‘MASS:::predict.lda’ ‘ada:::predict.ada’ ‘e1071:::predict.svm’
‘rpart:::predict.rpart’ ‘stats:::plot.hclust’
See the note in ?`:::` about the use of this operator.
* checking S3 generic/method consistency ... OK
* checking replacement functions ... OK
* checking foreign function calls ... OK
* checking R code for possible problems ... NOTE
hclustWidget : <anonymous>: no visible global function definition for
‘:=’
hclustWidget : <anonymous>: no visible binding for global variable
‘key’
Undefined global functions or variables:
:= key
* checking Rd files ... NOTE
prepare_Rd: plspinHcube.Rd:17-19: Dropping empty section \details
* checking Rd metadata ... OK
* checking Rd cross-references ... OK
* checking for missing documentation entries ... OK
* checking for code/documentation mismatches ... OK
* checking Rd \usage sections ... OK
* checking Rd contents ... OK
* checking for unstated dependencies in examples ... OK
* checking sizes of PDF files under ‘inst/doc’ ... OK
* checking installed files from ‘inst/doc’ ... OK
* checking files in ‘vignettes’ ... OK
* checking examples ... OK
Examples with CPU or elapsed time > 5s
user system elapsed
MLearn-new 18.09 1.357 19.008
* checking for unstated dependencies in ‘tests’ ... OK
* checking tests ...
Running ‘runTests.R’
OK
* checking for unstated dependencies in vignettes ... OK
* checking package vignettes in ‘inst/doc’ ... OK
* checking running R code from vignettes ... SKIPPED
* checking re-building of vignette outputs ... SKIPPED
* checking PDF version of manual ... OK
* DONE
Status: 3 NOTEs
See
‘/Users/biocbuild/bbs-3.6-bioc/meat/MLInterfaces.Rcheck/00check.log’
for details.
MLInterfaces.Rcheck/00install.out
* installing *source* package ‘MLInterfaces’ ... ** R ** inst ** preparing package for lazy loading ** help *** installing help indices ** building package indices ** installing vignettes ** testing if installed package can be loaded * DONE (MLInterfaces)
MLInterfaces.Rcheck/tests/runTests.Rout
R version 3.4.4 (2018-03-15) -- "Someone to Lean On"
Copyright (C) 2018 The R Foundation for Statistical Computing
Platform: x86_64-apple-darwin15.6.0 (64-bit)
R is free software and comes with ABSOLUTELY NO WARRANTY.
You are welcome to redistribute it under certain conditions.
Type 'license()' or 'licence()' for distribution details.
R is a collaborative project with many contributors.
Type 'contributors()' for more information and
'citation()' on how to cite R or R packages in publications.
Type 'demo()' for some demos, 'help()' for on-line help, or
'help.start()' for an HTML browser interface to help.
Type 'q()' to quit R.
> BiocGenerics:::testPackage("MLInterfaces")
Attaching package: 'BiocGenerics'
The following objects are masked from 'package:parallel':
clusterApply, clusterApplyLB, clusterCall, clusterEvalQ,
clusterExport, clusterMap, parApply, parCapply, parLapply,
parLapplyLB, parRapply, parSapply, parSapplyLB
The following objects are masked from 'package:stats':
IQR, mad, sd, var, xtabs
The following objects are masked from 'package:base':
Filter, Find, Map, Position, Reduce, anyDuplicated, append,
as.data.frame, cbind, colMeans, colSums, colnames, do.call,
duplicated, eval, evalq, get, grep, grepl, intersect, is.unsorted,
lapply, lengths, mapply, match, mget, order, paste, pmax, pmax.int,
pmin, pmin.int, rank, rbind, rowMeans, rowSums, rownames, sapply,
setdiff, sort, table, tapply, union, unique, unsplit, which,
which.max, which.min
Welcome to Bioconductor
Vignettes contain introductory material; view with
'browseVignettes()'. To cite Bioconductor, see
'citation("Biobase")', and for packages 'citation("pkgname")'.
Attaching package: 'S4Vectors'
The following object is masked from 'package:base':
expand.grid
RUNIT TEST PROTOCOL -- Thu Apr 12 06:37:28 2018
***********************************************
Number of test functions: 0
Number of errors: 0
Number of failures: 0
1 Test Suite :
MLInterfaces RUnit Tests - 0 test functions, 0 errors, 0 failures
Number of test functions: 0
Number of errors: 0
Number of failures: 0
>
> proc.time()
user system elapsed
6.543 0.246 6.942
MLInterfaces.Rcheck/MLInterfaces-Ex.timings
| name | user | system | elapsed | |
| MLearn-new | 18.090 | 1.357 | 19.008 | |
| RAB | 0.130 | 0.004 | 0.134 | |
| balKfold.xvspec | 0.032 | 0.002 | 0.035 | |
| classifierOutput-class | 1.137 | 0.270 | 1.622 | |
| clusteringOutput-class | 0.001 | 0.000 | 0.003 | |
| confuMat-methods | 0.274 | 0.029 | 0.309 | |
| confuTab | 0.007 | 0.001 | 0.009 | |
| fs.absT | 0.044 | 0.005 | 0.053 | |
| fsHistory | 1.345 | 0.203 | 0.133 | |
| hclustWidget | 0.002 | 0.000 | 0.002 | |
| learnerSchema-class | 0.000 | 0.001 | 0.001 | |
| performance-analytics | 0.006 | 0.004 | 0.010 | |
| planarPlot-methods | 3.190 | 0.248 | 3.510 | |
| plspinHcube | 0 | 0 | 0 | |
| predict.classifierOutput | 3.220 | 0.017 | 3.330 | |
| projectLearnerToGrid | 0.735 | 0.050 | 0.806 | |
| projectedLearner-class | 0.002 | 0.001 | 0.002 | |
| raboostCont-class | 0.002 | 0.000 | 0.002 | |
| varImpStruct-class | 0.658 | 0.027 | 0.706 | |
| xvalLoop | 0.001 | 0.000 | 0.002 | |
| xvalSpec | 0.174 | 0.099 | 0.212 | |