| Back to Multiple platform build/check report for BioC 3.6 |
|
This page was generated on 2018-04-12 13:15:32 -0400 (Thu, 12 Apr 2018).
| Package 790/1472 | Hostname | OS / Arch | INSTALL | BUILD | CHECK | BUILD BIN | ||||||
| MAST 1.4.1 Andrew McDavid
| malbec1 | Linux (Ubuntu 16.04.1 LTS) / x86_64 | OK | OK | [ OK ] | |||||||
| tokay1 | Windows Server 2012 R2 Standard / x64 | OK | OK | OK | OK | |||||||
| veracruz1 | OS X 10.11.6 El Capitan / x86_64 | OK | OK | OK | OK |
| Package: MAST |
| Version: 1.4.1 |
| Command: /home/biocbuild/bbs-3.6-bioc/R/bin/R CMD check --no-vignettes --timings MAST_1.4.1.tar.gz |
| StartedAt: 2018-04-12 00:47:57 -0400 (Thu, 12 Apr 2018) |
| EndedAt: 2018-04-12 00:51:17 -0400 (Thu, 12 Apr 2018) |
| EllapsedTime: 199.4 seconds |
| RetCode: 0 |
| Status: OK |
| CheckDir: MAST.Rcheck |
| Warnings: 0 |
##############################################################################
##############################################################################
###
### Running command:
###
### /home/biocbuild/bbs-3.6-bioc/R/bin/R CMD check --no-vignettes --timings MAST_1.4.1.tar.gz
###
##############################################################################
##############################################################################
* using log directory ‘/home/biocbuild/bbs-3.6-bioc/meat/MAST.Rcheck’
* using R version 3.4.4 (2018-03-15)
* using platform: x86_64-pc-linux-gnu (64-bit)
* using session charset: UTF-8
* using option ‘--no-vignettes’
* checking for file ‘MAST/DESCRIPTION’ ... OK
* checking extension type ... Package
* this is package ‘MAST’ version ‘1.4.1’
* checking package namespace information ... OK
* checking package dependencies ... OK
* checking if this is a source package ... OK
* checking if there is a namespace ... OK
* checking for hidden files and directories ... NOTE
Found the following hidden files and directories:
.travis.yml
These were most likely included in error. See section ‘Package
structure’ in the ‘Writing R Extensions’ manual.
* checking for portable file names ... OK
* checking for sufficient/correct file permissions ... OK
* checking whether package ‘MAST’ can be installed ... OK
* checking installed package size ... NOTE
installed size is 8.2Mb
sub-directories of 1Mb or more:
data 3.7Mb
doc 3.7Mb
* checking package directory ... OK
* checking ‘build’ directory ... OK
* checking DESCRIPTION meta-information ... OK
* checking top-level files ... OK
* checking for left-over files ... OK
* checking index information ... OK
* checking package subdirectories ... OK
* checking R files for non-ASCII characters ... OK
* checking R files for syntax errors ... OK
* checking whether the package can be loaded ... OK
* checking whether the package can be loaded with stated dependencies ... OK
* checking whether the package can be unloaded cleanly ... OK
* checking whether the namespace can be loaded with stated dependencies ... OK
* checking whether the namespace can be unloaded cleanly ... OK
* checking dependencies in R code ... OK
* checking S3 generic/method consistency ... OK
* checking replacement functions ... OK
* checking foreign function calls ... OK
* checking R code for possible problems ... OK
* checking Rd files ... OK
* checking Rd metadata ... OK
* checking Rd cross-references ... OK
* checking for missing documentation entries ... OK
* checking for code/documentation mismatches ... OK
* checking Rd \usage sections ... OK
* checking Rd contents ... OK
* checking for unstated dependencies in examples ... OK
* checking contents of ‘data’ directory ... OK
* checking data for non-ASCII characters ... OK
* checking data for ASCII and uncompressed saves ... OK
* checking installed files from ‘inst/doc’ ... OK
* checking files in ‘vignettes’ ... OK
* checking examples ... OK
* checking for unstated dependencies in ‘tests’ ... OK
* checking tests ...
Running ‘testthat.R’
OK
* checking for unstated dependencies in vignettes ... OK
* checking package vignettes in ‘inst/doc’ ... OK
* checking running R code from vignettes ... SKIPPED
* checking re-building of vignette outputs ... SKIPPED
* checking PDF version of manual ... OK
* DONE
Status: 2 NOTEs
See
‘/home/biocbuild/bbs-3.6-bioc/meat/MAST.Rcheck/00check.log’
for details.
MAST.Rcheck/00install.out
* installing *source* package ‘MAST’ ... ** R ** data *** moving datasets to lazyload DB ** inst ** preparing package for lazy loading ** help *** installing help indices ** building package indices ** installing vignettes ** testing if installed package can be loaded * DONE (MAST)
MAST.Rcheck/tests/testthat.Rout
R version 3.4.4 (2018-03-15) -- "Someone to Lean On"
Copyright (C) 2018 The R Foundation for Statistical Computing
Platform: x86_64-pc-linux-gnu (64-bit)
R is free software and comes with ABSOLUTELY NO WARRANTY.
You are welcome to redistribute it under certain conditions.
Type 'license()' or 'licence()' for distribution details.
R is a collaborative project with many contributors.
Type 'contributors()' for more information and
'citation()' on how to cite R or R packages in publications.
Type 'demo()' for some demos, 'help()' for on-line help, or
'help.start()' for an HTML browser interface to help.
Type 'q()' to quit R.
> library(testthat)
> test_check("MAST")
Loading required package: MAST
Loading required package: SummarizedExperiment
Loading required package: GenomicRanges
Loading required package: stats4
Loading required package: BiocGenerics
Loading required package: parallel
Attaching package: 'BiocGenerics'
The following objects are masked from 'package:parallel':
clusterApply, clusterApplyLB, clusterCall, clusterEvalQ,
clusterExport, clusterMap, parApply, parCapply, parLapply,
parLapplyLB, parRapply, parSapply, parSapplyLB
The following objects are masked from 'package:stats':
IQR, mad, sd, var, xtabs
The following objects are masked from 'package:base':
Filter, Find, Map, Position, Reduce, anyDuplicated, append,
as.data.frame, cbind, colMeans, colSums, colnames, do.call,
duplicated, eval, evalq, get, grep, grepl, intersect, is.unsorted,
lapply, lengths, mapply, match, mget, order, paste, pmax, pmax.int,
pmin, pmin.int, rank, rbind, rowMeans, rowSums, rownames, sapply,
setdiff, sort, table, tapply, union, unique, unsplit, which,
which.max, which.min
Loading required package: S4Vectors
Attaching package: 'S4Vectors'
The following object is masked from 'package:base':
expand.grid
Loading required package: IRanges
Loading required package: GenomeInfoDb
Loading required package: Biobase
Welcome to Bioconductor
Vignettes contain introductory material; view with
'browseVignettes()'. To cite Bioconductor, see
'citation("Biobase")', and for packages 'citation("pkgname")'.
Loading required package: DelayedArray
Loading required package: matrixStats
Attaching package: 'matrixStats'
The following objects are masked from 'package:Biobase':
anyMissing, rowMedians
Attaching package: 'DelayedArray'
The following objects are masked from 'package:matrixStats':
colMaxs, colMins, colRanges, rowMaxs, rowMins, rowRanges
The following object is masked from 'package:base':
apply
Attaching package: 'MAST'
The following object is masked from 'package:stats':
filter
Error : number of levels of each grouping factor must be < number of observations
(0.0426,0.354] (0.354,0.757] (0.757,1.28] (1.28,1.96] (1.96,2.84]
2.258200 2.258200 2.258200 2.258200 2.258200
(2.84,3.99] (3.99,13.2]
2.258200 3.313588
(0.0602,0.436] (0.436,0.67] (0.67,0.944] (0.944,1.26] (1.26,1.63]
1.967142 1.967142 1.967142 2.003488 2.003488
(1.63,2.06] (2.06,2.56] (2.56,3.83]
2.600202 2.600202 2.600202
(0.03,1.56] (1.56,5.36] (5.36,14.8] (14.8,9.25e+03]
238.2279 238.2279 238.2279 4525.1912
Error in (function (x, y, weights = rep(1, nobs), start = NULL, etastart = NULL, :
NAs in V(mu)
══ testthat results ═══════════════════════════════════════════════════════════
OK: 277 SKIPPED: 5 FAILED: 0
>
> proc.time()
user system elapsed
33.276 0.384 44.777
MAST.Rcheck/MAST-Ex.timings
| name | user | system | elapsed | |
| Drop | 0.000 | 0.000 | 0.001 | |
| FromFlatDF | 1.348 | 0.020 | 1.142 | |
| FromMatrix | 0.140 | 0.000 | 0.141 | |
| Hypothesis | 0.008 | 0.000 | 0.006 | |
| LRT | 0.280 | 0.016 | 0.298 | |
| ZlmFit-class | 1.516 | 0.004 | 1.522 | |
| applyFlat | 0.004 | 0.000 | 0.002 | |
| bootVcov1 | 0.304 | 0.004 | 0.310 | |
| cData | 0.316 | 0.004 | 0.321 | |
| calcZ | 0.876 | 0.000 | 0.843 | |
| collectResiduals | 1.152 | 0.004 | 1.082 | |
| computeEtFromCt | 0.032 | 0.008 | 0.041 | |
| convertMASTClassicToSingleCellAssay | 0.012 | 0.000 | 0.010 | |
| defaultPrior | 0.000 | 0.000 | 0.001 | |
| expavg | 0.000 | 0.000 | 0.001 | |
| filterLowExpressedGenes | 0.02 | 0.00 | 0.02 | |
| freq | 0.012 | 0.004 | 0.015 | |
| getConcordance | 0.212 | 0.004 | 0.214 | |
| getwellKey | 0.012 | 0.000 | 0.012 | |
| gseaAfterBoot | 0.812 | 0.000 | 0.772 | |
| hushWarning | 0.000 | 0.000 | 0.002 | |
| impute | 2.596 | 0.020 | 2.614 | |
| invlogit | 0.004 | 0.000 | 0.001 | |
| logFC | 0.200 | 0.004 | 0.200 | |
| logmean | 0.000 | 0.000 | 0.001 | |
| lrTest | 0.508 | 0.004 | 0.513 | |
| mast_filter | 0.552 | 0.000 | 0.554 | |
| melt.SingleCellAssay | 0.028 | 0.000 | 0.031 | |
| plot.thresholdSCRNACountMatrix | 1.308 | 0.020 | 1.331 | |
| plotSCAConcordance | 0.760 | 0.000 | 0.761 | |
| predict.ZlmFit | 1.888 | 0.004 | 1.870 | |
| se.coef | 0.444 | 0.000 | 0.443 | |
| split-SingleCellAssay-character-method | 0.036 | 0.004 | 0.040 | |
| stat_ell | 1.764 | 0.000 | 1.749 | |
| subset-SingleCellAssay-method | 0.020 | 0.000 | 0.017 | |
| summary-GSEATests-method | 0.716 | 0.008 | 0.686 | |
| summary-ZlmFit-method | 0.252 | 0.004 | 0.173 | |
| thresholdSCRNACountMatrix | 0.756 | 0.020 | 0.777 | |
| waldTest | 0.760 | 0.008 | 0.769 | |
| zlm | 0.228 | 0.000 | 0.230 | |