| Back to Multiple platform build/check report for BioC 3.6 |
|
This page was generated on 2018-04-12 13:26:48 -0400 (Thu, 12 Apr 2018).
| Package 757/1472 | Hostname | OS / Arch | INSTALL | BUILD | CHECK | BUILD BIN | ||||||
| LOLA 1.8.0 Nathan Sheffield
| malbec1 | Linux (Ubuntu 16.04.1 LTS) / x86_64 | OK | OK | OK | |||||||
| tokay1 | Windows Server 2012 R2 Standard / x64 | OK | [ OK ] | OK | OK | |||||||
| veracruz1 | OS X 10.11.6 El Capitan / x86_64 | OK | OK | OK | OK |
| Package: LOLA |
| Version: 1.8.0 |
| Command: chmod a+r LOLA -R && C:\Users\biocbuild\bbs-3.6-bioc\R\bin\R.exe CMD build --keep-empty-dirs --no-resave-data LOLA |
| StartedAt: 2018-04-11 20:47:47 -0400 (Wed, 11 Apr 2018) |
| EndedAt: 2018-04-11 20:48:27 -0400 (Wed, 11 Apr 2018) |
| EllapsedTime: 39.4 seconds |
| RetCode: 0 |
| Status: OK |
| PackageFile: LOLA_1.8.0.tar.gz |
| PackageFileSize: 760.3 KiB |
############################################################################## ############################################################################## ### ### Running command: ### ### chmod a+r LOLA -R && C:\Users\biocbuild\bbs-3.6-bioc\R\bin\R.exe CMD build --keep-empty-dirs --no-resave-data LOLA ### ############################################################################## ############################################################################## * checking for file 'LOLA/DESCRIPTION' ... OK * preparing 'LOLA': * checking DESCRIPTION meta-information ... OK * installing the package to build vignettes * creating vignettes ... OK * checking for LF line-endings in source and make files and shell scripts * checking for empty or unneeded directories * looking to see if a 'data/datalist' file should be added * building 'LOLA_1.8.0.tar.gz'