| Back to Multiple platform build/check report for BioC 3.6 |
|
This page was generated on 2018-04-12 13:07:04 -0400 (Thu, 12 Apr 2018).
| Package 712/1472 | Hostname | OS / Arch | INSTALL | BUILD | CHECK | BUILD BIN | ||||||
| IRanges 2.12.0 Bioconductor Package Maintainer
| malbec1 | Linux (Ubuntu 16.04.1 LTS) / x86_64 | [ OK ] | OK | WARNINGS | |||||||
| tokay1 | Windows Server 2012 R2 Standard / x64 | OK | OK | WARNINGS | OK | |||||||
| veracruz1 | OS X 10.11.6 El Capitan / x86_64 | OK | OK | WARNINGS | OK |
| Package: IRanges |
| Version: 2.12.0 |
| Command: /home/biocbuild/bbs-3.6-bioc/R/bin/R CMD INSTALL IRanges |
| StartedAt: 2018-04-11 17:57:33 -0400 (Wed, 11 Apr 2018) |
| EndedAt: 2018-04-11 17:57:45 -0400 (Wed, 11 Apr 2018) |
| EllapsedTime: 11.8 seconds |
| RetCode: 0 |
| Status: OK |
##############################################################################
##############################################################################
###
### Running command:
###
### /home/biocbuild/bbs-3.6-bioc/R/bin/R CMD INSTALL IRanges
###
##############################################################################
##############################################################################
* installing to library ‘/home/biocbuild/bbs-3.6-bioc/R/library’
* installing *source* package ‘IRanges’ ...
** libs
gcc -I/home/biocbuild/bbs-3.6-bioc/R/include -DNDEBUG -I"/home/biocbuild/bbs-3.6-bioc/R/library/S4Vectors/include" -I/usr/local/include -fpic -g -O2 -Wall -c CompressedAtomicList_utils.c -o CompressedAtomicList_utils.o
gcc -I/home/biocbuild/bbs-3.6-bioc/R/include -DNDEBUG -I"/home/biocbuild/bbs-3.6-bioc/R/library/S4Vectors/include" -I/usr/local/include -fpic -g -O2 -Wall -c CompressedIRangesList_class.c -o CompressedIRangesList_class.o
gcc -I/home/biocbuild/bbs-3.6-bioc/R/include -DNDEBUG -I"/home/biocbuild/bbs-3.6-bioc/R/library/S4Vectors/include" -I/usr/local/include -fpic -g -O2 -Wall -c CompressedList_class.c -o CompressedList_class.o
gcc -I/home/biocbuild/bbs-3.6-bioc/R/include -DNDEBUG -I"/home/biocbuild/bbs-3.6-bioc/R/library/S4Vectors/include" -I/usr/local/include -fpic -g -O2 -Wall -c Grouping_class.c -o Grouping_class.o
gcc -I/home/biocbuild/bbs-3.6-bioc/R/include -DNDEBUG -I"/home/biocbuild/bbs-3.6-bioc/R/library/S4Vectors/include" -I/usr/local/include -fpic -g -O2 -Wall -c IRanges_class.c -o IRanges_class.o
gcc -I/home/biocbuild/bbs-3.6-bioc/R/include -DNDEBUG -I"/home/biocbuild/bbs-3.6-bioc/R/library/S4Vectors/include" -I/usr/local/include -fpic -g -O2 -Wall -c IRanges_constructor.c -o IRanges_constructor.o
gcc -I/home/biocbuild/bbs-3.6-bioc/R/include -DNDEBUG -I"/home/biocbuild/bbs-3.6-bioc/R/library/S4Vectors/include" -I/usr/local/include -fpic -g -O2 -Wall -c NCList.c -o NCList.o
NCList.c:202:22: warning: ‘next_top_down’ defined but not used [-Wunused-function]
static const NCList *next_top_down(const NCList *nclist)
^
NCList.c:1173:13: warning: ‘NCList_get_y_overlaps_rec’ defined but not used [-Wunused-function]
static void NCList_get_y_overlaps_rec(const NCList *x_nclist,
^
NCList.c: In function ‘NCList_find_overlaps_in_groups’:
NCList.c:1545:7: warning: ‘ans’ may be used uninitialized in this function [-Wmaybe-uninitialized]
SEXP ans;
^
gcc -I/home/biocbuild/bbs-3.6-bioc/R/include -DNDEBUG -I"/home/biocbuild/bbs-3.6-bioc/R/library/S4Vectors/include" -I/usr/local/include -fpic -g -O2 -Wall -c R_init_IRanges.c -o R_init_IRanges.o
gcc -I/home/biocbuild/bbs-3.6-bioc/R/include -DNDEBUG -I"/home/biocbuild/bbs-3.6-bioc/R/library/S4Vectors/include" -I/usr/local/include -fpic -g -O2 -Wall -c Ranges_class.c -o Ranges_class.o
gcc -I/home/biocbuild/bbs-3.6-bioc/R/include -DNDEBUG -I"/home/biocbuild/bbs-3.6-bioc/R/library/S4Vectors/include" -I/usr/local/include -fpic -g -O2 -Wall -c Ranges_comparison.c -o Ranges_comparison.o
gcc -I/home/biocbuild/bbs-3.6-bioc/R/include -DNDEBUG -I"/home/biocbuild/bbs-3.6-bioc/R/library/S4Vectors/include" -I/usr/local/include -fpic -g -O2 -Wall -c RleViews_utils.c -o RleViews_utils.o
gcc -I/home/biocbuild/bbs-3.6-bioc/R/include -DNDEBUG -I"/home/biocbuild/bbs-3.6-bioc/R/library/S4Vectors/include" -I/usr/local/include -fpic -g -O2 -Wall -c S4Vectors_stubs.c -o S4Vectors_stubs.o
gcc -I/home/biocbuild/bbs-3.6-bioc/R/include -DNDEBUG -I"/home/biocbuild/bbs-3.6-bioc/R/library/S4Vectors/include" -I/usr/local/include -fpic -g -O2 -Wall -c SimpleRangesList_class.c -o SimpleRangesList_class.o
gcc -I/home/biocbuild/bbs-3.6-bioc/R/include -DNDEBUG -I"/home/biocbuild/bbs-3.6-bioc/R/library/S4Vectors/include" -I/usr/local/include -fpic -g -O2 -Wall -c coverage_methods.c -o coverage_methods.o
coverage_methods.c: In function ‘compute_coverage_from_IRanges_holder’:
coverage_methods.c:503:28: warning: ‘x_end’ may be used uninitialized in this function [-Wmaybe-uninitialized]
if (*out_ranges_are_tiles && x_end != cvg_len)
^
coverage_methods.c:419:21: note: ‘x_end’ was declared here
i, j, x_start, x_end, shift_elt, tmp;
^
gcc -I/home/biocbuild/bbs-3.6-bioc/R/include -DNDEBUG -I"/home/biocbuild/bbs-3.6-bioc/R/library/S4Vectors/include" -I/usr/local/include -fpic -g -O2 -Wall -c inter_range_methods.c -o inter_range_methods.o
inter_range_methods.c: In function ‘reduce_ranges’:
inter_range_methods.c:165:5: warning: ‘revmap_elt’ may be used uninitialized in this function [-Wmaybe-uninitialized]
IntAE_insert_at(revmap_elt,
^
inter_range_methods.c:154:11: warning: ‘delta’ may be used uninitialized in this function [-Wmaybe-uninitialized]
delta += gapwidth;
^
inter_range_methods.c:154:11: warning: ‘gapwidth’ may be used uninitialized in this function [-Wmaybe-uninitialized]
inter_range_methods.c:156:14: warning: ‘max_end’ may be used uninitialized in this function [-Wmaybe-uninitialized]
width_inc = end_j - max_end;
^
inter_range_methods.c:131:6: warning: ‘append_or_drop’ may be used uninitialized in this function [-Wmaybe-uninitialized]
if (append_or_drop) {
^
g++ -shared -L/home/biocbuild/bbs-3.6-bioc/R/lib -L/usr/local/lib -o IRanges.so CompressedAtomicList_utils.o CompressedIRangesList_class.o CompressedList_class.o Grouping_class.o IRanges_class.o IRanges_constructor.o NCList.o R_init_IRanges.o Ranges_class.o Ranges_comparison.o RleViews_utils.o S4Vectors_stubs.o SimpleRangesList_class.o coverage_methods.o inter_range_methods.o -L/home/biocbuild/bbs-3.6-bioc/R/lib -lR
installing to /home/biocbuild/bbs-3.6-bioc/R/library/IRanges/libs
** R
** inst
** preparing package for lazy loading
Creating a generic function for ‘drop’ from package ‘base’ in package ‘IRanges’
Creating a generic function for ‘smoothEnds’ from package ‘stats’ in package ‘IRanges’
Creating a generic function for ‘runmed’ from package ‘stats’ in package ‘IRanges’
Creating a generic function for ‘chartr’ from package ‘base’ in package ‘IRanges’
Creating a generic function for ‘tolower’ from package ‘base’ in package ‘IRanges’
Creating a generic function for ‘toupper’ from package ‘base’ in package ‘IRanges’
Creating a generic function for ‘sub’ from package ‘base’ in package ‘IRanges’
Creating a generic function for ‘gsub’ from package ‘base’ in package ‘IRanges’
** help
*** installing help indices
** building package indices
** installing vignettes
** testing if installed package can be loaded
* DONE (IRanges)