| Back to Multiple platform build/check report for BioC 3.6 |
|
This page was generated on 2018-04-12 13:10:17 -0400 (Thu, 12 Apr 2018).
| Package 657/1472 | Hostname | OS / Arch | INSTALL | BUILD | CHECK | BUILD BIN | ||||||
| HiTC 1.22.1 Nicolas Servant
| malbec1 | Linux (Ubuntu 16.04.1 LTS) / x86_64 | OK | OK | [ OK ] | |||||||
| tokay1 | Windows Server 2012 R2 Standard / x64 | OK | OK | WARNINGS | OK | |||||||
| veracruz1 | OS X 10.11.6 El Capitan / x86_64 | OK | OK | OK | OK |
| Package: HiTC |
| Version: 1.22.1 |
| Command: /home/biocbuild/bbs-3.6-bioc/R/bin/R CMD check --no-vignettes --timings HiTC_1.22.1.tar.gz |
| StartedAt: 2018-04-12 00:16:44 -0400 (Thu, 12 Apr 2018) |
| EndedAt: 2018-04-12 00:20:30 -0400 (Thu, 12 Apr 2018) |
| EllapsedTime: 225.9 seconds |
| RetCode: 0 |
| Status: OK |
| CheckDir: HiTC.Rcheck |
| Warnings: 0 |
##############################################################################
##############################################################################
###
### Running command:
###
### /home/biocbuild/bbs-3.6-bioc/R/bin/R CMD check --no-vignettes --timings HiTC_1.22.1.tar.gz
###
##############################################################################
##############################################################################
* using log directory ‘/home/biocbuild/bbs-3.6-bioc/meat/HiTC.Rcheck’
* using R version 3.4.4 (2018-03-15)
* using platform: x86_64-pc-linux-gnu (64-bit)
* using session charset: UTF-8
* using option ‘--no-vignettes’
* checking for file ‘HiTC/DESCRIPTION’ ... OK
* checking extension type ... Package
* this is package ‘HiTC’ version ‘1.22.1’
* checking package namespace information ... OK
* checking package dependencies ... OK
* checking if this is a source package ... OK
* checking if there is a namespace ... OK
* checking for hidden files and directories ... NOTE
Found the following hidden files and directories:
.BBSoptions
These were most likely included in error. See section ‘Package
structure’ in the ‘Writing R Extensions’ manual.
* checking for portable file names ... OK
* checking for sufficient/correct file permissions ... OK
* checking whether package ‘HiTC’ can be installed ... OK
* checking installed package size ... OK
* checking package directory ... OK
* checking ‘build’ directory ... OK
* checking DESCRIPTION meta-information ... OK
* checking top-level files ... OK
* checking for left-over files ... OK
* checking index information ... OK
* checking package subdirectories ... OK
* checking R files for non-ASCII characters ... OK
* checking R files for syntax errors ... OK
* checking whether the package can be loaded ... OK
* checking whether the package can be loaded with stated dependencies ... OK
* checking whether the package can be unloaded cleanly ... OK
* checking whether the namespace can be loaded with stated dependencies ... OK
* checking whether the namespace can be unloaded cleanly ... OK
* checking dependencies in R code ... OK
* checking S3 generic/method consistency ... OK
* checking replacement functions ... OK
* checking foreign function calls ... OK
* checking R code for possible problems ... NOTE
directionalityIndex: no visible global function definition for
‘subjectHits’
directionalityIndex: no visible global function definition for
‘queryHits’
getBlocsIndex: no visible global function definition for ‘Rle’
getExpectedCountsMean: no visible global function definition for ‘Rle’
normLGF: no visible global function definition for ‘glm.nb’
slidingWindow: no visible binding for global variable ‘consV’
splitCombinedContacts : <anonymous>: no visible global function
definition for ‘seqlevels<-’
divide,HTCexp-HTCexp: no visible global function definition for
‘queryHits’
divide,HTCexp-HTCexp: no visible global function definition for
‘subjectHits’
isBinned,HTCexp: no visible global function definition for
‘countMatches’
substract,HTCexp-HTCexp: no visible global function definition for
‘queryHits’
substract,HTCexp-HTCexp: no visible global function definition for
‘subjectHits’
Undefined global functions or variables:
Rle consV countMatches glm.nb queryHits seqlevels<- subjectHits
* checking Rd files ... OK
* checking Rd metadata ... OK
* checking Rd cross-references ... OK
* checking for missing documentation entries ... OK
* checking for code/documentation mismatches ... OK
* checking Rd \usage sections ... OK
* checking Rd contents ... OK
* checking for unstated dependencies in examples ... OK
* checking contents of ‘data’ directory ... OK
* checking data for non-ASCII characters ... OK
* checking data for ASCII and uncompressed saves ... OK
* checking installed files from ‘inst/doc’ ... OK
* checking files in ‘vignettes’ ... OK
* checking examples ... OK
Examples with CPU or elapsed time > 5s
user system elapsed
directionalityIndex 47.6 0.384 48.187
* checking for unstated dependencies in vignettes ... OK
* checking package vignettes in ‘inst/doc’ ... OK
* checking running R code from vignettes ... SKIPPED
* checking re-building of vignette outputs ... SKIPPED
* checking PDF version of manual ... OK
* DONE
Status: 2 NOTEs
See
‘/home/biocbuild/bbs-3.6-bioc/meat/HiTC.Rcheck/00check.log’
for details.
HiTC.Rcheck/00install.out
* installing *source* package ‘HiTC’ ... ** R ** data ** inst ** preparing package for lazy loading ** help *** installing help indices ** building package indices ** installing vignettes ** testing if installed package can be loaded * DONE (HiTC)
HiTC.Rcheck/HiTC-Ex.timings
| name | user | system | elapsed | |
| CQC | 3.956 | 0.052 | 4.010 | |
| HTCexp-class | 4.392 | 0.064 | 4.460 | |
| HTClist-class | 1.028 | 0.000 | 1.032 | |
| Nora_5C | 0.332 | 0.008 | 0.337 | |
| binningC | 1.040 | 0.000 | 1.043 | |
| directionalityIndex | 47.600 | 0.384 | 48.187 | |
| discretize | 0.004 | 0.000 | 0.000 | |
| export.my5C | 0.000 | 0.000 | 0.001 | |
| exportC | 0.000 | 0.000 | 0.001 | |
| extractRegion | 0.412 | 0.012 | 0.421 | |
| getAnnotatedRestrictionSites | 0 | 0 | 0 | |
| getExpectedCounts | 1.724 | 0.096 | 1.835 | |
| getPearsonMap | 1.012 | 0.000 | 1.010 | |
| getRestrictionFragmentsPerChromosome | 0 | 0 | 0 | |
| import.my5C | 0.056 | 0.000 | 0.056 | |
| importC | 0.000 | 0.000 | 0.001 | |
| intervalsDist | 0.364 | 0.004 | 0.366 | |
| mapC | 3.160 | 0.032 | 3.194 | |
| normICE | 0.004 | 0.000 | 0.000 | |
| normLGF | 0.000 | 0.000 | 0.001 | |
| pca.hic | 0.520 | 0.008 | 0.529 | |
| removeIntervals | 0.224 | 0.008 | 0.232 | |
| setGenomicFeatures | 0.000 | 0.000 | 0.001 | |
| setIntervalScale | 0.692 | 0.004 | 0.699 | |