| Back to Multiple platform build/check report for BioC 3.6 |
|
This page was generated on 2018-04-12 13:42:25 -0400 (Thu, 12 Apr 2018).
| Package 641/1472 | Hostname | OS / Arch | INSTALL | BUILD | CHECK | BUILD BIN | ||||||
| HDF5Array 1.6.0 Hervé Pagès
| malbec1 | Linux (Ubuntu 16.04.1 LTS) / x86_64 | OK | OK | OK | |||||||
| tokay1 | Windows Server 2012 R2 Standard / x64 | OK | OK | WARNINGS | OK | |||||||
| veracruz1 | OS X 10.11.6 El Capitan / x86_64 | OK | OK | OK | [ OK ] |
| Package: HDF5Array |
| Version: 1.6.0 |
| Command: rm -rf HDF5Array.buildbin-libdir && mkdir HDF5Array.buildbin-libdir && /Users/biocbuild/BBS/utils/build-universal.sh HDF5Array_1.6.0.tar.gz /Library/Frameworks/R.framework/Versions/Current/Resources/bin/R HDF5Array.buildbin-libdir |
| StartedAt: 2018-04-12 11:37:59 -0400 (Thu, 12 Apr 2018) |
| EndedAt: 2018-04-12 11:38:09 -0400 (Thu, 12 Apr 2018) |
| EllapsedTime: 10.5 seconds |
| RetCode: 0 |
| Status: OK |
| PackageFile: HDF5Array_1.6.0.tgz |
| PackageFileSize: 7.721 MiB |
############################################################################## ############################################################################## ### ### Running command: ### ### rm -rf HDF5Array.buildbin-libdir && mkdir HDF5Array.buildbin-libdir && /Users/biocbuild/BBS/utils/build-universal.sh HDF5Array_1.6.0.tar.gz /Library/Frameworks/R.framework/Versions/Current/Resources/bin/R HDF5Array.buildbin-libdir ### ############################################################################## ############################################################################## >>>>>>> >>>>>>> INSTALLATION WITH 'R CMD INSTALL --preclean --no-multiarch --library=HDF5Array.buildbin-libdir HDF5Array_1.6.0.tar.gz' >>>>>>> * installing *source* package ‘HDF5Array’ ... ** R ** inst ** preparing package for lazy loading ** help *** installing help indices ** building package indices ** testing if installed package can be loaded * DONE (HDF5Array)