| Back to Multiple platform build/check report for BioC 3.6 | 
  | 
This page was generated on 2018-04-12 13:31:42 -0400 (Thu, 12 Apr 2018).
| Package 539/1472 | Hostname | OS / Arch | INSTALL | BUILD | CHECK | BUILD BIN | ||||||
| GeneMeta 1.50.0 Bioconductor Package Maintainer 
  | malbec1 | Linux (Ubuntu 16.04.1 LTS) / x86_64 | OK | OK | OK | |||||||
| tokay1 | Windows Server 2012 R2 Standard / x64 | OK | OK | OK | OK | |||||||
| veracruz1 | OS X 10.11.6 El Capitan / x86_64 | OK | OK | OK | [ OK ] | 
| Package: GeneMeta | 
| Version: 1.50.0 | 
| Command: rm -rf GeneMeta.buildbin-libdir && mkdir GeneMeta.buildbin-libdir && /Users/biocbuild/BBS/utils/build-universal.sh GeneMeta_1.50.0.tar.gz /Library/Frameworks/R.framework/Versions/Current/Resources/bin/R GeneMeta.buildbin-libdir | 
| StartedAt: 2018-04-12 11:31:54 -0400 (Thu, 12 Apr 2018) | 
| EndedAt: 2018-04-12 11:32:04 -0400 (Thu, 12 Apr 2018) | 
| EllapsedTime: 10.2 seconds | 
| RetCode: 0 | 
| Status: OK | 
| PackageFile: GeneMeta_1.50.0.tgz | 
| PackageFileSize: 2.63 MiB | 
############################################################################## ############################################################################## ### ### Running command: ### ### rm -rf GeneMeta.buildbin-libdir && mkdir GeneMeta.buildbin-libdir && /Users/biocbuild/BBS/utils/build-universal.sh GeneMeta_1.50.0.tar.gz /Library/Frameworks/R.framework/Versions/Current/Resources/bin/R GeneMeta.buildbin-libdir ### ############################################################################## ############################################################################## >>>>>>> >>>>>>> INSTALLATION WITH 'R CMD INSTALL --preclean --no-multiarch --library=GeneMeta.buildbin-libdir GeneMeta_1.50.0.tar.gz' >>>>>>> * installing *source* package ‘GeneMeta’ ... ** R ** data ** inst ** preparing package for lazy loading ** help *** installing help indices ** building package indices ** installing vignettes ** testing if installed package can be loaded * DONE (GeneMeta)