| Back to Multiple platform build/check report for BioC 3.6 |
|
This page was generated on 2018-04-12 13:19:30 -0400 (Thu, 12 Apr 2018).
| Package 600/1472 | Hostname | OS / Arch | INSTALL | BUILD | CHECK | BUILD BIN | ||||||
| GOSemSim 2.4.1 Guangchuang Yu
| malbec1 | Linux (Ubuntu 16.04.1 LTS) / x86_64 | OK | OK | OK | |||||||
| tokay1 | Windows Server 2012 R2 Standard / x64 | [ OK ] | OK | OK | OK | |||||||
| veracruz1 | OS X 10.11.6 El Capitan / x86_64 | OK | OK | OK | OK |
| Package: GOSemSim |
| Version: 2.4.1 |
| Command: rm -rf GOSemSim.buildbin-libdir && mkdir GOSemSim.buildbin-libdir && C:\cygwin\bin\curl.exe -O https://malbec1.bioconductor.org/BBS/3.6/bioc/src/contrib/GOSemSim_2.4.1.tar.gz && C:\Users\biocbuild\bbs-3.6-bioc\R\bin\R.exe CMD INSTALL --build --library=GOSemSim.buildbin-libdir --merge-multiarch GOSemSim_2.4.1.tar.gz && C:\Users\biocbuild\bbs-3.6-bioc\R\bin\R.exe CMD INSTALL GOSemSim_2.4.1.zip && rm GOSemSim_2.4.1.tar.gz GOSemSim_2.4.1.zip |
| StartedAt: 2018-04-11 18:27:18 -0400 (Wed, 11 Apr 2018) |
| EndedAt: 2018-04-11 18:28:37 -0400 (Wed, 11 Apr 2018) |
| EllapsedTime: 78.9 seconds |
| RetCode: 0 |
| Status: OK |
##############################################################################
##############################################################################
###
### Running command:
###
### rm -rf GOSemSim.buildbin-libdir && mkdir GOSemSim.buildbin-libdir && C:\cygwin\bin\curl.exe -O https://malbec1.bioconductor.org/BBS/3.6/bioc/src/contrib/GOSemSim_2.4.1.tar.gz && C:\Users\biocbuild\bbs-3.6-bioc\R\bin\R.exe CMD INSTALL --build --library=GOSemSim.buildbin-libdir --merge-multiarch GOSemSim_2.4.1.tar.gz && C:\Users\biocbuild\bbs-3.6-bioc\R\bin\R.exe CMD INSTALL GOSemSim_2.4.1.zip && rm GOSemSim_2.4.1.tar.gz GOSemSim_2.4.1.zip
###
##############################################################################
##############################################################################
% Total % Received % Xferd Average Speed Time Time Time Current
Dload Upload Total Spent Left Speed
0 0 0 0 0 0 0 0 --:--:-- --:--:-- --:--:-- 0
100 1177k 100 1177k 0 0 33.5M 0 --:--:-- --:--:-- --:--:-- 37.0M
install for i386
* installing *source* package 'GOSemSim' ...
** libs
C:/Rtools/mingw_32/bin/g++ -I"C:/Users/BIOCBU˜1/BBS-3˜1.6-B/R/include" -DNDEBUG -I"C:/Users/biocbuild/bbs-3.6-bioc/R/library/Rcpp/include" -I"C:/local323/include" -O2 -Wall -mtune=generic -c ICmethod.cpp -o ICmethod.o
ICmethod.cpp: In function 'Rcpp::NumericMatrix infoContentMethod_cpp(Rcpp::StringVector&, Rcpp::StringVector&, Rcpp::List&, Rcpp::NumericVector&, const string&, const string&)':
ICmethod.cpp:82:29: warning: comparison between signed and unsigned integer expressions [-Wsign-compare]
for (std::size_t i=0; i < ic_.size(); i++ ) {
^
ICmethod.cpp:88:29: warning: comparison between signed and unsigned integer expressions [-Wsign-compare]
for (std::size_t i=0; i < ic_.size(); i++ ) {
^
ICmethod.cpp:107:29: warning: comparison between signed and unsigned integer expressions [-Wsign-compare]
for (std::size_t i=0; i < anc_.size(); i++ ) {
^
ICmethod.cpp:118:30: warning: comparison between signed and unsigned integer expressions [-Wsign-compare]
for ( std::size_t i = 0; i < id1_.size(); i++ ) {
^
ICmethod.cpp:125:34: warning: comparison between signed and unsigned integer expressions [-Wsign-compare]
for ( std::size_t j = 0; j < id2_.size(); j++ ) {
^
ICmethod.cpp:152:34: warning: comparison between signed and unsigned integer expressions [-Wsign-compare]
for ( std::size_t j = 0; j < id2_.size(); j++ ) {
^
C:/Rtools/mingw_32/bin/g++ -I"C:/Users/BIOCBU˜1/BBS-3˜1.6-B/R/include" -DNDEBUG -I"C:/Users/biocbuild/bbs-3.6-bioc/R/library/Rcpp/include" -I"C:/local323/include" -O2 -Wall -mtune=generic -c RcppExports.cpp -o RcppExports.o
C:/Rtools/mingw_32/bin/g++ -shared -s -static-libgcc -o GOSemSim.dll tmp.def ICmethod.o RcppExports.o -LC:/local323/lib/i386 -LC:/local323/lib -LC:/Users/BIOCBU˜1/BBS-3˜1.6-B/R/bin/i386 -lR
installing to C:/Users/biocbuild/bbs-3.6-bioc/meat/GOSemSim.buildbin-libdir/GOSemSim/libs/i386
** R
** data
** inst
** byte-compile and prepare package for lazy loading
** help
*** installing help indices
converting help for package 'GOSemSim'
finding HTML links ... done
GOSemSim-package html
GOSemSimDATA-class html
clusterSim html
combineScores html
geneSim html
goSim html
go_term_table html
godata html
infoContentMethod html
load_OrgDb html
mclusterSim html
mgeneSim html
mgoSim html
termSim html
wangMethod_internal html
** building package indices
** installing vignettes
** testing if installed package can be loaded
In R CMD INSTALL
install for x64
* installing *source* package 'GOSemSim' ...
** libs
C:/Rtools/mingw_64/bin/g++ -I"C:/Users/BIOCBU˜1/BBS-3˜1.6-B/R/include" -DNDEBUG -I"C:/Users/biocbuild/bbs-3.6-bioc/R/library/Rcpp/include" -I"C:/local323/include" -O2 -Wall -mtune=generic -c ICmethod.cpp -o ICmethod.o
ICmethod.cpp: In function 'Rcpp::NumericMatrix infoContentMethod_cpp(Rcpp::StringVector&, Rcpp::StringVector&, Rcpp::List&, Rcpp::NumericVector&, const string&, const string&)':
ICmethod.cpp:82:29: warning: comparison between signed and unsigned integer expressions [-Wsign-compare]
for (std::size_t i=0; i < ic_.size(); i++ ) {
^
ICmethod.cpp:88:29: warning: comparison between signed and unsigned integer expressions [-Wsign-compare]
for (std::size_t i=0; i < ic_.size(); i++ ) {
^
ICmethod.cpp:107:29: warning: comparison between signed and unsigned integer expressions [-Wsign-compare]
for (std::size_t i=0; i < anc_.size(); i++ ) {
^
ICmethod.cpp:118:30: warning: comparison between signed and unsigned integer expressions [-Wsign-compare]
for ( std::size_t i = 0; i < id1_.size(); i++ ) {
^
ICmethod.cpp:125:34: warning: comparison between signed and unsigned integer expressions [-Wsign-compare]
for ( std::size_t j = 0; j < id2_.size(); j++ ) {
^
ICmethod.cpp:152:34: warning: comparison between signed and unsigned integer expressions [-Wsign-compare]
for ( std::size_t j = 0; j < id2_.size(); j++ ) {
^
C:/Rtools/mingw_64/bin/g++ -I"C:/Users/BIOCBU˜1/BBS-3˜1.6-B/R/include" -DNDEBUG -I"C:/Users/biocbuild/bbs-3.6-bioc/R/library/Rcpp/include" -I"C:/local323/include" -O2 -Wall -mtune=generic -c RcppExports.cpp -o RcppExports.o
C:/Rtools/mingw_64/bin/g++ -shared -s -static-libgcc -o GOSemSim.dll tmp.def ICmethod.o RcppExports.o -LC:/local323/lib/x64 -LC:/local323/lib -LC:/Users/BIOCBU˜1/BBS-3˜1.6-B/R/bin/x64 -lR
installing to C:/Users/biocbuild/bbs-3.6-bioc/meat/GOSemSim.buildbin-libdir/GOSemSim/libs/x64
** testing if installed package can be loaded
* MD5 sums
packaged installation of 'GOSemSim' as GOSemSim_2.4.1.zip
* DONE (GOSemSim)
In R CMD INSTALL
In R CMD INSTALL
* installing to library 'C:/Users/biocbuild/bbs-3.6-bioc/R/library'
package 'GOSemSim' successfully unpacked and MD5 sums checked
In R CMD INSTALL