| Back to Multiple platform build/check report for BioC 3.6 |
|
This page was generated on 2018-04-12 13:32:09 -0400 (Thu, 12 Apr 2018).
| Package 584/1472 | Hostname | OS / Arch | INSTALL | BUILD | CHECK | BUILD BIN | ||||||
| GGtools 5.14.0 VJ Carey
| malbec1 | Linux (Ubuntu 16.04.1 LTS) / x86_64 | OK | OK | OK | |||||||
| tokay1 | Windows Server 2012 R2 Standard / x64 | OK | OK | WARNINGS | OK | |||||||
| veracruz1 | OS X 10.11.6 El Capitan / x86_64 | OK | OK | OK | [ OK ] |
| Package: GGtools |
| Version: 5.14.0 |
| Command: rm -rf GGtools.buildbin-libdir && mkdir GGtools.buildbin-libdir && /Users/biocbuild/BBS/utils/build-universal.sh GGtools_5.14.0.tar.gz /Library/Frameworks/R.framework/Versions/Current/Resources/bin/R GGtools.buildbin-libdir |
| StartedAt: 2018-04-12 11:34:12 -0400 (Thu, 12 Apr 2018) |
| EndedAt: 2018-04-12 11:34:52 -0400 (Thu, 12 Apr 2018) |
| EllapsedTime: 40.1 seconds |
| RetCode: 0 |
| Status: OK |
| PackageFile: GGtools_5.14.0.tgz |
| PackageFileSize: 69.94 MiB |
############################################################################## ############################################################################## ### ### Running command: ### ### rm -rf GGtools.buildbin-libdir && mkdir GGtools.buildbin-libdir && /Users/biocbuild/BBS/utils/build-universal.sh GGtools_5.14.0.tar.gz /Library/Frameworks/R.framework/Versions/Current/Resources/bin/R GGtools.buildbin-libdir ### ############################################################################## ############################################################################## >>>>>>> >>>>>>> INSTALLATION WITH 'R CMD INSTALL --preclean --no-multiarch --library=GGtools.buildbin-libdir GGtools_5.14.0.tar.gz' >>>>>>> * installing *source* package ‘GGtools’ ... ** R ** data ** inst ** preparing package for lazy loading ** help *** installing help indices ** building package indices ** installing vignettes ** testing if installed package can be loaded * DONE (GGtools)