| Back to Multiple platform build/check report for BioC 3.6 |
|
This page was generated on 2018-04-12 13:18:06 -0400 (Thu, 12 Apr 2018).
| Package 577/1472 | Hostname | OS / Arch | INSTALL | BUILD | CHECK | BUILD BIN | ||||||
| GEOquery 2.46.15 Sean Davis
| malbec1 | Linux (Ubuntu 16.04.1 LTS) / x86_64 | OK | OK | OK | |||||||
| tokay1 | Windows Server 2012 R2 Standard / x64 | [ OK ] | OK | OK | OK | |||||||
| veracruz1 | OS X 10.11.6 El Capitan / x86_64 | OK | OK | OK | OK |
| Package: GEOquery |
| Version: 2.46.15 |
| Command: rm -rf GEOquery.buildbin-libdir && mkdir GEOquery.buildbin-libdir && C:\cygwin\bin\curl.exe -O https://malbec1.bioconductor.org/BBS/3.6/bioc/src/contrib/GEOquery_2.46.15.tar.gz && C:\Users\biocbuild\bbs-3.6-bioc\R\bin\R.exe CMD INSTALL --build --library=GEOquery.buildbin-libdir --merge-multiarch GEOquery_2.46.15.tar.gz && C:\Users\biocbuild\bbs-3.6-bioc\R\bin\R.exe CMD INSTALL GEOquery_2.46.15.zip && rm GEOquery_2.46.15.tar.gz GEOquery_2.46.15.zip |
| StartedAt: 2018-04-11 18:22:47 -0400 (Wed, 11 Apr 2018) |
| EndedAt: 2018-04-11 18:24:25 -0400 (Wed, 11 Apr 2018) |
| EllapsedTime: 98.0 seconds |
| RetCode: 0 |
| Status: OK |
##############################################################################
##############################################################################
###
### Running command:
###
### rm -rf GEOquery.buildbin-libdir && mkdir GEOquery.buildbin-libdir && C:\cygwin\bin\curl.exe -O https://malbec1.bioconductor.org/BBS/3.6/bioc/src/contrib/GEOquery_2.46.15.tar.gz && C:\Users\biocbuild\bbs-3.6-bioc\R\bin\R.exe CMD INSTALL --build --library=GEOquery.buildbin-libdir --merge-multiarch GEOquery_2.46.15.tar.gz && C:\Users\biocbuild\bbs-3.6-bioc\R\bin\R.exe CMD INSTALL GEOquery_2.46.15.zip && rm GEOquery_2.46.15.tar.gz GEOquery_2.46.15.zip
###
##############################################################################
##############################################################################
% Total % Received % Xferd Average Speed Time Time Time Current
Dload Upload Total Spent Left Speed
0 0 0 0 0 0 0 0 --:--:-- --:--:-- --:--:-- 0
100 12.8M 100 12.8M 0 0 94.2M 0 --:--:-- --:--:-- --:--:-- 96.5M
install for i386
* installing *source* package 'GEOquery' ...
** R
** inst
** preparing package for lazy loading
** help
*** installing help indices
converting help for package 'GEOquery'
finding HTML links ... done
GDS-class html
GEOData-accessors html
GEOData-class html
GEODataTable-class html
GPL-class html
GSE-class html
GSM-class html
coercion html
getDirListing html
getGEO html
getGEOSuppFiles html
getGEOfile html
getGSEDataTables html
gunzip html
parseGEO html
parseGSEMatrix html
** building package indices
** installing vignettes
** testing if installed package can be loaded
In R CMD INSTALL
install for x64
* installing *source* package 'GEOquery' ...
** testing if installed package can be loaded
* MD5 sums
packaged installation of 'GEOquery' as GEOquery_2.46.15.zip
* DONE (GEOquery)
In R CMD INSTALL
In R CMD INSTALL
* installing to library 'C:/Users/biocbuild/bbs-3.6-bioc/R/library'
package 'GEOquery' successfully unpacked and MD5 sums checked
In R CMD INSTALL