| Back to Multiple platform build/check report for BioC 3.6 |
|
This page was generated on 2018-04-12 13:10:17 -0400 (Thu, 12 Apr 2018).
| Package 401/1472 | Hostname | OS / Arch | INSTALL | BUILD | CHECK | BUILD BIN | ||||||
| EBcoexpress 1.22.0 John A. Dawson
| malbec1 | Linux (Ubuntu 16.04.1 LTS) / x86_64 | [ OK ] | OK | OK | |||||||
| tokay1 | Windows Server 2012 R2 Standard / x64 | OK | OK | OK | OK | |||||||
| veracruz1 | OS X 10.11.6 El Capitan / x86_64 | OK | OK | OK | OK |
| Package: EBcoexpress |
| Version: 1.22.0 |
| Command: /home/biocbuild/bbs-3.6-bioc/R/bin/R CMD INSTALL EBcoexpress |
| StartedAt: 2018-04-11 17:59:33 -0400 (Wed, 11 Apr 2018) |
| EndedAt: 2018-04-11 17:59:38 -0400 (Wed, 11 Apr 2018) |
| EllapsedTime: 5.3 seconds |
| RetCode: 0 |
| Status: OK |
##############################################################################
##############################################################################
###
### Running command:
###
### /home/biocbuild/bbs-3.6-bioc/R/bin/R CMD INSTALL EBcoexpress
###
##############################################################################
##############################################################################
* installing to library ‘/home/biocbuild/bbs-3.6-bioc/R/library’
* installing *source* package ‘EBcoexpress’ ...
** libs
gcc -I/home/biocbuild/bbs-3.6-bioc/R/include -DNDEBUG -I/usr/local/include -fpic -g -O2 -Wall -c EBcoexpress.c -o EBcoexpress.o
EBcoexpress.c: In function ‘bwmcCworker’:
EBcoexpress.c:74:15: warning: suggest parentheses around comparison in operand of ‘|’ [-Wparentheses]
if(temp < -1 | temp > 1)
^
g++ -shared -L/home/biocbuild/bbs-3.6-bioc/R/lib -L/usr/local/lib -o EBcoexpress.so EBcoexpress.o -L/home/biocbuild/bbs-3.6-bioc/R/lib -lR
installing to /home/biocbuild/bbs-3.6-bioc/R/library/EBcoexpress/libs
** R
** data
** demo
** preparing package for lazy loading
** help
*** installing help indices
** building package indices
** installing vignettes
** testing if installed package can be loaded
* DONE (EBcoexpress)