| Back to Multiple platform build/check report for BioC 3.6 |
|
This page was generated on 2018-04-12 13:17:28 -0400 (Thu, 12 Apr 2018).
| Package 400/1472 | Hostname | OS / Arch | INSTALL | BUILD | CHECK | BUILD BIN | ||||||
| EBarrays 2.42.0 Ming Yuan
| malbec1 | Linux (Ubuntu 16.04.1 LTS) / x86_64 | OK | OK | OK | |||||||
| tokay1 | Windows Server 2012 R2 Standard / x64 | [ OK ] | OK | OK | OK | |||||||
| veracruz1 | OS X 10.11.6 El Capitan / x86_64 | OK | OK | OK | OK |
| Package: EBarrays |
| Version: 2.42.0 |
| Command: rm -rf EBarrays.buildbin-libdir && mkdir EBarrays.buildbin-libdir && C:\cygwin\bin\curl.exe -O https://malbec1.bioconductor.org/BBS/3.6/bioc/src/contrib/EBarrays_2.42.0.tar.gz && C:\Users\biocbuild\bbs-3.6-bioc\R\bin\R.exe CMD INSTALL --build --library=EBarrays.buildbin-libdir --merge-multiarch EBarrays_2.42.0.tar.gz && C:\Users\biocbuild\bbs-3.6-bioc\R\bin\R.exe CMD INSTALL EBarrays_2.42.0.zip && rm EBarrays_2.42.0.tar.gz EBarrays_2.42.0.zip |
| StartedAt: 2018-04-11 18:22:49 -0400 (Wed, 11 Apr 2018) |
| EndedAt: 2018-04-11 18:23:35 -0400 (Wed, 11 Apr 2018) |
| EllapsedTime: 46.0 seconds |
| RetCode: 0 |
| Status: OK |
##############################################################################
##############################################################################
###
### Running command:
###
### rm -rf EBarrays.buildbin-libdir && mkdir EBarrays.buildbin-libdir && C:\cygwin\bin\curl.exe -O https://malbec1.bioconductor.org/BBS/3.6/bioc/src/contrib/EBarrays_2.42.0.tar.gz && C:\Users\biocbuild\bbs-3.6-bioc\R\bin\R.exe CMD INSTALL --build --library=EBarrays.buildbin-libdir --merge-multiarch EBarrays_2.42.0.tar.gz && C:\Users\biocbuild\bbs-3.6-bioc\R\bin\R.exe CMD INSTALL EBarrays_2.42.0.zip && rm EBarrays_2.42.0.tar.gz EBarrays_2.42.0.zip
###
##############################################################################
##############################################################################
% Total % Received % Xferd Average Speed Time Time Time Current
Dload Upload Total Spent Left Speed
0 0 0 0 0 0 0 0 --:--:-- --:--:-- --:--:-- 0
100 243k 100 243k 0 0 9834k 0 --:--:-- --:--:-- --:--:-- 11.3M
install for i386
* installing *source* package 'EBarrays' ...
** libs
C:/Rtools/mingw_32/bin/gcc -I"C:/Users/BIOCBU˜1/BBS-3˜1.6-B/R/include" -DNDEBUG -I"C:/local323/include" -O3 -Wall -std=gnu99 -mtune=generic -c ebarrays.c -o ebarrays.o
C:/Rtools/mingw_32/bin/g++ -shared -s -static-libgcc -o EBarrays.dll tmp.def ebarrays.o -LC:/local323/lib/i386 -LC:/local323/lib -LC:/Users/BIOCBU˜1/BBS-3˜1.6-B/R/bin/i386 -lR
installing to C:/Users/biocbuild/bbs-3.6-bioc/meat/EBarrays.buildbin-libdir/EBarrays/libs/i386
** R
** data
** demo
** preparing package for lazy loading
** help
*** installing help indices
converting help for package 'EBarrays'
finding HTML links ... done
EBarrays-Internal html
crit.fun html
ebarraysFamily-class html
ebplots html
emfit html
gould html
postprob html
utilities html
** building package indices
** installing vignettes
** testing if installed package can be loaded
In R CMD INSTALL
install for x64
* installing *source* package 'EBarrays' ...
** libs
C:/Rtools/mingw_64/bin/gcc -I"C:/Users/BIOCBU˜1/BBS-3˜1.6-B/R/include" -DNDEBUG -I"C:/local323/include" -O2 -Wall -std=gnu99 -mtune=generic -c ebarrays.c -o ebarrays.o
C:/Rtools/mingw_64/bin/g++ -shared -s -static-libgcc -o EBarrays.dll tmp.def ebarrays.o -LC:/local323/lib/x64 -LC:/local323/lib -LC:/Users/BIOCBU˜1/BBS-3˜1.6-B/R/bin/x64 -lR
installing to C:/Users/biocbuild/bbs-3.6-bioc/meat/EBarrays.buildbin-libdir/EBarrays/libs/x64
** testing if installed package can be loaded
* MD5 sums
packaged installation of 'EBarrays' as EBarrays_2.42.0.zip
* DONE (EBarrays)
In R CMD INSTALL
In R CMD INSTALL
* installing to library 'C:/Users/biocbuild/bbs-3.6-bioc/R/library'
package 'EBarrays' successfully unpacked and MD5 sums checked
In R CMD INSTALL