| Back to Multiple platform build/check report for BioC 3.6 |
|
This page was generated on 2018-04-12 13:17:05 -0400 (Thu, 12 Apr 2018).
| Package 397/1472 | Hostname | OS / Arch | INSTALL | BUILD | CHECK | BUILD BIN | ||||||
| DynDoc 1.56.0 Bioconductor Package Maintainer
| malbec1 | Linux (Ubuntu 16.04.1 LTS) / x86_64 | OK | OK | OK | |||||||
| tokay1 | Windows Server 2012 R2 Standard / x64 | [ OK ] | OK | OK | OK | |||||||
| veracruz1 | OS X 10.11.6 El Capitan / x86_64 | OK | OK | OK | OK |
| Package: DynDoc |
| Version: 1.56.0 |
| Command: rm -rf DynDoc.buildbin-libdir && mkdir DynDoc.buildbin-libdir && C:\cygwin\bin\curl.exe -O https://malbec1.bioconductor.org/BBS/3.6/bioc/src/contrib/DynDoc_1.56.0.tar.gz && C:\Users\biocbuild\bbs-3.6-bioc\R\bin\R.exe CMD INSTALL --build --library=DynDoc.buildbin-libdir --merge-multiarch DynDoc_1.56.0.tar.gz && C:\Users\biocbuild\bbs-3.6-bioc\R\bin\R.exe CMD INSTALL DynDoc_1.56.0.zip && rm DynDoc_1.56.0.tar.gz DynDoc_1.56.0.zip |
| StartedAt: 2018-04-11 18:11:32 -0400 (Wed, 11 Apr 2018) |
| EndedAt: 2018-04-11 18:12:14 -0400 (Wed, 11 Apr 2018) |
| EllapsedTime: 41.9 seconds |
| RetCode: 0 |
| Status: OK |
##############################################################################
##############################################################################
###
### Running command:
###
### rm -rf DynDoc.buildbin-libdir && mkdir DynDoc.buildbin-libdir && C:\cygwin\bin\curl.exe -O https://malbec1.bioconductor.org/BBS/3.6/bioc/src/contrib/DynDoc_1.56.0.tar.gz && C:\Users\biocbuild\bbs-3.6-bioc\R\bin\R.exe CMD INSTALL --build --library=DynDoc.buildbin-libdir --merge-multiarch DynDoc_1.56.0.tar.gz && C:\Users\biocbuild\bbs-3.6-bioc\R\bin\R.exe CMD INSTALL DynDoc_1.56.0.zip && rm DynDoc_1.56.0.tar.gz DynDoc_1.56.0.zip
###
##############################################################################
##############################################################################
% Total % Received % Xferd Average Speed Time Time Time Current
Dload Upload Total Spent Left Speed
0 0 0 0 0 0 0 0 --:--:-- --:--:-- --:--:-- 0
100 11378 100 11378 0 0 294k 0 --:--:-- --:--:-- --:--:-- 326k
install for i386
* installing *source* package 'DynDoc' ...
** R
** preparing package for lazy loading
** help
*** installing help indices
converting help for package 'DynDoc'
finding HTML links ... done
DynDoc-class html
SweaveOptions-class html
Vignette-class html
chunkList-class html
codeChunk-class html
getPkgVigList html
getVignette html
getVignetteCode html
getVignetteHeader html
tangleToR html
vignetteCode-class html
** building package indices
** testing if installed package can be loaded
In R CMD INSTALL
install for x64
* installing *source* package 'DynDoc' ...
** testing if installed package can be loaded
* MD5 sums
packaged installation of 'DynDoc' as DynDoc_1.56.0.zip
* DONE (DynDoc)
In R CMD INSTALL
In R CMD INSTALL
* installing to library 'C:/Users/biocbuild/bbs-3.6-bioc/R/library'
package 'DynDoc' successfully unpacked and MD5 sums checked
In R CMD INSTALL