| Back to Multiple platform build/check report for BioC 3.6 |
|
This page was generated on 2018-04-12 13:44:05 -0400 (Thu, 12 Apr 2018).
| Package 348/1472 | Hostname | OS / Arch | INSTALL | BUILD | CHECK | BUILD BIN | ||||||
| DelayedArray 0.4.1 Hervé Pagès
| malbec1 | Linux (Ubuntu 16.04.1 LTS) / x86_64 | OK | OK | WARNINGS | |||||||
| tokay1 | Windows Server 2012 R2 Standard / x64 | OK | OK | WARNINGS | OK | |||||||
| veracruz1 | OS X 10.11.6 El Capitan / x86_64 | OK | OK | WARNINGS | [ OK ] |
| Package: DelayedArray |
| Version: 0.4.1 |
| Command: rm -rf DelayedArray.buildbin-libdir && mkdir DelayedArray.buildbin-libdir && /Users/biocbuild/BBS/utils/build-universal.sh DelayedArray_0.4.1.tar.gz /Library/Frameworks/R.framework/Versions/Current/Resources/bin/R DelayedArray.buildbin-libdir |
| StartedAt: 2018-04-12 11:21:53 -0400 (Thu, 12 Apr 2018) |
| EndedAt: 2018-04-12 11:22:04 -0400 (Thu, 12 Apr 2018) |
| EllapsedTime: 10.6 seconds |
| RetCode: 0 |
| Status: OK |
| PackageFile: DelayedArray_0.4.1.tgz |
| PackageFileSize: 603.4 KiB |
############################################################################## ############################################################################## ### ### Running command: ### ### rm -rf DelayedArray.buildbin-libdir && mkdir DelayedArray.buildbin-libdir && /Users/biocbuild/BBS/utils/build-universal.sh DelayedArray_0.4.1.tar.gz /Library/Frameworks/R.framework/Versions/Current/Resources/bin/R DelayedArray.buildbin-libdir ### ############################################################################## ############################################################################## >>>>>>> >>>>>>> INSTALLATION WITH 'R CMD INSTALL --preclean --no-multiarch --library=DelayedArray.buildbin-libdir DelayedArray_0.4.1.tar.gz' >>>>>>> * installing *source* package ‘DelayedArray’ ... ** R ** inst ** preparing package for lazy loading in method for ‘coerce’ with signature ‘"DelayedMatrix","dgCMatrix"’: no definition for class “dgCMatrix” in method for ‘coerce’ with signature ‘"DelayedMatrix","sparseMatrix"’: no definition for class “sparseMatrix” Creating a new generic function for ‘apply’ in package ‘DelayedArray’ Creating a generic function for ‘dbinom’ from package ‘stats’ in package ‘DelayedArray’ Creating a generic function for ‘pbinom’ from package ‘stats’ in package ‘DelayedArray’ Creating a generic function for ‘qbinom’ from package ‘stats’ in package ‘DelayedArray’ Creating a generic function for ‘dpois’ from package ‘stats’ in package ‘DelayedArray’ Creating a generic function for ‘ppois’ from package ‘stats’ in package ‘DelayedArray’ Creating a generic function for ‘qpois’ from package ‘stats’ in package ‘DelayedArray’ Creating a generic function for ‘dlogis’ from package ‘stats’ in package ‘DelayedArray’ Creating a generic function for ‘plogis’ from package ‘stats’ in package ‘DelayedArray’ Creating a generic function for ‘qlogis’ from package ‘stats’ in package ‘DelayedArray’ Creating a new generic function for ‘rowMaxs’ in package ‘DelayedArray’ Creating a new generic function for ‘colMaxs’ in package ‘DelayedArray’ Creating a new generic function for ‘rowMins’ in package ‘DelayedArray’ Creating a new generic function for ‘colMins’ in package ‘DelayedArray’ Creating a new generic function for ‘rowRanges’ in package ‘DelayedArray’ Creating a new generic function for ‘colRanges’ in package ‘DelayedArray’ ** help *** installing help indices ** building package indices ** installing vignettes ** testing if installed package can be loaded * DONE (DelayedArray)