| Back to Multiple platform build/check report for BioC 3.6 |
|
This page was generated on 2018-04-12 13:35:39 -0400 (Thu, 12 Apr 2018).
| Package 391/1472 | Hostname | OS / Arch | INSTALL | BUILD | CHECK | BUILD BIN | ||||||
| DSS 2.26.0 Hao Wu
| malbec1 | Linux (Ubuntu 16.04.1 LTS) / x86_64 | OK | OK | WARNINGS | |||||||
| tokay1 | Windows Server 2012 R2 Standard / x64 | OK | OK | WARNINGS | OK | |||||||
| veracruz1 | OS X 10.11.6 El Capitan / x86_64 | OK | [ OK ] | WARNINGS | OK |
| Package: DSS |
| Version: 2.26.0 |
| Command: /Library/Frameworks/R.framework/Versions/Current/Resources/bin/R CMD build --keep-empty-dirs --no-resave-data DSS |
| StartedAt: 2018-04-11 19:59:51 -0400 (Wed, 11 Apr 2018) |
| EndedAt: 2018-04-11 20:00:36 -0400 (Wed, 11 Apr 2018) |
| EllapsedTime: 45.1 seconds |
| RetCode: 0 |
| Status: OK |
| PackageFile: DSS_2.26.0.tar.gz |
| PackageFileSize: 817.8 KiB |
############################################################################## ############################################################################## ### ### Running command: ### ### /Library/Frameworks/R.framework/Versions/Current/Resources/bin/R CMD build --keep-empty-dirs --no-resave-data DSS ### ############################################################################## ############################################################################## * checking for file ‘DSS/DESCRIPTION’ ... OK * preparing ‘DSS’: * checking DESCRIPTION meta-information ... OK * cleaning src * installing the package to build vignettes * creating vignettes ... OK * cleaning src * checking for LF line-endings in source and make files and shell scripts * checking for empty or unneeded directories * looking to see if a ‘data/datalist’ file should be added * building ‘DSS_2.26.0.tar.gz’