| Back to Multiple platform build/check report for BioC 3.6 |
|
This page was generated on 2018-04-12 13:14:43 -0400 (Thu, 12 Apr 2018).
| Package 387/1472 | Hostname | OS / Arch | INSTALL | BUILD | CHECK | BUILD BIN | ||||||
| DRIMSeq 1.6.0 Malgorzata Nowicka
| malbec1 | Linux (Ubuntu 16.04.1 LTS) / x86_64 | OK | OK | [ OK ] | |||||||
| tokay1 | Windows Server 2012 R2 Standard / x64 | OK | OK | WARNINGS | OK | |||||||
| veracruz1 | OS X 10.11.6 El Capitan / x86_64 | OK | OK | OK | OK |
| Package: DRIMSeq |
| Version: 1.6.0 |
| Command: /home/biocbuild/bbs-3.6-bioc/R/bin/R CMD check --no-vignettes --timings DRIMSeq_1.6.0.tar.gz |
| StartedAt: 2018-04-11 23:04:06 -0400 (Wed, 11 Apr 2018) |
| EndedAt: 2018-04-11 23:07:47 -0400 (Wed, 11 Apr 2018) |
| EllapsedTime: 221.3 seconds |
| RetCode: 0 |
| Status: OK |
| CheckDir: DRIMSeq.Rcheck |
| Warnings: 0 |
##############################################################################
##############################################################################
###
### Running command:
###
### /home/biocbuild/bbs-3.6-bioc/R/bin/R CMD check --no-vignettes --timings DRIMSeq_1.6.0.tar.gz
###
##############################################################################
##############################################################################
* using log directory ‘/home/biocbuild/bbs-3.6-bioc/meat/DRIMSeq.Rcheck’
* using R version 3.4.4 (2018-03-15)
* using platform: x86_64-pc-linux-gnu (64-bit)
* using session charset: UTF-8
* using option ‘--no-vignettes’
* checking for file ‘DRIMSeq/DESCRIPTION’ ... OK
* checking extension type ... Package
* this is package ‘DRIMSeq’ version ‘1.6.0’
* checking package namespace information ... OK
* checking package dependencies ... OK
* checking if this is a source package ... OK
* checking if there is a namespace ... OK
* checking for hidden files and directories ... OK
* checking for portable file names ... OK
* checking for sufficient/correct file permissions ... OK
* checking whether package ‘DRIMSeq’ can be installed ... OK
* checking installed package size ... OK
* checking package directory ... OK
* checking ‘build’ directory ... OK
* checking DESCRIPTION meta-information ... OK
* checking top-level files ... OK
* checking for left-over files ... OK
* checking index information ... OK
* checking package subdirectories ... OK
* checking R files for non-ASCII characters ... OK
* checking R files for syntax errors ... OK
* checking whether the package can be loaded ... OK
* checking whether the package can be loaded with stated dependencies ... OK
* checking whether the package can be unloaded cleanly ... OK
* checking whether the namespace can be loaded with stated dependencies ... OK
* checking whether the namespace can be unloaded cleanly ... OK
* checking dependencies in R code ... OK
* checking S3 generic/method consistency ... OK
* checking replacement functions ... OK
* checking foreign function calls ... OK
* checking R code for possible problems ... OK
* checking Rd files ... OK
* checking Rd metadata ... OK
* checking Rd cross-references ... OK
* checking for missing documentation entries ... OK
* checking for code/documentation mismatches ... OK
* checking Rd \usage sections ... OK
* checking Rd contents ... OK
* checking for unstated dependencies in examples ... OK
* checking installed files from ‘inst/doc’ ... OK
* checking files in ‘vignettes’ ... OK
* checking examples ... OK
Examples with CPU or elapsed time > 5s
user system elapsed
dmSQTLtest-class 119.824 1.288 121.213
dmDStest-class 10.008 0.080 10.113
* checking for unstated dependencies in ‘tests’ ... OK
* checking tests ...
Running ‘testthat.R’
OK
* checking for unstated dependencies in vignettes ... OK
* checking package vignettes in ‘inst/doc’ ... OK
* checking running R code from vignettes ... SKIPPED
* checking re-building of vignette outputs ... SKIPPED
* checking PDF version of manual ... OK
* DONE
Status: OK
DRIMSeq.Rcheck/00install.out
* installing *source* package ‘DRIMSeq’ ... ** R ** inst ** preparing package for lazy loading ** help *** installing help indices ** building package indices ** installing vignettes ** testing if installed package can be loaded * DONE (DRIMSeq)
DRIMSeq.Rcheck/tests/testthat.Rout
R version 3.4.4 (2018-03-15) -- "Someone to Lean On"
Copyright (C) 2018 The R Foundation for Statistical Computing
Platform: x86_64-pc-linux-gnu (64-bit)
R is free software and comes with ABSOLUTELY NO WARRANTY.
You are welcome to redistribute it under certain conditions.
Type 'license()' or 'licence()' for distribution details.
R is a collaborative project with many contributors.
Type 'contributors()' for more information and
'citation()' on how to cite R or R packages in publications.
Type 'demo()' for some demos, 'help()' for on-line help, or
'help.start()' for an HTML browser interface to help.
Type 'q()' to quit R.
> library(testthat)
> library(DRIMSeq)
>
> test_check("DRIMSeq")
══ testthat results ═══════════════════════════════════════════════════════════
OK: 15 SKIPPED: 0 FAILED: 0
>
> proc.time()
user system elapsed
3.856 0.108 3.964
DRIMSeq.Rcheck/DRIMSeq-Ex.timings
| name | user | system | elapsed | |
| dmDSdata-class | 0.008 | 0.000 | 0.050 | |
| dmDSdata | 0.008 | 0.000 | 0.005 | |
| dmDSfit-class | 0.000 | 0.004 | 0.007 | |
| dmDSprecision-class | 0.004 | 0.000 | 0.006 | |
| dmDStest-class | 10.008 | 0.080 | 10.113 | |
| dmFilter | 0.020 | 0.000 | 0.443 | |
| dmFit | 0.008 | 0.000 | 0.008 | |
| dmPrecision | 0.008 | 0.000 | 0.007 | |
| dmSQTLdata-class | 0.004 | 0.000 | 0.007 | |
| dmSQTLdata | 0.004 | 0.000 | 0.006 | |
| dmSQTLfit-class | 0.000 | 0.004 | 0.007 | |
| dmSQTLprecision-class | 0.004 | 0.000 | 0.006 | |
| dmSQTLtest-class | 119.824 | 1.288 | 121.213 | |
| dmTest | 0.004 | 0.000 | 0.006 | |
| plotData | 0.012 | 0.000 | 0.011 | |
| plotPValues | 0.004 | 0.000 | 0.005 | |
| plotPrecision | 0.004 | 0.000 | 0.005 | |
| plotProportions | 0.000 | 0.004 | 0.005 | |